Workbook

Sheet 目次
A1: 貿易統計 月分
A2: 무역통계 월분
A4: 1. | B4: 総額 | C4: 총액
A5: 2. | B5: 地域（国）別輸出入 | C5: 지역, 국가별 수출입
A6: 3. | B6: 主要商品別輸出(世界) | C6: 주요 상품별 수출, 세계
A7: 4. | B7: 主要商品別輸入(世界) | C7: 주요 상품별 수입, 세계
A8: 5. | B8: 主要地域（国）別商品別輸出(アメリカ合衆国) | C8: 주요 지역, 국가별 및 상품별 수출, 미국
A9: 6. | B9: 主要地域（国）別商品別輸出(ＥＵ) | C9: 주요 지역, 국가별 및 상품별 수출, 유럽연합
A10: 7. | B10: 主要地域（国）別商品別輸出(アジア) | C10: 주요 지역, 국가별 및 상품별 수출, 아시아
A11: 8. | B11: 主要地域（国）別商品別輸出(中華人民共和国) | C11: 주요 지역, 국가별 및 상품별 수출, 중국
A12: 9. | B12: 主要地域（国）別商品別輸出(大韓民国) | C12: 주요 지역, 국가별 및 상품별 수출, 대한민국
A13: 10. | B13: 主要地域（国）別商品別輸出(ＡＳＥＡＮ) | C13: 주요 지역, 국가별 및 상품별 수출, 아세안
A14: 11. | B14: 主要地域（国）別商品別輸出(中東) | C14: 주요 지역, 국가별 및 상품별 수출, 중동
A15: 12. | B15: 主要地域（国）別商品別輸出(ロシア) | C15: 주요 지역, 국가별 및 상품별 수출, 러시아
... A29: 26. | B29: 貿易指数 （中華人民共和国） | C29: 무역지수, 중국

Sheet 1
A1: 令和 7年10月分貿易統計（輸出確報；輸入速報（9桁））
A2: 무역통계, 수출 확보 및 수입 속보 (9품목)
A3: 総 額 （原 値） | D3: （単位:百万円,％）
A4: 총액, 원치 | D4: 단위: 백만엔, %
B5: 令和 7年11月 | C5: 令和 6年11月 | D5: 伸 率
B6: 2025.11. | C6: 2024.11. | D6: 변화율
A7: 輸 出 수출 | B7: 9709494 | C7: 9152003 | D7: 6.1
A8: 輸 入 수입 | B8: 9392795 | C8: 9272812 | D8: 1.3
A9: 差 引 차감 | B9: 316699 | C9: △120,809 | D9: -
A11: （注）
A12: 1. 輸出はＦＯＢ価格、輸入はＣＩＦ価格（ただし、特例輸入申告制度により輸入（引取）申告が行われ、まだ特例（納税）申告が行われていない輸入貨物については、輸入（引取）申告の際に申告された価格（仕入書その他の輸入引取に係る書類に記載された貨物の価格でも可））。
A17: 수출은 FOB 가격, 수입은 CIF 가격(단, 특례 수입 신고 제도에 의해 수입(인취) 신고가 행해져, 아직 특례(납세) 신고가 행해지고 있지 않은 수입 화물에 대해서는, 수입(인취) 신고 시에 신고된 가격(사입서 및 기타 수입 인취에 관련된 서류에 기재된 화물의 가격으로도 가능).
A23: 2. 輸出は当該輸出貨物を積載する船舶又は航空機の出港の日、輸入は当該輸入貨物の輸入許可の日（蔵入貨物、移入貨物、総保入貨物及び輸入許可前引取貨物は、それぞれ当該貨物の蔵入、移入、総保入、輸入許可前引取の承認の日）をもって計上。
A27: 수출은 해당 수출 화물을 적재하는 선박 또는 항공기의 출항일, 수입은 해당 수입 화물의 수입 허가일(장입화물, 이입화물, 총보입화물 및 수입허가전 인취화물은 각각 해당 화물의 장입, 이입, 총보입, 수입허가전 인취의 승인일)로 계상.
A32: 3. 「伸率」は、対前年伸率。
A33: 변화율은 전년대비 변화율

Sheet 2
A1: 地域（国）別輸出入
A2: =VLOOKUP(A1,目次!B:C,2,0) -> 지역, 국가별 수출입
A3: （単位：百万円、％）
A4: 단위: 백만엔, %
C5: 輸出価額 | D5: 伸率 | E5: 輸入価額 | F5: 伸率 | G5: 差引価額 | H5: 伸率
C6: 수출가액 | D6: 변화율 | E6: 수입가액 | F6: 변화율 | G6: 차감가액 | H6: 변화율
A7: 総額 | B7: 총액 | C7: 9709494 | D7: 6.1 | E7: 9392795 | F7: 1.3 | G7: 316699 | H7: -
A8: アジア | B8: 아시아 | C8: 5233597 | D8: 4.4 | E8: 4798332 | F8: 3.2 | G8: 435265 | H8: 20.6
A9: 中華人民共和国 | B9: 중국 | C9: 1619924 | D9: -2.5 | E9: 2400283 | F9: 2.3 | G9: -780359 | H9: 14.1
A10: 香港 | B10: 홍콩 | C10: 608223 | D10: 11.4 | E10: 10226 | F10: -17.1 | G10: 597997 | H10: 12
A11: 台湾 | B11: 대만 | C11: 706945 | D11: 16.7 | E11: 469709 | F11: 22.7 | G11: 237236 | H11: 6.5
A12: 大韓民国 | B12: 대한민국 | C12: 585351 | D12: -1.7 | E12: 367471 | F12: -9.8 | G12: 217880 | H12: 15.6
A13: シンガポール | B13: 싱가포르 | C13: 289940 | D13: -1.3 | E13: 87447 | F13: -5 | G13: 202493 | H13: 0.4
A14: タイ | B14: 태국 | C14: 361814 | D14: 7 | E14: 308431 | F14: 1.4 | G14: 53383 | H14: 56.9
A15: マレーシア | B15: 말레이시아 | C15: 194915 | D15: 14.1 | E15: 236416 | F15: 4.4 | G15: -41501 | H15: -25.4
A16: インドネシア | B16: 인도네시아 | C16: 161799 | D16: -7.1 | E16: 237016 | F16: -4.8 | G16: -75217 | H16: 0.5
A17: フィリピン | B17: 필리핀 | C17: 132583 | D17: -1.8 | E17: 125551 | F17: 2.6 | G17: 7032 | H17: -44.5
A18: ベトナム | B18: 베트남 | C18: 249921 | D18: 13.9 | E18: 384854 | F18: 14.5 | G18: -134933 | H18: 15.6
A19: インド | B19: 인도 | C19: 227335 | D19: 16.5 | E19: 82164 | F19: -0.5 | G19: 145171 | H19: 28.9
... A22: オーストラリア | B22: 호주 | C22: 192564 | D22: -19.2 | E22: 547767 | F22: -16 | G22: -355203 | H22: -14.1
A23: ニュージーランド | B23: 뉴질랜드 | C23: 25296 | D23: -34.5 | E23: 28409 | F23: 14.6 | G23: -3113 | H23: -
A24: 北米 | B24: 북미 | C24: 1952063 | D24: 9.6 | E24: 1238881 | F24: 7 | G24: 713182 | H24: 14.4
A25: アメリカ合衆国 | B25: 미국 | C25: 1816870 | D25: 8.8 | E25: 1077135 | F25: 7.1 | G25: 739735 | H25: 11.3
A26: カナダ | B26: 캐나다 | C26: 135193 | D26: 21.4 | E26: 160848 | F26: 6.1 | G26: -25655 | H26: -36.2
A27: 中南米 | B27: 중남미 | C27: 390027 | D27: -3 | E27: 378162 | F27: -5.4 | G27: 11865 | H27: 412.4
A28: ブラジル | B28: 브라질 | C28: 54992 | D28: -6.6 | E28: 93854 | F28: -32.9 | G28: -38862 | H28: -52.1
A29: メキシコ | B29: 멕시코 | C29: 135687 | D29: -3 | E29: 77909 | F29: 12.8 | G29: 57778 | H29: -18.4
A30: チリ | B30: 칠레 | C30: 28504 | D30: 43 | E30: 94782 | F30: -12.6 | G30: -66278 | H30: -25.1
A31: 西欧 | B31: 서유럽 | C31: 1145089 | D31: 23.6 | E31: 1219706 | F31: 8.5 | G31: -74617 | H31: -62.1
A32: ドイツ | B32: 독일 | C32: 238711 | D32: 21 | E32: 293837 | F32: 4.1 | G32: -55126 | H32: -35.1
A33: 英国 | B33: 영국 | C33: 191603 | D33: 29.4 | E33: 110464 | F33: 9 | G33: 81139 | H33: 73.4
A34: フランス | B34: 프랑스 | C34: 86176 | D34: 20 | E34: 169320 | F34: 41.3 | G34: -83144 | H34: 73
A35: オランダ | B35: 네덜란드 | C35: 164247 | D35: 36.6 | E35: 32803 | F35: -29.3 | G35: 131444 | H35: 77.9
... A40: アイルランド | B40: 아일랜드 | C40: 18215 | D40: -0.8 | E40: 102535 | F40: 25.3 | G40: -84320 | H40: 32.9
A41: スペイン | B41: 스페인 | C41: 39845 | D41: 3 | E41: 39001 | F41: -24.2 | G41: 844 | H41: -
A42: 中東欧・ロシア等 | B42: 중동 유럽 및 러시아 등 | C42: 164485 | D42: 2 | E42: 152451 | F42: -5.6 | G42: 12034 | H42: -
A43: ロシア | B43: 러시아 | C43: 32001 | D43: 29.4 | E43: 63379 | F43: -15.8 | G43: -31378 | H43: -37.9
A44: (ＥＵ) | B44: 유럽연합 | C44: 901251 | D44: 19.5 | E44: 1031882 | F44: 6.8 | G44: -130631 | H44: -38.4
A45: 中東 | B45: 중동 | C45: 463524 | D45: -1.6 | E45: 853515 | F45: -10.4 | G45: -389991 | H45: -19
A46: アラブ首長国連邦 | B46: 아랍에미레이트연합 | C46: 254153 | D46: 6 | E46: 343663 | F46: -7.1 | G46: -89510 | H46: -31.3
A47: サウジアラビア | B47: 사우디아라비아 | C47: 85145 | D47: -21.6 | E47: 324807 | F47: -3.7 | G47: -239662 | H47: 4.8
A48: クウェート | B48: 쿠웨이트 | C48: 24467 | D48: -0.3 | E48: 51595 | F48: -45.4 | G48: -27128 | H48: -61.2
A49: カタール | B49: 카타르 | C49: 20119 | D49: 16.6 | E49: 82736 | F49: -10.6 | G49: -62617 | H49: -16.8
A50: オマーン | B50: 오만 | C50: 18173 | D50: -21.5 | E50: 21503 | F50: -19.7 | G50: -3330 | H50: -7.8
A51: イラン | B51: 이란 | C51: 624 | D51: -45 | E51: 253 | F51: -24 | G51: 371 | H51: -53.7
A52: アフリカ | B52: 아프리카 | C52: 120521 | D52: 20 | E52: 131424 | F52: 12.9 | G52: -10903 | H52: -32
A53: 南アフリカ共和国 | B53: 남아프리카공화국 | C53: 30134 | D53: 5.6 | E53: 99582 | F53: 23.8 | G53: -69448 | H53: 33.8
A54: （注）「伸率」は対前年伸率（％）を示す。ただし「＊」を付した数値は、前年に対する倍率を示す。
A55: 변화율은 전년대비 변화율을 나타냅니다. *를 붙인 수치는 전년대비 배율을 나타냅니다.
A57: ＥＵの「伸率」及び「増減寄与度」の計算に使用する前年の価額及び数量は、現在のＥＵ加盟国に基づく数値。
A58: 유럽연합의 변화율 및 증감 기여도의 계산에 사용되는 전년의 가액 및 수량은 현재의 유럽연합 가맹국에 기초한 수치입니다.

Sheet 3
A1: 主要商品別輸出(世界)
A2: =VLOOKUP(A1,目次!B:C,2,0) -> 주요 상품별 수출, 세계
A3: （単位：百万円、％）
A4: 단위: 백만엔, %
C5: 単位 | D5: 数量 | E5: 伸率 | F5: 価額 | G5: 構成比 | H5: 伸率 | I5: 増減寄与度
A6: 品名 | B6: 품명 | C6: 단위 | D6: 수량 | E6: 변화율 | F6: 가액 | G6: 구성비 | H6: 변화율 | I6: 증감 기여도
A7: 総額 | B7: 총액 | F7: 9709494 | G7: 100 | H7: 6.1 | I7: 6.1
A8: 1 食料品 | B8: 식료품 | F8: 122567 | G8: 1.3 | H8: 10.9 | I8: 0.1
A9: 2 原料品 | B9: 원료품 | F9: 172247 | G9: 1.8 | H9: 15.3 | I9: 0.3
A10: 3 鉱物性燃料 | B10: 광물성 원료 | F10: 129168 | G10: 1.3 | H10: 9.2 | I10: 0.1
A11: 4 化学製品 | B11: 화학제품 | F11: 1023744 | G11: 10.5 | H11: 5.5 | I11: 0.6
A12: 有機化合物 | B12: 유기화합물 | F12: 151283 | G12: 1.6 | H12: -13.4 | I12: -0.3
A13: 医薬品 | B13: 의약품 | C13: ＫＧ | D13: 5442265 | E13: -1.3 | F13: 148189 | G13: 1.5 | H13: 48.1 | I13: 0.5
A14: プラスチック | B14: 플라스틱 | C14: トン(톤) | D14: 428999 | E14: -2.8 | F14: 282343 | G14: 2.9 | H14: 2.3 | I14: 0.1
A15: 5 原料別製品 | B15: 원료별 제품 | F15: 971964 | G15: 10 | H15: 1.2 | I15: 0.1
A16: 鉄鋼 | B16: 철강 | C16: 千トン(톤) | D16: 2375 | E16: -3.6 | F16: 306301 | G16: 3.2 | H16: -9 | I16: -0.3
A17: 非鉄金属 | B17: 비철금속 | C17: トン(톤) | D17: 109708 | E17: -8.6 | F17: 248939 | G17: 2.6 | H17: 14.8 | I17: 0.4
A18: 金属製品 | B18: 금속제품 | F18: 120831 | G18: 1.2 | H18: 2 | I18: 0
A19: 織物用糸・繊維製品 | B19: 직물용 실 및 섬유제품 | F19: 72546 | G19: 0.7 | H19: -1.9 | I19: 0
A20: 非金属鉱物製品 | B20: 비금속 철물제품 | F20: 99295 | G20: 1 | H20: 9.4 | I20: 0.1
A21: ゴム製品 | B21: 고무제품 | C21: トン(톤) | D21: 97286 | E21: -4.5 | F21: 92556 | G21: 1 | H21: 0 | I21: 0
A22: 紙類・紙製品 | B22: 종이류 및 종이제품 | C22: トン(톤) | D22: 169924 | E22: 7.5 | F22: 29047 | G22: 0.3 | H22: 0.8 | I22: 0
A23: 6 一般機械 | B23: 일반 기계 | F23: 1652286 | G23: 17 | H23: 4.9 | I23: 0.8
A24: 原動機 | B24: 원동기 | C24: トン(톤) | D24: 90539 | E24: 4.9 | F24: 254425 | G24: 2.6 | H24: 7.9 | I24: 0.2
A25: 電算機類（含周辺機器） | B25: 전산기류, 주변기기 포함 | C25: 千台(천대) | D25: 604 | E25: 25.3 | F25: 34241 | G25: 0.4 | H25: 9.4 | I25: 0
A26: 電算機類の部分品 | B26: 전산기류의 부분품 | C26: トン(톤) | D26: 8749 | E26: -6.9 | F26: 93228 | G26: 1 | H26: 4.1 | I26: 0
A27: 半導体等製造装置 | B27: 반도체 등 제조 장치 | C27: トン(톤) | D27: 11713 | E27: 1.3 | F27: 379223 | G27: 3.9 | H27: 1.3 | I27: 0.1
A28: 金属加工機械 | B28: 금속 가공 기계 | F28: 94517 | G28: 1 | H28: 9.1 | I28: 0.1
A29: ポンプ・遠心分離機 | B29: 펌프 및 원심분리기 | F29: 136661 | G29: 1.4 | H29: -2.1 | I29: 0
A30: 建設用・鉱山用機械 | B30: 건설용 및 광산용 기계 | F30: 151164 | G30: 1.6 | H30: 12.5 | I30: 0.2
A31: 荷役機械 | B31: 하역 기계 | F31: 65915 | G31: 0.7 | H31: -4.1 | I31: 0
A32: 加熱用・冷却用機器 | B32: 가열용 및 냉각용 기기 | F32: 41052 | G32: 0.4 | H32: -0.4 | I32: 0
A33: 繊維機械 | B33: 섬유 기계 | F33: 26409 | G33: 0.3 | H33: 13.2 | I33: 0
A34: ベアリング | B34: 베어링 | C34: トン(톤) | D34: 19938 | E34: 3.3 | F34: 43886 | G34: 0.5 | H34: 8.6 | I34: 0
A35: 7 電気機器 | B35: 전기 기기 | F35: 1606783 | G35: 16.5 | H35: 7.4 | I35: 1.2
A36: 半導体等電子部品 | B36: 반도체 등 전자부품 | F36: 577022 | G36: 5.9 | H36: 13 | I36: 0.7
A37: （ＩＣ） | B37: IC | C37: 百万個(백만개) | D37: 6075 | E37: -5 | F37: 426948 | G37: 4.4 | H37: 12.2 | I37: 0.5
A38: 音響・映像機器 | B38: 음향 및 영상 기기 | C38: 千台(천대) | D38: 11391 | E38: 3.1 | F38: 66919 | G38: 0.7 | H38: 5.5 | I38: 0
A39: （映像記録・再生機器） | B39: 영상 기록 및 재생 기기 | C39: 千台(천대) | D39: 691 | E39: 33.9 | F39: 44299 | G39: 0.5 | H39: 24.3 | I39: 0.1
A40: （テレビ受像機） | B40: TV 수상기 | C40: 千台(천대) | D40: 158 | E40: -32.5 | F40: 3789 | G40: 0 | H40: -36.6 | I40: 0
A41: 音響・映像機器の部分品 | B41: 음향 및 영상 기기의 부분품 | F41: 13393 | G41: 0.1 | H41: -2.1 | I41: 0
A42: 重電機器 | B42: 중전 기기 | F42: 128851 | G42: 1.3 | H42: 0.5 | I42: 0
A43: 通信機 | B43: 통신기 | F43: 28721 | G43: 0.3 | H43: -13.1 | I43: 0
A44: 電気計測機器 | B44: 전기 계측 기기 | F44: 177699 | G44: 1.8 | H44: 5.4 | I44: 0.1
A45: 電気回路等の機器 | B45: 전기회로 등의 기기 | F45: 191480 | G45: 2 | H45: 4.6 | I45: 0.1
A46: 電池 | B46: 전지 | F46: 76502 | G46: 0.8 | H46: 18.4 | I46: 0.1
A47: 8 輸送用機器 | B47: 수송용 기기 | F47: 2037351 | G47: 21 | H47: -2.5 | I47: -0.6
A48: 自動車 | B48: 자동차 | C48: 台(대) | D48: 495030 | E48: -5.2 | F48: 1513582 | G48: 15.6 | H48: -4.2 | I48: -0.7
A49: （乗用車） | B49: 승용차 | C49: 台(대) | D49: 432705 | E49: -5.1 | F49: 1360411 | G49: 14 | H49: -4 | I49: -0.6
A50: （バス・トラック） | B50: 버스 및 트럭 | C50: 台(대) | D50: 56533 | E50: -6.2 | F50: 147599 | G50: 1.5 | H50: -6.7 | I50: -0.1
A51: 自動車の部分品 | B51: 자동차의 부분품 | C51: トン(톤) | D51: 173835 | E51: -5.4 | F51: 295794 | G51: 3 | H51: -7.4 | I51: -0.3
A52: 二輪自動車 | B52: 이륜자동차 | C52: 千台(천대) | D52: 72 | E52: 9.3 | F52: 53068 | G52: 0.5 | H52: 16.2 | I52: 0.1
A53: 航空機類 | B53: 항공기류 | F53: 25841 | G53: 0.3 | H53: 28.7 | I53: 0.1
A54: 船舶 | B54: 선박 | C54: 総トン(총톤) | D54: 697808 | E54: 47.9 | F54: 121633 | G54: 1.3 | H54: 28.1 | I54: 0.3
A55: 9 その他 | B55: 기타 | F55: 1993384 | G55: 20.5 | H55: 18.5 | I55: 3.4
A56: 科学光学機器 | B56: 과학 광학 기기 | F56: 234979 | G56: 2.4 | H56: -0.5 | I56: 0
A57: 写真用・映画用材料 | B57: 사진용 및 영화용 재료 | F57: 75576 | G57: 0.8 | H57: 16 | I57: 0.1
A58: （注）「伸率」は対前年伸率（％）を示す。ただし「＊」を付した数値は、前年に対する倍率を示す。
A59: 변화율은 전년대비 변화율을 나타냅니다. *를 붙인 수치는 전년대비 배율을 나타냅니다.
A61: 「増減寄与度」は前年に対する増減寄与度。
A62: 증감 기여도는 전년대비 증감 기여도입니다.

Sheet 4
A1: 主要商品別輸入(世界)
A2: =VLOOKUP(A1,目次!B:C,2,0) -> 주요 상품별 수입, 세계
A3: （単位：百万円、％）
A4: 단위: 백만엔, %
C5: 単位 | D5: 数量 | E5: 伸率 | F5: 価額 | G5: 構成比 | H5: 伸率 | I5: 増減寄与度
A6: 品名 | B6: 품명 | C6: =HLOOKUP(C5,'3'!5:6,2,0) -> 단위 | D6: =HLOOKUP(D5,'3'!5:6,2,0) -> 수량 | E6: =HLOOKUP(E5,'3'!5:6,2,0) -> 변화율 | F6: =HLOOKUP(F5,'3'!5:6,2,0) -> 가액 | G6: =HLOOKUP(G5,'3'!5:6,2,0) -> 구성비 | H6: =HLOOKUP(H5,'3'!5:6,2,0) -> 변화율 | I6: =HLOOKUP(I5,'3'!5:6,2,0) -> 증감 기여도
A7: 総額 | B7: 총액 | F7: 9392795 | G7: 100 | H7: 1.3 | I7: 1.3
A8: 1 食料品 | B8: 식료품 | F8: 815822 | G8: 8.7 | H8: -1.8 | I8: -0.2
A9: 魚介類 | B9: 어개류 | C9: トン(톤) | D9: 159235 | E9: -6.2 | F9: 179112 | G9: 1.9 | H9: 3.4 | I9: 0.1
A10: 肉類 | B10: 육류 | C10: トン(톤) | D10: 222633 | E10: -7 | F10: 157606 | G10: 1.7 | H10: -5.5 | I10: -0.1
A11: 穀物類 | B11: 곡물류 | C11: トン(톤) | D11: 1908241 | E11: -3.4 | F11: 97697 | G11: 1 | H11: -2.2 | I11: 0
A12: 野菜 | B12: 채소 | C12: トン(톤) | D12: 227522 | E12: 2.6 | F12: 63603 | G12: 0.7 | H12: -1.2 | I12: 0
A13: 果実 | B13: 과실 | C13: トン(톤) | D13: 179907 | E13: -3.6 | F13: 53088 | G13: 0.6 | H13: -3.8 | I13: 0
A14: 2 原料品 | B14: 원료품 | F14: 569761 | G14: 6.1 | H14: -5.8 | I14: -0.4
A15: 木材 | B15: 목재 | F15: 21758 | G15: 0.2 | H15: -8.7 | I15: 0
A16: 非鉄金属鉱 | B16: 비철금속광 | C16: 千トン(천톤) | D16: 586 | E16: -0.3 | F16: 180336 | G16: 1.9 | H16: -13.2 | I16: -0.3
A17: 鉄鉱石 | B17: 철광석 | C17: 千トン(천톤) | D17: 7083 | E17: -8.9 | F17: 103833 | G17: 1.1 | H17: -17.4 | I17: -0.2
A18: 大豆 | B18: 대두 | C18: トン(톤) | D18: 247710 | E18: -11.5 | F18: 20607 | G18: 0.2 | H18: -7.8 | I18: 0
A19: 3 鉱物性燃料 | B19: 광물성 원료 | F19: 1649335 | G19: 17.6 | H19: -13.4 | I19: -2.7
A20: 原油及び粗油 | B20: 원유 및 조유 | C20: 千ＫＬ | D20: 10843 | E20: 7 | F20: 743772 | G20: 7.9 | H20: -2.4 | I20: -0.2
A21: 石油製品 | B21: 석유제품 | F21: 192633 | G21: 2.1 | H21: -20.5 | I21: -0.5
A22: （揮発油） | B22: 휘발유 | C22: 千ＫＬ | D22: 2234 | E22: -6.9 | F22: 148504 | G22: 1.6 | H22: -16.9 | I22: -0.3
A23: 液化天然ガス | B23: 액화 천연 가스 | C23: 千トン(천톤) | D23: 4730 | E23: -6.3 | F23: 397995 | G23: 4.2 | H23: -17.7 | I23: -0.9
A24: 液化石油ガス | B24: 액화 석유 가스 | C24: 千トン(천톤) | D24: 733 | E24: -3.5 | F24: 55773 | G24: 0.6 | H24: -23.6 | I24: -0.2
A25: 石炭 | B25: 석탄 | C25: 千トン(천톤) | D25: 12919 | E25: -2.5 | F25: 255531 | G25: 2.7 | H25: -24.6 | I25: -0.9
A26: （一般炭） | B26: 일반탄 | C26: 千トン(천톤) | D26: 8671 | E26: 2.9 | F26: 155301 | G26: 1.7 | H26: -22.2 | I26: -0.5
A27: 4 化学製品 | B27: 화학제품 | F27: 1016942 | G27: 10.8 | H27: 2.5 | I27: 0.3
A28: 有機化合物 | B28: 유기화합물 | F28: 163921 | G28: 1.7 | H28: -15 | I28: -0.3
A29: 医薬品 | B29: 의약품 | C29: ＫＧ | D29: 9281777 | E29: 15.6 | F29: 465841 | G29: 5 | H29: 10.5 | I29: 0.5
A30: 5 原料別製品 | B30: 원료별 제품 | F30: 796167 | G30: 8.5 | H30: 1.4 | I30: 0.1
A31: 鉄鋼 | B31: 철강 | C31: トン(톤) | D31: 583914 | E31: -8.3 | F31: 101004 | G31: 1.1 | H31: -9.9 | I31: -0.1
A32: 非鉄金属 | B32: 비철금속 | C32: トン(톤) | D32: 203580 | E32: -3.3 | F32: 255119 | G32: 2.7 | H32: 15.1 | I32: 0.4
A33: 金属製品 | B33: 금속제품 | F33: 136088 | G33: 1.4 | H33: -1.4 | I33: 0
A34: 織物用糸・繊維製品 | B34: 직물용 실 및 섬유제품 | F34: 100488 | G34: 1.1 | H34: -0.7 | I34: 0
A35: 非金属鉱物製品 | B35: 비금속 철물제품 | F35: 62317 | G35: 0.7 | H35: 2.7 | I35: 0
A36: 木製品等（除家具） | B36: 목제품 등; 가구 제외 | F36: 68414 | G36: 0.7 | H36: -14.7 | I36: -0.1
A37: 6 一般機械 | B37: 일반 기계 | F37: 1037964 | G37: 11.1 | H37: 12.3 | I37: 1.2
A38: 原動機 | B38: 원동기 | C38: トン(톤) | D38: 28489 | E38: 14.6 | F38: 241606 | G38: 2.6 | H38: 50.6 | I38: 0.9
A39: 電算機類（含周辺機器） | B39: 전산기류, 주변기기 포함 | C39: 千台(천대) | D39: 9050 | E39: 14.3 | F39: 316084 | G39: 3.4 | H39: 9.1 | I39: 0.3
A40: 電算機類の部分品 | B40: 전산기류의 부분품 | C40: トン(톤) | D40: 6682 | E40: -14.6 | F40: 47573 | G40: 0.5 | H40: -11.4 | I40: -0.1
A41: 7 電気機器 | B41: 전기 기기 | F41: 1718796 | G41: 18.3 | H41: 4 | I41: 0.7
A42: 半導体等電子部品 | B42: 반도체 등 전자부품 | F42: 392441 | G42: 4.2 | H42: 17.7 | I42: 0.6
A43: （ＩＣ） | B43: IC | C43: 百万個(백만개) | D43: 2068 | E43: 14.6 | F43: 342327 | G43: 3.6 | H43: 20.5 | I43: 0.6
A44: 絶縁電線・絶縁ケーブル | B44: 절연 전선 및 절연 케이블 | C44: トン(톤) | D44: 33869 | E44: -3.4 | F44: 112787 | G44: 1.2 | H44: -0.4 | I44: 0
A45: 音響映像機器（含部品） | B45: 음향 영상 기기, 부품 포함 | F45: 172032 | G45: 1.8 | H45: 4.7 | I45: 0.1
A46: 重電機器 | B46: 중전 기기 | F46: 100605 | G46: 1.1 | H46: 10 | I46: 0.1
A47: 通信機 | B47: 통신기 | F47: 449144 | G47: 4.8 | H47: -10.3 | I47: -0.6
A48: （電話機） | B48: 전화기 | C48: 台(대) | D48: 3403025 | E48: -10.9 | F48: 313414 | G48: 3.3 | H48: -17.2 | I48: -0.7
A49: 電気計測機器 | B49: 전기 계측 기기 | F49: 97360 | G49: 1 | H49: 15.7 | I49: 0.1
A50: 8 輸送用機器 | B50: 수송용 기기 | F50: 370019 | G50: 3.9 | H50: 9.7 | I50: 0.4
A51: 自動車 | B51: 자동차 | C51: 台(대) | D51: 34432 | E51: 9.2 | F51: 173286 | G51: 1.8 | H51: 10.2 | I51: 0.2
A52: 自動車の部分品 | B52: 자동차의 부분품 | F52: 115781 | G52: 1.2 | H52: 5.7 | I52: 0.1
A53: 航空機類 | B53: 항공기류 | F53: 43295 | G53: 0.5 | H53: 16.4 | I53: 0.1
A54: 9 その他 | B54: 기타 | F54: 1417989 | G54: 15.1 | H54: 14.2 | I54: 1.9
A55: 科学光学機器 | B55: 과학 광학 기기 | F55: 216304 | G55: 2.3 | H55: 0.9 | I55: 0
A56: 衣類・同付属品 | B56: 의류 및 관련 부속품 | F56: 309041 | G56: 3.3 | H56: 5.7 | I56: 0.2
A57: 家具 | B57: 가구 | C57: トン(톤) | D57: 125241 | E57: -2.3 | F57: 86595 | G57: 0.9 | H57: 0.4 | I57: 0
A58: バッグ類 | B58: 가방류 | F58: 77177 | G58: 0.8 | H58: -4.6 | I58: 0
A59: （注）「伸率」は対前年伸率（％）を示す。ただし「＊」を付した数値は、前年に対する倍率を示す。
A60: =HLOOKUP(A59,'3'!$58:$59,2,0) -> 변화율은 전년대비 변화율을 나타냅니다. *를 붙인 수치는 전년대비 배율을 나타냅니다.
A62: 「増減寄与度」は前年に対する増減寄与度。
A63: =HLOOKUP(A62,'3'!61:62,2,0) -> 증감 기여도는 전년대비 증감 기여도입니다.

Sheet 5
A1: 主要地域（国）別商品別輸出(アメリカ合衆国)
A2: =VLOOKUP(A1,目次!B:C,2,0) -> 주요 지역, 국가별 및 상품별 수출, 미국
A3: （単位：百万円、％）
A4: 단위: 백만엔, %
C5: 単位 | D5: 数量 | E5: 伸率 | F5: 価額 | G5: 構成比 | H5: 伸率 | I5: 増減寄与度
A6: 品名 | B6: =VLOOKUP(A6,'3'!A:B,2,0) -> 품명 | C6: =HLOOKUP(C5,'4'!5:6,2,0) -> 단위 | D6: =HLOOKUP(D5,'4'!5:6,2,0) -> 수량 | E6: =HLOOKUP(E5,'4'!5:6,2,0) -> 변화율 | F6: =HLOOKUP(F5,'4'!5:6,2,0) -> 가액 | G6: =HLOOKUP(G5,'4'!5:6,2,0) -> 구성비 | H6: =HLOOKUP(H5,'4'!5:6,2,0) -> 변화율 | I6: =HLOOKUP(I5,'4'!5:6,2,0) -> 증감 기여도
A7: 総額 | B7: =VLOOKUP(A7,'3'!A:B,2,0) -> 총액 | F7: 1816870 | G7: 100 | H7: 8.8 | I7: 8.8
A8: 1 食料品 | B8: =VLOOKUP(A8,'3'!A:B,2,0) -> 식료품 | F8: 22258 | G8: 1.2 | H8: 20 | I8: 0.2
A9: 2 原料品 | B9: =VLOOKUP(A9,'3'!A:B,2,0) -> 원료품 | F9: 6526 | G9: 0.4 | H9: 3.6 | I9: 0
A10: 3 鉱物性燃料 | B10: =VLOOKUP(A10,'3'!A:B,2,0) -> 광물성 원료 | F10: 12594 | G10: 0.7 | H10: 2588.9 | I10: 0.7
A11: 4 化学製品 | B11: =VLOOKUP(A11,'3'!A:B,2,0) -> 화학제품 | F11: 156951 | G11: 8.6 | H11: 48 | I11: 3
A12: 有機化合物 | B12: =VLOOKUP(A12,'3'!A:B,2,0) -> 유기화합물 | F12: 15305 | G12: 0.8 | H12: 19.3 | I12: 0.1
A13: 医薬品 | B13: =VLOOKUP(A13,'3'!A:B,2,0) -> 의약품 | C13: ＫＧ | D13: 983239 | E13: 76.2 | F13: 65138 | G13: 3.6 | H13: 115.5 | I13: 2.1
A14: プラスチック | B14: =VLOOKUP(A14,'3'!A:B,2,0) -> 플라스틱 | C14: トン(톤) | D14: 27104 | E14: 7.7 | F14: 24468 | G14: 1.3 | H14: 16.9 | I14: 0.2
A15: 5 原料別製品 | B15: =VLOOKUP(A15,'3'!A:B,2,0) -> 원료별 제품 | F15: 105470 | G15: 5.8 | H15: 2.3 | I15: 0.1
A16: 鉄鋼 | B16: =VLOOKUP(A16,'3'!A:B,2,0) -> 철강 | C16: 千トン(톤) | D16: 76 | E16: 0.1 | F16: 18258 | G16: 1 | H16: -20.9 | I16: -0.3
A17: 非鉄金属 | B17: =VLOOKUP(A17,'3'!A:B,2,0) -> 비철금속 | C17: トン(톤) | D17: 6108 | E17: 3.5 | F17: 13743 | G17: 0.8 | H17: -5.6 | I17: 0
A18: 金属製品 | B18: =VLOOKUP(A18,'3'!A:B,2,0) -> 금속제품 | F18: 24121 | G18: 1.3 | H18: 6.5 | I18: 0.1
A19: 織物用糸・繊維製品 | B19: =VLOOKUP(A19,'3'!A:B,2,0) -> 직물용 실 및 섬유제품 | F19: 6387 | G19: 0.4 | H19: 4.9 | I19: 0
A20: 非金属鉱物製品 | B20: =VLOOKUP(A20,'3'!A:B,2,0) -> 비금속 철물제품 | F20: 15204 | G20: 0.8 | H20: 18.1 | I20: 0.1
A21: ゴム製品 | B21: =VLOOKUP(A21,'3'!A:B,2,0) -> 고무제품 | C21: トン(톤) | D21: 26674 | E21: 21.1 | F21: 25113 | G21: 1.4 | H21: 18 | I21: 0.2
A22: 紙類・紙製品 | B22: =VLOOKUP(A22,'3'!A:B,2,0) -> 종이류 및 종이제품 | C22: トン(톤) | D22: 4170 | E22: 8.5 | F22: 2426 | G22: 0.1 | H22: 2 | I22: 0
A23: 6 一般機械 | B23: =VLOOKUP(A23,'3'!A:B,2,0) -> 일반 기계 | F23: 386245 | G23: 21.3 | H23: -1.1 | I23: -0.2
A24: 原動機 | B24: =VLOOKUP(A24,'3'!A:B,2,0) -> 원동기 | C24: トン(톤) | D24: 18006 | E24: -0.1 | F24: 85867 | G24: 4.7 | H24: -6.1 | I24: -0.3
A25: 電算機類（含周辺機器） | B25: =VLOOKUP(A25,'3'!A:B,2,0) -> 전산기류, 주변기기 포함 | C25: 千台(천대) | D25: 81 | E25: 5 | F25: 11117 | G25: 0.6 | H25: -2 | I25: 0
A26: 電算機類の部分品 | B26: =VLOOKUP(A26,'3'!A:B,2,0) -> 전산기류의 부분품 | C26: トン(톤) | D26: 2523 | E26: -4.3 | F26: 22018 | G26: 1.2 | H26: -1.5 | I26: 0
A27: 半導体等製造装置 | B27: =VLOOKUP(A27,'3'!A:B,2,0) -> 반도체 등 제조 장치 | C27: トン(톤) | D27: 827 | E27: -20.9 | F27: 30023 | G27: 1.7 | H27: -28.5 | I27: -0.7
A28: 金属加工機械 | B28: =VLOOKUP(A28,'3'!A:B,2,0) -> 금속 가공 기계 | F28: 22311 | G28: 1.2 | H28: 14.1 | I28: 0.2
A29: ポンプ・遠心分離機 | B29: =VLOOKUP(A29,'3'!A:B,2,0) -> 펌프 및 원심분리기 | F29: 27973 | G29: 1.5 | H29: -6.9 | I29: -0.1
A30: 建設用・鉱山用機械 | B30: =VLOOKUP(A30,'3'!A:B,2,0) -> 건설용 및 광산용 기계 | F30: 72449 | G30: 4 | H30: 12 | I30: 0.5
A31: 荷役機械 | B31: =VLOOKUP(A31,'3'!A:B,2,0) -> 하역 기계 | F31: 22028 | G31: 1.2 | H31: -3.3 | I31: 0
A32: 加熱用・冷却用機器 | B32: =VLOOKUP(A32,'3'!A:B,2,0) -> 가열용 및 냉각용 기기 | F32: 10813 | G32: 0.6 | H32: -18 | I32: -0.1
A33: 繊維機械 | B33: =VLOOKUP(A33,'3'!A:B,2,0) -> 섬유 기계 | F33: 916 | G33: 0.1 | H33: 4.6 | I33: 0
A34: ベアリング | B34: =VLOOKUP(A34,'3'!A:B,2,0) -> 베어링 | C34: トン(톤) | D34: 4849 | E34: 19.8 | F34: 8988 | G34: 0.5 | H34: 22.9 | I34: 0.1
A35: 7 電気機器 | B35: =VLOOKUP(A35,'3'!A:B,2,0) -> 전기 기기 | F35: 225044 | G35: 12.4 | H35: 0.9 | I35: 0.1
A36: 半導体等電子部品 | B36: =VLOOKUP(A36,'3'!A:B,2,0) -> 반도체 등 전자부품 | F36: 16399 | G36: 0.9 | H36: -14.2 | I36: -0.2
A37: （ＩＣ） | B37: =VLOOKUP(A37,'3'!A:B,2,0) -> IC | C37: 百万個(백만개) | D37: 102 | E37: -44.6 | F37: 6865 | G37: 0.4 | H37: -28.1 | I37: -0.2
A38: 音響・映像機器 | B38: =VLOOKUP(A38,'3'!A:B,2,0) -> 음향 및 영상 기기 | C38: 千台(천대) | D38: 386 | E38: -6.2 | F38: 14474 | G38: 0.8 | H38: 6.3 | I38: 0.1
A39: （映像記録・再生機器） | B39: =VLOOKUP(A39,'3'!A:B,2,0) -> 영상 기록 및 재생 기기 | C39: 千台(천대) | D39: 152 | E39: 70.8 | F39: 11589 | G39: 0.6 | H39: 24.6 | I39: 0.1
A40: （テレビ受像機） | B40: =VLOOKUP(A40,'3'!A:B,2,0) -> TV 수상기 | C40: 千台(천대) | D40: 14 | E40: 2.8 | F40: 1025 | G40: 0.1 | H40: -39.8 | I40: 0
A41: 音響・映像機器の部分品 | B41: =VLOOKUP(A41,'3'!A:B,2,0) -> 음향 및 영상 기기의 부분품 | F41: 2090 | G41: 0.1 | H41: 28.2 | I41: 0
A42: 重電機器 | B42: =VLOOKUP(A42,'3'!A:B,2,0) -> 중전 기기 | F42: 39139 | G42: 2.2 | H42: -3 | I42: -0.1
A43: 通信機 | B43: =VLOOKUP(A43,'3'!A:B,2,0) -> 통신기 | F43: 9692 | G43: 0.5 | H43: 5.3 | I43: 0
A44: 電気計測機器 | B44: =VLOOKUP(A44,'3'!A:B,2,0) -> 전기 계측 기기 | F44: 27913 | G44: 1.5 | H44: -4 | I44: -0.1
A45: 電気回路等の機器 | B45: =VLOOKUP(A45,'3'!A:B,2,0) -> 전기회로 등의 기기 | F45: 21386 | G45: 1.2 | H45: 0.5 | I45: 0
A46: 電池 | B46: =VLOOKUP(A46,'3'!A:B,2,0) -> 전지 | F46: 33104 | G46: 1.8 | H46: 28.9 | I46: 0.4
A47: 8 輸送用機器 | B47: =VLOOKUP(A47,'3'!A:B,2,0) -> 수송용 기기 | F47: 615956 | G47: 33.9 | H47: 0.7 | I47: 0.3
A48: 自動車 | B48: =VLOOKUP(A48,'3'!A:B,2,0) -> 자동차 | C48: 台(대) | D48: 122500 | E48: 7.7 | F48: 499682 | G48: 27.5 | H48: 1.5 | I48: 0.5
A49: （乗用車） | B49: =VLOOKUP(A49,'3'!A:B,2,0) -> 승용차 | C49: 台(대) | D49: 121341 | E49: 8.1 | F49: 490970 | G49: 27 | H49: 1 | I49: 0.3
A50: （バス・トラック） | B50: =VLOOKUP(A50,'3'!A:B,2,0) -> 버스 및 트럭 | C50: 台(대) | D50: 1121 | E50: -23.5 | F50: 8644 | G50: 0.5 | H50: 39.7 | I50: 0.1
A51: 自動車の部分品 | B51: =VLOOKUP(A51,'3'!A:B,2,0) -> 자동차의 부분품 | C51: トン(톤) | D51: 39674 | E51: -0.6 | F51: 83545 | G51: 4.6 | H51: -8.5 | I51: -0.5
A52: 二輪自動車 | B52: =VLOOKUP(A52,'3'!A:B,2,0) -> 이륜자동차 | C52: 千台(천대) | D52: 13 | E52: 11.1 | F52: 11385 | G52: 0.6 | H52: -2.7 | I52: 0
A53: 航空機類 | B53: =VLOOKUP(A53,'3'!A:B,2,0) -> 항공기류 | F53: 18353 | G53: 1 | H53: 36.1 | I53: 0.3
A54: 船舶 | B54: =VLOOKUP(A54,'3'!A:B,2,0) -> 선박 | C54: 総トン(총톤) | D54: - | F54: - | G54: - | I54: -
A55: 9 その他 | B55: =VLOOKUP(A55,'3'!A:B,2,0) -> 기타 | F55: 285827 | G55: 15.7 | H55: 35.6 | I55: 4.5
A56: 科学光学機器 | B56: =VLOOKUP(A56,'3'!A:B,2,0) -> 과학 광학 기기 | F56: 47226 | G56: 2.6 | H56: -11.1 | I56: -0.4
A57: 写真用・映画用材料 | B57: =VLOOKUP(A57,'3'!A:B,2,0) -> 사진용 및 영화용 재료 | F57: 9322 | G57: 0.5 | H57: 23.5 | I57: 0.1
A58: （注）「伸率」は対前年伸率（％）を示す。ただし「＊」を付した数値は、前年に対する倍率を示す。
A59: =HLOOKUP(A58,'4'!59:60,2,0) -> 변화율은 전년대비 변화율을 나타냅니다. *를 붙인 수치는 전년대비 배율을 나타냅니다.
A61: 「増減寄与度」は前年に対する増減寄与度。
A62: =HLOOKUP(A61,'4'!62:63,2,0) -> 증감 기여도는 전년대비 증감 기여도입니다.

Sheet 6
A1: 主要地域（国）別商品別輸出(ＥＵ)
A2: =VLOOKUP(A1,目次!B:C,2,0) -> 주요 지역, 국가별 및 상품별 수출, 유럽연합
A3: （単位：百万円、％）
A4: 단위: 백만엔, %
C5: 単位 | D5: 数量 | E5: 伸率 | F5: 価額 | G5: 構成比 | H5: 伸率 | I5: 増減寄与度
A6: 品名 | B6: =VLOOKUP(A6,'3'!A:B,2,0) -> 품명 | C6: =HLOOKUP(C5,'4'!5:6,2,0) -> 단위 | D6: =HLOOKUP(D5,'4'!5:6,2,0) -> 수량 | E6: =HLOOKUP(E5,'4'!5:6,2,0) -> 변화율 | F6: =HLOOKUP(F5,'4'!5:6,2,0) -> 가액 | G6: =HLOOKUP(G5,'4'!5:6,2,0) -> 구성비 | H6: =HLOOKUP(H5,'4'!5:6,2,0) -> 변화율 | I6: =HLOOKUP(I5,'4'!5:6,2,0) -> 증감 기여도
A7: 総額 | B7: =VLOOKUP(A7,'3'!A:B,2,0) -> 총액 | F7: 901251 | G7: 100 | H7: 19.5 | I7: 19.5
A8: 1 食料品 | B8: =VLOOKUP(A8,'3'!A:B,2,0) -> 식료품 | F8: 7564 | G8: 0.8 | H8: 78.2 | I8: 0.4
A9: 2 原料品 | B9: =VLOOKUP(A9,'3'!A:B,2,0) -> 원료품 | F9: 10507 | G9: 1.2 | H9: 36.9 | I9: 0.4
A10: 3 鉱物性燃料 | B10: =VLOOKUP(A10,'3'!A:B,2,0) -> 광물성 원료 | F10: 546 | G10: 0.1 | H10: 193.8 | I10: 0
A11: 4 化学製品 | B11: =VLOOKUP(A11,'3'!A:B,2,0) -> 화학제품 | F11: 91705 | G11: 10.2 | H11: -3.1 | I11: -0.4
A12: 有機化合物 | B12: =VLOOKUP(A12,'3'!A:B,2,0) -> 유기화합물 | F12: 21416 | G12: 2.4 | H12: -15.2 | I12: -0.5
A13: 医薬品 | B13: =VLOOKUP(A13,'3'!A:B,2,0) -> 의약품 | C13: ＫＧ | D13: 367757 | E13: -27.1 | F13: 17501 | G13: 1.9 | H13: 19.7 | I13: 0.4
A14: プラスチック | B14: =VLOOKUP(A14,'3'!A:B,2,0) -> 플라스틱 | C14: トン(톤) | D14: 22977 | E14: 31.1 | F14: 19604 | G14: 2.2 | H14: 23.7 | I14: 0.5
A15: 5 原料別製品 | B15: =VLOOKUP(A15,'3'!A:B,2,0) -> 원료별 제품 | F15: 56213 | G15: 6.2 | H15: 25.2 | I15: 1.5
A16: 鉄鋼 | B16: =VLOOKUP(A16,'3'!A:B,2,0) -> 철강 | C16: 千トン(톤) | D16: 14 | E16: -46.3 | F16: 8913 | G16: 1 | H16: 17.8 | I16: 0.2
A17: 非鉄金属 | B17: =VLOOKUP(A17,'3'!A:B,2,0) -> 비철금속 | C17: トン(톤) | D17: 5203 | E17: 3.9 | F17: 8613 | G17: 1 | H17: 17 | I17: 0.2
A18: 金属製品 | B18: =VLOOKUP(A18,'3'!A:B,2,0) -> 금속제품 | F18: 12047 | G18: 1.3 | H18: 24.3 | I18: 0.3
A19: 織物用糸・繊維製品 | B19: =VLOOKUP(A19,'3'!A:B,2,0) -> 직물용 실 및 섬유제품 | F19: 6110 | G19: 0.7 | H19: 11.9 | I19: 0.1
A20: 非金属鉱物製品 | B20: =VLOOKUP(A20,'3'!A:B,2,0) -> 비금속 철물제품 | F20: 9204 | G20: 1 | H20: 4.5 | I20: 0.1
A21: ゴム製品 | B21: =VLOOKUP(A21,'3'!A:B,2,0) -> 고무제품 | C21: トン(톤) | D21: 7543 | E21: 100.2 | F21: 9617 | G21: 1.1 | H21: 100.6 | I21: 0.6
A22: 紙類・紙製品 | B22: =VLOOKUP(A22,'3'!A:B,2,0) -> 종이류 및 종이제품 | C22: トン(톤) | D22: 1208 | E22: 21.2 | F22: 1644 | G22: 0.2 | H22: 40.8 | I22: 0.1
A23: 6 一般機械 | B23: =VLOOKUP(A23,'3'!A:B,2,0) -> 일반 기계 | F23: 174617 | G23: 19.4 | H23: 29.1 | I23: 5.2
A24: 原動機 | B24: =VLOOKUP(A24,'3'!A:B,2,0) -> 원동기 | C24: トン(톤) | D24: 7497 | E24: 64.9 | F24: 29578 | G24: 3.3 | H24: 70 | I24: 1.6
A25: 電算機類（含周辺機器） | B25: =VLOOKUP(A25,'3'!A:B,2,0) -> 전산기류, 주변기기 포함 | C25: 千台(천대) | D25: 51 | E25: -4.3 | F25: 8468 | G25: 0.9 | H25: 7.2 | I25: 0.1
A26: 電算機類の部分品 | B26: =VLOOKUP(A26,'3'!A:B,2,0) -> 전산기류의 부분품 | C26: トン(톤) | D26: 1753 | E26: -5.9 | F26: 17969 | G26: 2 | H26: 10 | I26: 0.2
A27: 半導体等製造装置 | B27: =VLOOKUP(A27,'3'!A:B,2,0) -> 반도체 등 제조 장치 | C27: トン(톤) | D27: 360 | E27: 42.2 | F27: 9204 | G27: 1 | H27: -0.8 | I27: 0
A28: 金属加工機械 | B28: =VLOOKUP(A28,'3'!A:B,2,0) -> 금속 가공 기계 | F28: 10968 | G28: 1.2 | H28: 60.7 | I28: 0.5
A29: ポンプ・遠心分離機 | B29: =VLOOKUP(A29,'3'!A:B,2,0) -> 펌프 및 원심분리기 | F29: 20849 | G29: 2.3 | H29: 27 | I29: 0.6
A30: 建設用・鉱山用機械 | B30: =VLOOKUP(A30,'3'!A:B,2,0) -> 건설용 및 광산용 기계 | F30: 26232 | G30: 2.9 | H30: 14.2 | I30: 0.4
A31: 荷役機械 | B31: =VLOOKUP(A31,'3'!A:B,2,0) -> 하역 기계 | F31: 5109 | G31: 0.6 | H31: 33 | I31: 0.2
A32: 加熱用・冷却用機器 | B32: =VLOOKUP(A32,'3'!A:B,2,0) -> 가열용 및 냉각용 기기 | F32: 4877 | G32: 0.5 | H32: 27.2 | I32: 0.1
A33: 繊維機械 | B33: =VLOOKUP(A33,'3'!A:B,2,0) -> 섬유 기계 | F33: 1114 | G33: 0.1 | H33: 87.5 | I33: 0.1
A34: ベアリング | B34: =VLOOKUP(A34,'3'!A:B,2,0) -> 베어링 | C34: トン(톤) | D34: 2328 | E34: 13.8 | F34: 5604 | G34: 0.6 | H34: 24.3 | I34: 0.1
A35: 7 電気機器 | B35: =VLOOKUP(A35,'3'!A:B,2,0) -> 전기 기기 | F35: 151555 | G35: 16.8 | H35: 26.3 | I35: 4.2
A36: 半導体等電子部品 | B36: =VLOOKUP(A36,'3'!A:B,2,0) -> 반도체 등 전자부품 | F36: 21233 | G36: 2.4 | H36: 20.7 | I36: 0.5
A37: （ＩＣ） | B37: =VLOOKUP(A37,'3'!A:B,2,0) -> IC | C37: 百万個(백만개) | D37: 43 | E37: 15.4 | F37: 8126 | G37: 0.9 | H37: 56.4 | I37: 0.4
A38: 音響・映像機器 | B38: =VLOOKUP(A38,'3'!A:B,2,0) -> 음향 및 영상 기기 | C38: 千台(천대) | D38: 734 | E38: 19 | F38: 12213 | G38: 1.4 | H38: 56.2 | I38: 0.6
A39: （映像記録・再生機器） | B39: =VLOOKUP(A39,'3'!A:B,2,0) -> 영상 기록 및 재생 기기 | C39: 千台(천대) | D39: 162 | E39: 88.9 | F39: 10865 | G39: 1.2 | H39: 64.4 | I39: 0.6
A40: （テレビ受像機） | B40: =VLOOKUP(A40,'3'!A:B,2,0) -> TV 수상기 | C40: 千台(천대) | D40: 6 | E40: -24.1 | F40: 441 | G40: 0 | H40: -8.5 | I40: 0
A41: 音響・映像機器の部分品 | B41: =VLOOKUP(A41,'3'!A:B,2,0) -> 음향 및 영상 기기의 부분품 | F41: 831 | G41: 0.1 | H41: -5.7 | I41: 0
A42: 重電機器 | B42: =VLOOKUP(A42,'3'!A:B,2,0) -> 중전 기기 | F42: 20192 | G42: 2.2 | H42: 23.6 | I42: 0.5
A43: 通信機 | B43: =VLOOKUP(A43,'3'!A:B,2,0) -> 통신기 | F43: 3335 | G43: 0.4 | H43: 3.3 | I43: 0
A44: 電気計測機器 | B44: =VLOOKUP(A44,'3'!A:B,2,0) -> 전기 계측 기기 | F44: 22479 | G44: 2.5 | H44: 23.3 | I44: 0.6
A45: 電気回路等の機器 | B45: =VLOOKUP(A45,'3'!A:B,2,0) -> 전기회로 등의 기기 | F45: 13814 | G45: 1.5 | H45: 25.5 | I45: 0.4
A46: 電池 | B46: =VLOOKUP(A46,'3'!A:B,2,0) -> 전지 | F46: 10514 | G46: 1.2 | H46: 42.2 | I46: 0.4
A47: 8 輸送用機器 | B47: =VLOOKUP(A47,'3'!A:B,2,0) -> 수송용 기기 | F47: 254153 | G47: 28.2 | H47: 23.7 | I47: 6.5
A48: 自動車 | B48: =VLOOKUP(A48,'3'!A:B,2,0) -> 자동차 | C48: 台(대) | D48: 48879 | E48: 16.4 | F48: 182673 | G48: 20.3 | H48: 25.6 | I48: 4.9
A49: （乗用車） | B49: =VLOOKUP(A49,'3'!A:B,2,0) -> 승용차 | C49: 台(대) | D49: 46066 | E49: 15.2 | F49: 172504 | G49: 19.1 | H49: 26 | I49: 4.7
A50: （バス・トラック） | B50: =VLOOKUP(A50,'3'!A:B,2,0) -> 버스 및 트럭 | C50: 台(대) | D50: 2813 | E50: 39.3 | F50: 10169 | G50: 1.1 | H50: 19.9 | I50: 0.2
A51: 自動車の部分品 | B51: =VLOOKUP(A51,'3'!A:B,2,0) -> 자동차의 부분품 | C51: トン(톤) | D51: 16787 | E51: 8.8 | F51: 32260 | G51: 3.6 | H51: 12.2 | I51: 0.5
A52: 二輪自動車 | B52: =VLOOKUP(A52,'3'!A:B,2,0) -> 이륜자동차 | C52: 千台(천대) | D52: 23 | E52: 7.7 | F52: 27291 | G52: 3 | H52: 15.7 | I52: 0.5
A53: 航空機類 | B53: =VLOOKUP(A53,'3'!A:B,2,0) -> 항공기류 | F53: 2547 | G53: 0.3 | H53: 23.3 | I53: 0.1
A54: 船舶 | B54: =VLOOKUP(A54,'3'!A:B,2,0) -> 선박 | C54: 総トン(총톤) | D54: - | F54: - | G54: - | I54: -
A55: 9 その他 | B55: =VLOOKUP(A55,'3'!A:B,2,0) -> 기타 | F55: 154393 | G55: 17.1 | H55: 9.1 | I55: 1.7
A56: 科学光学機器 | B56: =VLOOKUP(A56,'3'!A:B,2,0) -> 과학 광학 기기 | F56: 38004 | G56: 4.2 | H56: 1.3 | I56: 0.1
A57: 写真用・映画用材料 | B57: =VLOOKUP(A57,'3'!A:B,2,0) -> 사진용 및 영화용 재료 | F57: 4949 | G57: 0.5 | H57: 6.7 | I57: 0
A58: （注）「伸率」は対前年伸率（％）を示す。ただし「＊」を付した数値は、前年に対する倍率を示す。
A59: =HLOOKUP(A58,'4'!59:60,2,0) -> 변화율은 전년대비 변화율을 나타냅니다. *를 붙인 수치는 전년대비 배율을 나타냅니다.
A61: 「増減寄与度」は前年に対する増減寄与度。
A62: =HLOOKUP(A61,'4'!62:63,2,0) -> 증감 기여도는 전년대비 증감 기여도입니다.
A64: 「伸率」及び「増減寄与度」の計算に使用する前年の価額及び数量は、現在のＥＵ加盟国に基づく数値。
A65: 변화율 및 증감 기여도의 계산에 사용되는 전년의 가액 및 수량은 현재의 유럽연합 가맹국에 기초한 수치입니다.

Sheet 7
A1: 主要地域（国）別商品別輸出(アジア)
A2: =VLOOKUP(A1,目次!B:C,2,0) -> 주요 지역, 국가별 및 상품별 수출, 아시아
A3: （単位：百万円、％）
A4: 단위: 백만엔, %
C5: 単位 | D5: 数量 | E5: 伸率 | F5: 価額 | G5: 構成比 | H5: 伸率 | I5: 増減寄与度
A6: 品名 | B6: =VLOOKUP(A6,'3'!A:B,2,0) -> 품명 | C6: =HLOOKUP(C5,'4'!5:6,2,0) -> 단위 | D6: =HLOOKUP(D5,'4'!5:6,2,0) -> 수량 | E6: =HLOOKUP(E5,'4'!5:6,2,0) -> 변화율 | F6: =HLOOKUP(F5,'4'!5:6,2,0) -> 가액 | G6: =HLOOKUP(G5,'4'!5:6,2,0) -> 구성비 | H6: =HLOOKUP(H5,'4'!5:6,2,0) -> 변화율 | I6: =HLOOKUP(I5,'4'!5:6,2,0) -> 증감 기여도
A7: 総額 | B7: =VLOOKUP(A7,'3'!A:B,2,0) -> 총액 | F7: 5233597 | G7: 100 | H7: 4.4 | I7: 4.4
A8: 1 食料品 | B8: =VLOOKUP(A8,'3'!A:B,2,0) -> 식료품 | F8: 79882 | G8: 1.5 | H8: 2.3 | I8: 0
A9: 2 原料品 | B9: =VLOOKUP(A9,'3'!A:B,2,0) -> 원료품 | F9: 147427 | G9: 2.8 | H9: 16.2 | I9: 0.4
A10: 3 鉱物性燃料 | B10: =VLOOKUP(A10,'3'!A:B,2,0) -> 광물성 원료 | F10: 85918 | G10: 1.6 | H10: -6.6 | I10: -0.1
A11: 4 化学製品 | B11: =VLOOKUP(A11,'3'!A:B,2,0) -> 화학제품 | F11: 712840 | G11: 13.6 | H11: -0.4 | I11: -0.1
A12: 有機化合物 | B12: =VLOOKUP(A12,'3'!A:B,2,0) -> 유기화합물 | F12: 106338 | G12: 2 | H12: -16.6 | I12: -0.4
A13: 医薬品 | B13: =VLOOKUP(A13,'3'!A:B,2,0) -> 의약품 | C13: ＫＧ | D13: 3781270 | E13: -11.4 | F13: 42112 | G13: 0.8 | H13: 10.3 | I13: 0.1
A14: プラスチック | B14: =VLOOKUP(A14,'3'!A:B,2,0) -> 플라스틱 | C14: トン(톤) | D14: 362212 | E14: -4.6 | F14: 227404 | G14: 4.3 | H14: -0.1 | I14: 0
A15: 5 原料別製品 | B15: =VLOOKUP(A15,'3'!A:B,2,0) -> 원료별 제품 | F15: 662792 | G15: 12.7 | H15: 0.3 | I15: 0
A16: 鉄鋼 | B16: =VLOOKUP(A16,'3'!A:B,2,0) -> 철강 | C16: 千トン(톤) | D16: 1662 | E16: -7.4 | F16: 205871 | G16: 3.9 | H16: -11.2 | I16: -0.5
A17: 非鉄金属 | B17: =VLOOKUP(A17,'3'!A:B,2,0) -> 비철금속 | C17: トン(톤) | D17: 95543 | E17: -11.2 | F17: 213718 | G17: 4.1 | H17: 14.3 | I17: 0.5
A18: 金属製品 | B18: =VLOOKUP(A18,'3'!A:B,2,0) -> 금속제품 | F18: 69609 | G18: 1.3 | H18: 1.1 | I18: 0
A19: 織物用糸・繊維製品 | B19: =VLOOKUP(A19,'3'!A:B,2,0) -> 직물용 실 및 섬유제품 | F19: 52361 | G19: 1 | H19: -2.6 | I19: 0
A20: 非金属鉱物製品 | B20: =VLOOKUP(A20,'3'!A:B,2,0) -> 비금속 철물제품 | F20: 68699 | G20: 1.3 | H20: 8.6 | I20: 0.1
A21: ゴム製品 | B21: =VLOOKUP(A21,'3'!A:B,2,0) -> 고무제품 | C21: トン(톤) | D21: 22190 | E21: -16.5 | F21: 26531 | G21: 0.5 | H21: -10.8 | I21: -0.1
A22: 紙類・紙製品 | B22: =VLOOKUP(A22,'3'!A:B,2,0) -> 종이류 및 종이제품 | C22: トン(톤) | D22: 162869 | E22: 7.9 | F22: 23939 | G22: 0.5 | H22: -0.5 | I22: 0
A23: 6 一般機械 | B23: =VLOOKUP(A23,'3'!A:B,2,0) -> 일반 기계 | F23: 892372 | G23: 17.1 | H23: 2.8 | I23: 0.5
A24: 原動機 | B24: =VLOOKUP(A24,'3'!A:B,2,0) -> 원동기 | C24: トン(톤) | D24: 39147 | E24: 5.9 | F24: 85828 | G24: 1.6 | H24: 15.6 | I24: 0.2
A25: 電算機類（含周辺機器） | B25: =VLOOKUP(A25,'3'!A:B,2,0) -> 전산기류, 주변기기 포함 | C25: 千台(천대) | D25: 417 | E25: 45.6 | F25: 8227 | G25: 0.2 | H25: 6.1 | I25: 0
A26: 電算機類の部分品 | B26: =VLOOKUP(A26,'3'!A:B,2,0) -> 전산기류의 부분품 | C26: トン(톤) | D26: 3691 | E26: -13.4 | F26: 45773 | G26: 0.9 | H26: 0.3 | I26: 0
A27: 半導体等製造装置 | B27: =VLOOKUP(A27,'3'!A:B,2,0) -> 반도체 등 제조 장치 | C27: トン(톤) | D27: 10451 | E27: 2.2 | F27: 338407 | G27: 6.5 | H27: 5.1 | I27: 0.3
A28: 金属加工機械 | B28: =VLOOKUP(A28,'3'!A:B,2,0) -> 금속 가공 기계 | F28: 52798 | G28: 1 | H28: 2.5 | I28: 0
A29: ポンプ・遠心分離機 | B29: =VLOOKUP(A29,'3'!A:B,2,0) -> 펌프 및 원심분리기 | F29: 66853 | G29: 1.3 | H29: -6 | I29: -0.1
A30: 建設用・鉱山用機械 | B30: =VLOOKUP(A30,'3'!A:B,2,0) -> 건설용 및 광산용 기계 | F30: 18505 | G30: 0.4 | H30: -18.4 | I30: -0.1
A31: 荷役機械 | B31: =VLOOKUP(A31,'3'!A:B,2,0) -> 하역 기계 | F31: 24597 | G31: 0.5 | H31: -11.2 | I31: -0.1
A32: 加熱用・冷却用機器 | B32: =VLOOKUP(A32,'3'!A:B,2,0) -> 가열용 및 냉각용 기기 | F32: 17396 | G32: 0.3 | H32: 1.1 | I32: 0
A33: 繊維機械 | B33: =VLOOKUP(A33,'3'!A:B,2,0) -> 섬유 기계 | F33: 22660 | G33: 0.4 | H33: 16.2 | I33: 0.1
A34: ベアリング | B34: =VLOOKUP(A34,'3'!A:B,2,0) -> 베어링 | C34: トン(톤) | D34: 10022 | E34: -5.8 | F34: 23446 | G34: 0.4 | H34: -0.1 | I34: 0
A35: 7 電気機器 | B35: =VLOOKUP(A35,'3'!A:B,2,0) -> 전기 기기 | F35: 1123731 | G35: 21.5 | H35: 6.8 | I35: 1.4
A36: 半導体等電子部品 | B36: =VLOOKUP(A36,'3'!A:B,2,0) -> 반도체 등 전자부품 | F36: 533358 | G36: 10.2 | H36: 14.1 | I36: 1.3
A37: （ＩＣ） | B37: =VLOOKUP(A37,'3'!A:B,2,0) -> IC | C37: 百万個(백만개) | D37: 5909 | E37: -4 | F37: 409877 | G37: 7.8 | H37: 12.7 | I37: 0.9
A38: 音響・映像機器 | B38: =VLOOKUP(A38,'3'!A:B,2,0) -> 음향 및 영상 기기 | C38: 千台(천대) | D38: 9974 | E38: 7.7 | F38: 32465 | G38: 0.6 | H38: -4.8 | I38: 0
A39: （映像記録・再生機器） | B39: =VLOOKUP(A39,'3'!A:B,2,0) -> 영상 기록 및 재생 기기 | C39: 千台(천대) | D39: 285 | E39: 18.8 | F39: 16847 | G39: 0.3 | H39: 6.6 | I39: 0
A40: （テレビ受像機） | B40: =VLOOKUP(A40,'3'!A:B,2,0) -> TV 수상기 | C40: 千台(천대) | D40: 102 | E40: -20 | F40: 955 | G40: 0 | H40: -10.6 | I40: 0
A41: 音響・映像機器の部分品 | B41: =VLOOKUP(A41,'3'!A:B,2,0) -> 음향 및 영상 기기의 부분품 | F41: 8607 | G41: 0.2 | H41: -3.2 | I41: 0
A42: 重電機器 | B42: =VLOOKUP(A42,'3'!A:B,2,0) -> 중전 기기 | F42: 58843 | G42: 1.1 | H42: -2.6 | I42: 0
A43: 通信機 | B43: =VLOOKUP(A43,'3'!A:B,2,0) -> 통신기 | F43: 11382 | G43: 0.2 | H43: -32.1 | I43: -0.1
A44: 電気計測機器 | B44: =VLOOKUP(A44,'3'!A:B,2,0) -> 전기 계측 기기 | F44: 113976 | G44: 2.2 | H44: 6.5 | I44: 0.1
A45: 電気回路等の機器 | B45: =VLOOKUP(A45,'3'!A:B,2,0) -> 전기회로 등의 기기 | F45: 144408 | G45: 2.8 | H45: 2.7 | I45: 0.1
A46: 電池 | B46: =VLOOKUP(A46,'3'!A:B,2,0) -> 전지 | F46: 16797 | G46: 0.3 | H46: -2.1 | I46: 0
A47: 8 輸送用機器 | B47: =VLOOKUP(A47,'3'!A:B,2,0) -> 수송용 기기 | F47: 372617 | G47: 7.1 | H47: -1.2 | I47: -0.1
A48: 自動車 | B48: =VLOOKUP(A48,'3'!A:B,2,0) -> 자동차 | C48: 台(대) | D48: 69636 | E48: -17.8 | F48: 210720 | G48: 4 | H48: -6.6 | I48: -0.3
A49: （乗用車） | B49: =VLOOKUP(A49,'3'!A:B,2,0) -> 승용차 | C49: 台(대) | D49: 53084 | E49: -19.1 | F49: 173502 | G49: 3.3 | H49: -6.9 | I49: -0.3
A50: （バス・トラック） | B50: =VLOOKUP(A50,'3'!A:B,2,0) -> 버스 및 트럭 | C50: 台(대) | D50: 14064 | E50: -12.7 | F50: 34623 | G50: 0.7 | H50: -5.3 | I50: 0
A51: 自動車の部分品 | B51: =VLOOKUP(A51,'3'!A:B,2,0) -> 자동차의 부분품 | C51: トン(톤) | D51: 70448 | E51: -7.5 | F51: 112192 | G51: 2.1 | H51: -9.2 | I51: -0.2
A52: 二輪自動車 | B52: =VLOOKUP(A52,'3'!A:B,2,0) -> 이륜자동차 | C52: 千台(천대) | D52: 15 | E52: 54 | F52: 4084 | G52: 0.1 | H52: 105 | I52: 0
A53: 航空機類 | B53: =VLOOKUP(A53,'3'!A:B,2,0) -> 항공기류 | F53: 1699 | G53: 0 | H53: 3.1 | I53: 0
A54: 船舶 | B54: =VLOOKUP(A54,'3'!A:B,2,0) -> 선박 | C54: 総トン(총톤) | D54: 180077 | E54: 261.6 | F54: 31609 | G54: 0.6 | H54: 197.3 | I54: 0.4
A55: 9 その他 | B55: =VLOOKUP(A55,'3'!A:B,2,0) -> 기타 | F55: 1156018 | G55: 22.1 | H55: 11.2 | I55: 2.3
A56: 科学光学機器 | B56: =VLOOKUP(A56,'3'!A:B,2,0) -> 과학 광학 기기 | F56: 135433 | G56: 2.6 | H56: 3.3 | I56: 0.1
A57: 写真用・映画用材料 | B57: =VLOOKUP(A57,'3'!A:B,2,0) -> 사진용 및 영화용 재료 | F57: 57560 | G57: 1.1 | H57: 18.6 | I57: 0.2
A58: （注）「伸率」は対前年伸率（％）を示す。ただし「＊」を付した数値は、前年に対する倍率を示す。
A59: =HLOOKUP(A58,'4'!59:60,2,0) -> 변화율은 전년대비 변화율을 나타냅니다. *를 붙인 수치는 전년대비 배율을 나타냅니다.
A61: 「増減寄与度」は前年に対する増減寄与度。
A62: =HLOOKUP(A61,'4'!62:63,2,0) -> 증감 기여도는 전년대비 증감 기여도입니다.

Sheet 8
A1: 主要地域（国）別商品別輸出(中華人民共和国)
A2: =VLOOKUP(A1,目次!B:C,2,0) -> 주요 지역, 국가별 및 상품별 수출, 중국
A3: （単位：百万円、％）
A4: 단위: 백만엔, %
C5: 単位 | D5: 数量 | E5: 伸率 | F5: 価額 | G5: 構成比 | H5: 伸率 | I5: 増減寄与度
A6: 品名 | B6: =VLOOKUP(A6,'3'!A:B,2,0) -> 품명 | C6: =HLOOKUP(C5,'4'!5:6,2,0) -> 단위 | D6: =HLOOKUP(D5,'4'!5:6,2,0) -> 수량 | E6: =HLOOKUP(E5,'4'!5:6,2,0) -> 변화율 | F6: =HLOOKUP(F5,'4'!5:6,2,0) -> 가액 | G6: =HLOOKUP(G5,'4'!5:6,2,0) -> 구성비 | H6: =HLOOKUP(H5,'4'!5:6,2,0) -> 변화율 | I6: =HLOOKUP(I5,'4'!5:6,2,0) -> 증감 기여도
A7: 総額 | B7: =VLOOKUP(A7,'3'!A:B,2,0) -> 총액 | F7: 1619924 | G7: 100 | H7: -2.5 | I7: -2.5
A8: 1 食料品 | B8: =VLOOKUP(A8,'3'!A:B,2,0) -> 식료품 | F8: 10448 | G8: 0.6 | H8: -5.9 | I8: 0
A9: 2 原料品 | B9: =VLOOKUP(A9,'3'!A:B,2,0) -> 원료품 | F9: 72428 | G9: 4.5 | H9: 27.7 | I9: 0.9
A10: 3 鉱物性燃料 | B10: =VLOOKUP(A10,'3'!A:B,2,0) -> 광물성 원료 | F10: 23953 | G10: 1.5 | H10: 0.7 | I10: 0
A11: 4 化学製品 | B11: =VLOOKUP(A11,'3'!A:B,2,0) -> 화학제품 | F11: 297214 | G11: 18.3 | H11: -1 | I11: -0.2
A12: 有機化合物 | B12: =VLOOKUP(A12,'3'!A:B,2,0) -> 유기화합물 | F12: 48722 | G12: 3 | H12: -23.6 | I12: -0.9
A13: 医薬品 | B13: =VLOOKUP(A13,'3'!A:B,2,0) -> 의약품 | C13: ＫＧ | D13: 1178355 | E13: -20.5 | F13: 22664 | G13: 1.4 | H13: 2.1 | I13: 0
A14: プラスチック | B14: =VLOOKUP(A14,'3'!A:B,2,0) -> 플라스틱 | C14: トン(톤) | D14: 158759 | E14: -3.1 | F14: 113528 | G14: 7 | H14: 4.4 | I14: 0.3
A15: 5 原料別製品 | B15: =VLOOKUP(A15,'3'!A:B,2,0) -> 원료별 제품 | F15: 168408 | G15: 10.4 | H15: -13.9 | I15: -1.6
A16: 鉄鋼 | B16: =VLOOKUP(A16,'3'!A:B,2,0) -> 철강 | C16: 千トン(톤) | D16: 185 | E16: -1.4 | F16: 37783 | G16: 2.3 | H16: -7.6 | I16: -0.2
A17: 非鉄金属 | B17: =VLOOKUP(A17,'3'!A:B,2,0) -> 비철금속 | C17: トン(톤) | D17: 26738 | E17: -32.1 | F17: 55173 | G17: 3.4 | H17: -26.8 | I17: -1.2
A18: 金属製品 | B18: =VLOOKUP(A18,'3'!A:B,2,0) -> 금속제품 | F18: 22345 | G18: 1.4 | H18: -10.1 | I18: -0.2
A19: 織物用糸・繊維製品 | B19: =VLOOKUP(A19,'3'!A:B,2,0) -> 직물용 실 및 섬유제품 | F19: 18768 | G19: 1.2 | H19: -8.2 | I19: -0.1
A20: 非金属鉱物製品 | B20: =VLOOKUP(A20,'3'!A:B,2,0) -> 비금속 철물제품 | F20: 20735 | G20: 1.3 | H20: 10.2 | I20: 0.1
A21: ゴム製品 | B21: =VLOOKUP(A21,'3'!A:B,2,0) -> 고무제품 | C21: トン(톤) | D21: 3324 | E21: -31 | F21: 6443 | G21: 0.4 | H21: -21.2 | I21: -0.1
A22: 紙類・紙製品 | B22: =VLOOKUP(A22,'3'!A:B,2,0) -> 종이류 및 종이제품 | C22: トン(톤) | D22: 55923 | E22: 31.4 | F22: 6776 | G22: 0.4 | H22: 2.8 | I22: 0
A23: 6 一般機械 | B23: =VLOOKUP(A23,'3'!A:B,2,0) -> 일반 기계 | F23: 354538 | G23: 21.9 | H23: -6.6 | I23: -1.5
A24: 原動機 | B24: =VLOOKUP(A24,'3'!A:B,2,0) -> 원동기 | C24: トン(톤) | D24: 13840 | E24: 19.1 | F24: 35541 | G24: 2.2 | H24: 15.8 | I24: 0.3
A25: 電算機類（含周辺機器） | B25: =VLOOKUP(A25,'3'!A:B,2,0) -> 전산기류, 주변기기 포함 | C25: 千台(천대) | D25: 31 | E25: -31.9 | F25: 1849 | G25: 0.1 | H25: -4.8 | I25: 0
A26: 電算機類の部分品 | B26: =VLOOKUP(A26,'3'!A:B,2,0) -> 전산기류의 부분품 | C26: トン(톤) | D26: 1172 | E26: -24.1 | F26: 16063 | G26: 1 | H26: 6.2 | I26: 0.1
A27: 半導体等製造装置 | B27: =VLOOKUP(A27,'3'!A:B,2,0) -> 반도체 등 제조 장치 | C27: トン(톤) | D27: 4959 | E27: -4.2 | F27: 139874 | G27: 8.6 | H27: -14.8 | I27: -1.5
A28: 金属加工機械 | B28: =VLOOKUP(A28,'3'!A:B,2,0) -> 금속 가공 기계 | F28: 25793 | G28: 1.6 | H28: 6 | I28: 0.1
A29: ポンプ・遠心分離機 | B29: =VLOOKUP(A29,'3'!A:B,2,0) -> 펌프 및 원심분리기 | F29: 24558 | G29: 1.5 | H29: -9 | I29: -0.1
A30: 建設用・鉱山用機械 | B30: =VLOOKUP(A30,'3'!A:B,2,0) -> 건설용 및 광산용 기계 | F30: 1417 | G30: 0.1 | H30: 51.2 | I30: 0
A31: 荷役機械 | B31: =VLOOKUP(A31,'3'!A:B,2,0) -> 하역 기계 | F31: 4088 | G31: 0.3 | H31: -12.4 | I31: 0
A32: 加熱用・冷却用機器 | B32: =VLOOKUP(A32,'3'!A:B,2,0) -> 가열용 및 냉각용 기기 | F32: 5261 | G32: 0.3 | H32: -9.4 | I32: 0
A33: 繊維機械 | B33: =VLOOKUP(A33,'3'!A:B,2,0) -> 섬유 기계 | F33: 13831 | G33: 0.9 | H33: 14.3 | I33: 0.1
A34: ベアリング | B34: =VLOOKUP(A34,'3'!A:B,2,0) -> 베어링 | C34: トン(톤) | D34: 3752 | E34: -0.8 | F34: 10034 | G34: 0.6 | H34: 7.5 | I34: 0
A35: 7 電気機器 | B35: =VLOOKUP(A35,'3'!A:B,2,0) -> 전기 기기 | F35: 345815 | G35: 21.3 | H35: 1.7 | I35: 0.3
A36: 半導体等電子部品 | B36: =VLOOKUP(A36,'3'!A:B,2,0) -> 반도체 등 전자부품 | F36: 131742 | G36: 8.1 | H36: 22.8 | I36: 1.5
A37: （ＩＣ） | B37: =VLOOKUP(A37,'3'!A:B,2,0) -> IC | C37: 百万個(백만개) | D37: 2484 | E37: 5.3 | F37: 92265 | G37: 5.7 | H37: 21.1 | I37: 1
A38: 音響・映像機器 | B38: =VLOOKUP(A38,'3'!A:B,2,0) -> 음향 및 영상 기기 | C38: 千台(천대) | D38: 5480 | E38: -1.5 | F38: 17576 | G38: 1.1 | H38: -14.5 | I38: -0.2
A39: （映像記録・再生機器） | B39: =VLOOKUP(A39,'3'!A:B,2,0) -> 영상 기록 및 재생 기기 | C39: 千台(천대) | D39: 109 | E39: 29.4 | F39: 7403 | G39: 0.5 | H39: -11 | I39: -0.1
A40: （テレビ受像機） | B40: =VLOOKUP(A40,'3'!A:B,2,0) -> TV 수상기 | C40: 千台(천대) | D40: 24 | E40: 56.8 | F40: 571 | G40: 0 | H40: 13.1 | I40: 0
A41: 音響・映像機器の部分品 | B41: =VLOOKUP(A41,'3'!A:B,2,0) -> 음향 및 영상 기기의 부분품 | F41: 3229 | G41: 0.2 | H41: -6.9 | I41: 0
A42: 重電機器 | B42: =VLOOKUP(A42,'3'!A:B,2,0) -> 중전 기기 | F42: 27298 | G42: 1.7 | H42: -12.8 | I42: -0.2
A43: 通信機 | B43: =VLOOKUP(A43,'3'!A:B,2,0) -> 통신기 | F43: 2974 | G43: 0.2 | H43: -58 | I43: -0.2
A44: 電気計測機器 | B44: =VLOOKUP(A44,'3'!A:B,2,0) -> 전기 계측 기기 | F44: 40978 | G44: 2.5 | H44: 3.7 | I44: 0.1
A45: 電気回路等の機器 | B45: =VLOOKUP(A45,'3'!A:B,2,0) -> 전기회로 등의 기기 | F45: 51000 | G45: 3.1 | H45: -4.4 | I45: -0.1
A46: 電池 | B46: =VLOOKUP(A46,'3'!A:B,2,0) -> 전지 | F46: 4680 | G46: 0.3 | H46: -16.6 | I46: -0.1
A47: 8 輸送用機器 | B47: =VLOOKUP(A47,'3'!A:B,2,0) -> 수송용 기기 | F47: 102929 | G47: 6.4 | H47: -14.9 | I47: -1.1
A48: 自動車 | B48: =VLOOKUP(A48,'3'!A:B,2,0) -> 자동차 | C48: 台(대) | D48: 14711 | E48: -11.9 | F48: 69134 | G48: 4.3 | H48: -6.3 | I48: -0.3
A49: （乗用車） | B49: =VLOOKUP(A49,'3'!A:B,2,0) -> 승용차 | C49: 台(대) | D49: 14657 | E49: -12.1 | F49: 68865 | G49: 4.3 | H49: -6.6 | I49: -0.3
A50: （バス・トラック） | B50: =VLOOKUP(A50,'3'!A:B,2,0) -> 버스 및 트럭 | C50: 台(대) | D50: 54 | E50: 285.7 | F50: 269 | G50: 0 | H50: 349.9 | I50: 0
A51: 自動車の部分品 | B51: =VLOOKUP(A51,'3'!A:B,2,0) -> 자동차의 부분품 | C51: トン(톤) | D51: 16098 | E51: -26.2 | F51: 30688 | G51: 1.9 | H51: -28.6 | I51: -0.7
A52: 二輪自動車 | B52: =VLOOKUP(A52,'3'!A:B,2,0) -> 이륜자동차 | C52: 千台(천대) | D52: 1 | E52: 150.8 | F52: 784 | G52: 0 | H52: 178.4 | I52: 0
A53: 航空機類 | B53: =VLOOKUP(A53,'3'!A:B,2,0) -> 항공기류 | F53: 348 | G53: 0 | H53: -26.7 | I53: 0
A54: 船舶 | B54: =VLOOKUP(A54,'3'!A:B,2,0) -> 선박 | C54: 総トン(총톤) | D54: - | F54: - | G54: - | I54: -
A55: 9 その他 | B55: =VLOOKUP(A55,'3'!A:B,2,0) -> 기타 | F55: 244190 | G55: 15.1 | H55: 4.4 | I55: 0.6
A56: 科学光学機器 | B56: =VLOOKUP(A56,'3'!A:B,2,0) -> 과학 광학 기기 | F56: 63042 | G56: 3.9 | H56: 7.5 | I56: 0.3
A57: 写真用・映画用材料 | B57: =VLOOKUP(A57,'3'!A:B,2,0) -> 사진용 및 영화용 재료 | F57: 24032 | G57: 1.5 | H57: 12.2 | I57: 0.2
A58: （注）「伸率」は対前年伸率（％）を示す。ただし「＊」を付した数値は、前年に対する倍率を示す。
A59: =HLOOKUP(A58,'4'!59:60,2,0) -> 변화율은 전년대비 변화율을 나타냅니다. *를 붙인 수치는 전년대비 배율을 나타냅니다.
A61: 「増減寄与度」は前年に対する増減寄与度。
A62: =HLOOKUP(A61,'4'!62:63,2,0) -> 증감 기여도는 전년대비 증감 기여도입니다.

Sheet 9
A1: 主要地域（国）別商品別輸出(大韓民国)
A2: =VLOOKUP(A1,目次!B:C,2,0) -> 주요 지역, 국가별 및 상품별 수출, 대한민국
A3: （単位：百万円、％）
A4: 단위: 백만엔, %
C5: 単位 | D5: 数量 | E5: 伸率 | F5: 価額 | G5: 構成比 | H5: 伸率 | I5: 増減寄与度
A6: 品名 | B6: =VLOOKUP(A6,'3'!A:B,2,0) -> 품명 | C6: =HLOOKUP(C5,'4'!5:6,2,0) -> 단위 | D6: =HLOOKUP(D5,'4'!5:6,2,0) -> 수량 | E6: =HLOOKUP(E5,'4'!5:6,2,0) -> 변화율 | F6: =HLOOKUP(F5,'4'!5:6,2,0) -> 가액 | G6: =HLOOKUP(G5,'4'!5:6,2,0) -> 구성비 | H6: =HLOOKUP(H5,'4'!5:6,2,0) -> 변화율 | I6: =HLOOKUP(I5,'4'!5:6,2,0) -> 증감 기여도
A7: 総額 | B7: =VLOOKUP(A7,'3'!A:B,2,0) -> 총액 | F7: 585351 | G7: 100 | H7: -1.7 | I7: -1.7
A8: 1 食料品 | B8: =VLOOKUP(A8,'3'!A:B,2,0) -> 식료품 | F8: 10016 | G8: 1.7 | H8: 23.2 | I8: 0.3
A9: 2 原料品 | B9: =VLOOKUP(A9,'3'!A:B,2,0) -> 원료품 | F9: 15146 | G9: 2.6 | H9: 1.5 | I9: 0
A10: 3 鉱物性燃料 | B10: =VLOOKUP(A10,'3'!A:B,2,0) -> 광물성 원료 | F10: 27471 | G10: 4.7 | H10: -10.7 | I10: -0.6
A11: 4 化学製品 | B11: =VLOOKUP(A11,'3'!A:B,2,0) -> 화학제품 | F11: 108656 | G11: 18.6 | H11: 4.3 | I11: 0.8
A12: 有機化合物 | B12: =VLOOKUP(A12,'3'!A:B,2,0) -> 유기화합물 | F12: 24862 | G12: 4.2 | H12: 14.4 | I12: 0.5
A13: 医薬品 | B13: =VLOOKUP(A13,'3'!A:B,2,0) -> 의약품 | C13: ＫＧ | D13: 1068420 | E13: -22 | F13: 5507 | G13: 0.9 | H13: 9.1 | I13: 0.1
A14: プラスチック | B14: =VLOOKUP(A14,'3'!A:B,2,0) -> 플라스틱 | C14: トン(톤) | D14: 16756 | E14: 3.8 | F14: 26624 | G14: 4.5 | H14: -11.1 | I14: -0.6
A15: 5 原料別製品 | B15: =VLOOKUP(A15,'3'!A:B,2,0) -> 원료별 제품 | F15: 84466 | G15: 14.4 | H15: 0.9 | I15: 0.1
A16: 鉄鋼 | B16: =VLOOKUP(A16,'3'!A:B,2,0) -> 철강 | C16: 千トン(톤) | D16: 352 | E16: -16.2 | F16: 36571 | G16: 6.2 | H16: -11.6 | I16: -0.8
A17: 非鉄金属 | B17: =VLOOKUP(A17,'3'!A:B,2,0) -> 비철금속 | C17: トン(톤) | D17: 5274 | E17: -5 | F17: 22027 | G17: 3.8 | H17: 40.8 | I17: 1.1
A18: 金属製品 | B18: =VLOOKUP(A18,'3'!A:B,2,0) -> 금속제품 | F18: 6544 | G18: 1.1 | H18: -1.8 | I18: 0
A19: 織物用糸・繊維製品 | B19: =VLOOKUP(A19,'3'!A:B,2,0) -> 직물용 실 및 섬유제품 | F19: 4948 | G19: 0.8 | H19: 5.4 | I19: 0
A20: 非金属鉱物製品 | B20: =VLOOKUP(A20,'3'!A:B,2,0) -> 비금속 철물제품 | F20: 9334 | G20: 1.6 | H20: -8 | I20: -0.1
A21: ゴム製品 | B21: =VLOOKUP(A21,'3'!A:B,2,0) -> 고무제품 | C21: トン(톤) | D21: 1127 | E21: -35.4 | F21: 1375 | G21: 0.2 | H21: -20.8 | I21: -0.1
A22: 紙類・紙製品 | B22: =VLOOKUP(A22,'3'!A:B,2,0) -> 종이류 및 종이제품 | C22: トン(톤) | D22: 20109 | E22: 1.5 | F22: 3625 | G22: 0.6 | H22: 5.4 | I22: 0
A23: 6 一般機械 | B23: =VLOOKUP(A23,'3'!A:B,2,0) -> 일반 기계 | F23: 112109 | G23: 19.2 | H23: 5.9 | I23: 1
A24: 原動機 | B24: =VLOOKUP(A24,'3'!A:B,2,0) -> 원동기 | C24: トン(톤) | D24: 1683 | E24: -3.2 | F24: 6986 | G24: 1.2 | H24: 34.9 | I24: 0.3
A25: 電算機類（含周辺機器） | B25: =VLOOKUP(A25,'3'!A:B,2,0) -> 전산기류, 주변기기 포함 | C25: 千台(천대) | D25: 6 | E25: -8 | F25: 1057 | G25: 0.2 | H25: 23.5 | I25: 0
A26: 電算機類の部分品 | B26: =VLOOKUP(A26,'3'!A:B,2,0) -> 전산기류의 부분품 | C26: トン(톤) | D26: 188 | E26: -18.4 | F26: 1958 | G26: 0.3 | H26: 4.6 | I26: 0
A27: 半導体等製造装置 | B27: =VLOOKUP(A27,'3'!A:B,2,0) -> 반도체 등 제조 장치 | C27: トン(톤) | D27: 1639 | E27: -6.1 | F27: 61766 | G27: 10.6 | H27: 11 | I27: 1
A28: 金属加工機械 | B28: =VLOOKUP(A28,'3'!A:B,2,0) -> 금속 가공 기계 | F28: 4584 | G28: 0.8 | H28: -13.7 | I28: -0.1
A29: ポンプ・遠心分離機 | B29: =VLOOKUP(A29,'3'!A:B,2,0) -> 펌프 및 원심분리기 | F29: 9718 | G29: 1.7 | H29: 1.5 | I29: 0
A30: 建設用・鉱山用機械 | B30: =VLOOKUP(A30,'3'!A:B,2,0) -> 건설용 및 광산용 기계 | F30: 892 | G30: 0.2 | H30: 55.4 | I30: 0.1
A31: 荷役機械 | B31: =VLOOKUP(A31,'3'!A:B,2,0) -> 하역 기계 | F31: 2315 | G31: 0.4 | H31: -20.3 | I31: -0.1
A32: 加熱用・冷却用機器 | B32: =VLOOKUP(A32,'3'!A:B,2,0) -> 가열용 및 냉각용 기기 | F32: 1764 | G32: 0.3 | H32: -2.5 | I32: 0
A33: 繊維機械 | B33: =VLOOKUP(A33,'3'!A:B,2,0) -> 섬유 기계 | F33: 215 | G33: 0 | H33: 27 | I33: 0
A34: ベアリング | B34: =VLOOKUP(A34,'3'!A:B,2,0) -> 베어링 | C34: トン(톤) | D34: 1116 | E34: -13.6 | F34: 2586 | G34: 0.4 | H34: -13.6 | I34: -0.1
A35: 7 電気機器 | B35: =VLOOKUP(A35,'3'!A:B,2,0) -> 전기 기기 | F35: 113944 | G35: 19.5 | H35: -4.8 | I35: -1
A36: 半導体等電子部品 | B36: =VLOOKUP(A36,'3'!A:B,2,0) -> 반도체 등 전자부품 | F36: 56741 | G36: 9.7 | H36: -1.2 | I36: -0.1
A37: （ＩＣ） | B37: =VLOOKUP(A37,'3'!A:B,2,0) -> IC | C37: 百万個(백만개) | D37: 328 | E37: 7.9 | F37: 51004 | G37: 8.7 | H37: 1.2 | I37: 0.1
A38: 音響・映像機器 | B38: =VLOOKUP(A38,'3'!A:B,2,0) -> 음향 및 영상 기기 | C38: 千台(천대) | D38: 12 | E38: -41.2 | F38: 1328 | G38: 0.2 | H38: 9 | I38: 0
A39: （映像記録・再生機器） | B39: =VLOOKUP(A39,'3'!A:B,2,0) -> 영상 기록 및 재생 기기 | C39: 千台(천대) | D39: 8 | E39: 32.4 | F39: 1149 | G39: 0.2 | H39: 19.1 | I39: 0
A40: （テレビ受像機） | B40: =VLOOKUP(A40,'3'!A:B,2,0) -> TV 수상기 | C40: 千台(천대) | D40: 0 | E40: 7.7 | F40: 41 | G40: 0 | H40: -30.3 | I40: 0
A41: 音響・映像機器の部分品 | B41: =VLOOKUP(A41,'3'!A:B,2,0) -> 음향 및 영상 기기의 부분품 | F41: 207 | G41: 0 | H41: -0.8 | I41: 0
A42: 重電機器 | B42: =VLOOKUP(A42,'3'!A:B,2,0) -> 중전 기기 | F42: 5411 | G42: 0.9 | H42: -1.7 | I42: 0
A43: 通信機 | B43: =VLOOKUP(A43,'3'!A:B,2,0) -> 통신기 | F43: 875 | G43: 0.1 | H43: 12.3 | I43: 0
A44: 電気計測機器 | B44: =VLOOKUP(A44,'3'!A:B,2,0) -> 전기 계측 기기 | F44: 19098 | G44: 3.3 | H44: -10.7 | I44: -0.4
A45: 電気回路等の機器 | B45: =VLOOKUP(A45,'3'!A:B,2,0) -> 전기회로 등의 기기 | F45: 10876 | G45: 1.9 | H45: -16.1 | I45: -0.4
A46: 電池 | B46: =VLOOKUP(A46,'3'!A:B,2,0) -> 전지 | F46: 577 | G46: 0.1 | H46: 46.4 | I46: 0
A47: 8 輸送用機器 | B47: =VLOOKUP(A47,'3'!A:B,2,0) -> 수송용 기기 | F47: 13285 | G47: 2.3 | H47: -9.5 | I47: -0.2
A48: 自動車 | B48: =VLOOKUP(A48,'3'!A:B,2,0) -> 자동차 | C48: 台(대) | D48: 2633 | E48: -7.7 | F48: 10306 | G48: 1.8 | H48: -1.3 | I48: 0
A49: （乗用車） | B49: =VLOOKUP(A49,'3'!A:B,2,0) -> 승용차 | C49: 台(대) | D49: 2531 | E49: -3.7 | F49: 10082 | G49: 1.7 | H49: 1.7 | I49: 0
A50: （バス・トラック） | B50: =VLOOKUP(A50,'3'!A:B,2,0) -> 버스 및 트럭 | C50: 台(대) | D50: 102 | E50: -54.9 | F50: 225 | G50: 0 | H50: -57.9 | I50: -0.1
A51: 自動車の部分品 | B51: =VLOOKUP(A51,'3'!A:B,2,0) -> 자동차의 부분품 | C51: トン(톤) | D51: 1203 | E51: -24.5 | F51: 2367 | G51: 0.4 | H51: -15.8 | I51: -0.1
A52: 二輪自動車 | B52: =VLOOKUP(A52,'3'!A:B,2,0) -> 이륜자동차 | C52: 千台(천대) | D52: 0 | E52: 137.6 | F52: 258 | G52: 0 | H52: 54.7 | I52: 0
A53: 航空機類 | B53: =VLOOKUP(A53,'3'!A:B,2,0) -> 항공기류 | F53: 86 | G53: 0 | H53: -64.6 | I53: 0
A54: 船舶 | B54: =VLOOKUP(A54,'3'!A:B,2,0) -> 선박 | C54: 総トン(총톤) | D54: - | E54: ZENGEN | F54: - | G54: - | H54: ZENGEN | I54: -0.1
A55: 9 その他 | B55: =VLOOKUP(A55,'3'!A:B,2,0) -> 기타 | F55: 100258 | G55: 17.1 | H55: -11.9 | I55: -2.3
A56: 科学光学機器 | B56: =VLOOKUP(A56,'3'!A:B,2,0) -> 과학 광학 기기 | F56: 23020 | G56: 3.9 | H56: 8.9 | I56: 0.3
A57: 写真用・映画用材料 | B57: =VLOOKUP(A57,'3'!A:B,2,0) -> 사진용 및 영화용 재료 | F57: 10067 | G57: 1.7 | H57: 36.9 | I57: 0.5
A58: （注）「伸率」は対前年伸率（％）を示す。ただし「＊」を付した数値は、前年に対する倍率を示す。
A59: =HLOOKUP(A58,'4'!59:60,2,0) -> 변화율은 전년대비 변화율을 나타냅니다. *를 붙인 수치는 전년대비 배율을 나타냅니다.
A61: 「増減寄与度」は前年に対する増減寄与度。
A62: =HLOOKUP(A61,'4'!62:63,2,0) -> 증감 기여도는 전년대비 증감 기여도입니다.

Sheet 10
A1: 主要地域（国）別商品別輸出(ＡＳＥＡＮ)
A2: =VLOOKUP(A1,目次!B:C,2,0) -> 주요 지역, 국가별 및 상품별 수출, 아세안
A3: （単位：百万円、％）
A4: 단위: 백만엔, %
C5: 単位 | D5: 数量 | E5: 伸率 | F5: 価額 | G5: 構成比 | H5: 伸率 | I5: 増減寄与度
A6: 品名 | B6: =VLOOKUP(A6,'3'!A:B,2,0) -> 품명 | C6: =HLOOKUP(C5,'4'!5:6,2,0) -> 단위 | D6: =HLOOKUP(D5,'4'!5:6,2,0) -> 수량 | E6: =HLOOKUP(E5,'4'!5:6,2,0) -> 변화율 | F6: =HLOOKUP(F5,'4'!5:6,2,0) -> 가액 | G6: =HLOOKUP(G5,'4'!5:6,2,0) -> 구성비 | H6: =HLOOKUP(H5,'4'!5:6,2,0) -> 변화율 | I6: =HLOOKUP(I5,'4'!5:6,2,0) -> 증감 기여도
A7: 総額 | B7: =VLOOKUP(A7,'3'!A:B,2,0) -> 총액 | F7: 1406357 | G7: 100 | H7: 4.5 | I7: 4.5
A8: 1 食料品 | B8: =VLOOKUP(A8,'3'!A:B,2,0) -> 식료품 | F8: 24607 | G8: 1.7 | H8: 11.7 | I8: 0.2
A9: 2 原料品 | B9: =VLOOKUP(A9,'3'!A:B,2,0) -> 원료품 | F9: 42554 | G9: 3 | H9: 10.5 | I9: 0.3
A10: 3 鉱物性燃料 | B10: =VLOOKUP(A10,'3'!A:B,2,0) -> 광물성 원료 | F10: 20500 | G10: 1.5 | H10: -35 | I10: -0.8
A11: 4 化学製品 | B11: =VLOOKUP(A11,'3'!A:B,2,0) -> 화학제품 | F11: 129938 | G11: 9.2 | H11: 5.1 | I11: 0.5
A12: 有機化合物 | B12: =VLOOKUP(A12,'3'!A:B,2,0) -> 유기화합물 | F12: 14237 | G12: 1 | H12: -8 | I12: -0.1
A13: 医薬品 | B13: =VLOOKUP(A13,'3'!A:B,2,0) -> 의약품 | C13: ＫＧ | D13: 376832 | E13: 37.2 | F13: 5118 | G13: 0.4 | H13: 22.7 | I13: 0.1
A14: プラスチック | B14: =VLOOKUP(A14,'3'!A:B,2,0) -> 플라스틱 | C14: トン(톤) | D14: 106358 | E14: -7 | F14: 42344 | G14: 3 | H14: -2.2 | I14: -0.1
A15: 5 原料別製品 | B15: =VLOOKUP(A15,'3'!A:B,2,0) -> 원료별 제품 | F15: 243791 | G15: 17.3 | H15: -0.2 | I15: 0
A16: 鉄鋼 | B16: =VLOOKUP(A16,'3'!A:B,2,0) -> 철강 | C16: 千トン(톤) | D16: 762 | E16: -13.3 | F16: 90779 | G16: 6.5 | H16: -18.3 | I16: -1.5
A17: 非鉄金属 | B17: =VLOOKUP(A17,'3'!A:B,2,0) -> 비철금속 | C17: トン(톤) | D17: 33033 | E17: 8 | F17: 67262 | G17: 4.8 | H17: 38.5 | I17: 1.4
A18: 金属製品 | B18: =VLOOKUP(A18,'3'!A:B,2,0) -> 금속제품 | F18: 24963 | G18: 1.8 | H18: 1.3 | I18: 0
A19: 織物用糸・繊維製品 | B19: =VLOOKUP(A19,'3'!A:B,2,0) -> 직물용 실 및 섬유제품 | F19: 21830 | G19: 1.6 | H19: 1.4 | I19: 0
A20: 非金属鉱物製品 | B20: =VLOOKUP(A20,'3'!A:B,2,0) -> 비금속 철물제품 | F20: 15200 | G20: 1.1 | H20: 11 | I20: 0.1
A21: ゴム製品 | B21: =VLOOKUP(A21,'3'!A:B,2,0) -> 고무제품 | C21: トン(톤) | D21: 13332 | E21: -13.4 | F21: 13933 | G21: 1 | H21: -5.6 | I21: -0.1
A22: 紙類・紙製品 | B22: =VLOOKUP(A22,'3'!A:B,2,0) -> 종이류 및 종이제품 | C22: トン(톤) | D22: 54499 | E22: -2.9 | F22: 8445 | G22: 0.6 | H22: -3.5 | I22: 0
A23: 6 一般機械 | B23: =VLOOKUP(A23,'3'!A:B,2,0) -> 일반 기계 | F23: 228499 | G23: 16.2 | H23: 10.7 | I23: 1.6
A24: 原動機 | B24: =VLOOKUP(A24,'3'!A:B,2,0) -> 원동기 | C24: トン(톤) | D24: 18530 | E24: -1.7 | F24: 32371 | G24: 2.3 | H24: 6.6 | I24: 0.2
A25: 電算機類（含周辺機器） | B25: =VLOOKUP(A25,'3'!A:B,2,0) -> 전산기류, 주변기기 포함 | C25: 千台(천대) | D25: 300 | E25: 61.4 | F25: 3372 | G25: 0.2 | H25: 24 | I25: 0
A26: 電算機類の部分品 | B26: =VLOOKUP(A26,'3'!A:B,2,0) -> 전산기류의 부분품 | C26: トン(톤) | D26: 1922 | E26: -6.2 | F26: 21834 | G26: 1.6 | H26: 2.2 | I26: 0
A27: 半導体等製造装置 | B27: =VLOOKUP(A27,'3'!A:B,2,0) -> 반도체 등 제조 장치 | C27: トン(톤) | D27: 911 | E27: 82.3 | F27: 39454 | G27: 2.8 | H27: 86.2 | I27: 1.4
A28: 金属加工機械 | B28: =VLOOKUP(A28,'3'!A:B,2,0) -> 금속 가공 기계 | F28: 11114 | G28: 0.8 | H28: 11.3 | I28: 0.1
A29: ポンプ・遠心分離機 | B29: =VLOOKUP(A29,'3'!A:B,2,0) -> 펌프 및 원심분리기 | F29: 19436 | G29: 1.4 | H29: -10.7 | I29: -0.2
A30: 建設用・鉱山用機械 | B30: =VLOOKUP(A30,'3'!A:B,2,0) -> 건설용 및 광산용 기계 | F30: 10979 | G30: 0.8 | H30: -27.4 | I30: -0.3
A31: 荷役機械 | B31: =VLOOKUP(A31,'3'!A:B,2,0) -> 하역 기계 | F31: 13648 | G31: 1 | H31: -12.3 | I31: -0.1
A32: 加熱用・冷却用機器 | B32: =VLOOKUP(A32,'3'!A:B,2,0) -> 가열용 및 냉각용 기기 | F32: 5325 | G32: 0.4 | H32: 9.6 | I32: 0
A33: 繊維機械 | B33: =VLOOKUP(A33,'3'!A:B,2,0) -> 섬유 기계 | F33: 4050 | G33: 0.3 | H33: 49.2 | I33: 0.1
A34: ベアリング | B34: =VLOOKUP(A34,'3'!A:B,2,0) -> 베어링 | C34: トン(톤) | D34: 3745 | E34: -1.8 | F34: 7149 | G34: 0.5 | H34: -0.8 | I34: 0
A35: 7 電気機器 | B35: =VLOOKUP(A35,'3'!A:B,2,0) -> 전기 기기 | F35: 300267 | G35: 21.4 | H35: 8.5 | I35: 1.8
A36: 半導体等電子部品 | B36: =VLOOKUP(A36,'3'!A:B,2,0) -> 반도체 등 전자부품 | F36: 128088 | G36: 9.1 | H36: 5.9 | I36: 0.5
A37: （ＩＣ） | B37: =VLOOKUP(A37,'3'!A:B,2,0) -> IC | C37: 百万個(백만개) | D37: 1509 | E37: -23.6 | F37: 91055 | G37: 6.5 | H37: 1 | I37: 0.1
A38: 音響・映像機器 | B38: =VLOOKUP(A38,'3'!A:B,2,0) -> 음향 및 영상 기기 | C38: 千台(천대) | D38: 3720 | E38: 36.8 | F38: 7732 | G38: 0.5 | H38: -3.9 | I38: 0
A39: （映像記録・再生機器） | B39: =VLOOKUP(A39,'3'!A:B,2,0) -> 영상 기록 및 재생 기기 | C39: 千台(천대) | D39: 116 | E39: 28.1 | F39: 5001 | G39: 0.4 | H39: 17.2 | I39: 0.1
A40: （テレビ受像機） | B40: =VLOOKUP(A40,'3'!A:B,2,0) -> TV 수상기 | C40: 千台(천대) | D40: 17 | E40: 12.2 | F40: 171 | G40: 0 | H40: -21.7 | I40: 0
A41: 音響・映像機器の部分品 | B41: =VLOOKUP(A41,'3'!A:B,2,0) -> 음향 및 영상 기기의 부분품 | F41: 4338 | G41: 0.3 | H41: 2.4 | I41: 0
A42: 重電機器 | B42: =VLOOKUP(A42,'3'!A:B,2,0) -> 중전 기기 | F42: 12485 | G42: 0.9 | H42: 5.2 | I42: 0
A43: 通信機 | B43: =VLOOKUP(A43,'3'!A:B,2,0) -> 통신기 | F43: 4933 | G43: 0.4 | H43: 10.6 | I43: 0
A44: 電気計測機器 | B44: =VLOOKUP(A44,'3'!A:B,2,0) -> 전기 계측 기기 | F44: 28102 | G44: 2 | H44: 10.4 | I44: 0.2
A45: 電気回路等の機器 | B45: =VLOOKUP(A45,'3'!A:B,2,0) -> 전기회로 등의 기기 | F45: 46477 | G45: 3.3 | H45: 19.2 | I45: 0.6
A46: 電池 | B46: =VLOOKUP(A46,'3'!A:B,2,0) -> 전지 | F46: 6150 | G46: 0.4 | H46: 17.8 | I46: 0.1
A47: 8 輸送用機器 | B47: =VLOOKUP(A47,'3'!A:B,2,0) -> 수송용 기기 | F47: 155762 | G47: 11.1 | H47: 4.4 | I47: 0.5
A48: 自動車 | B48: =VLOOKUP(A48,'3'!A:B,2,0) -> 자동차 | C48: 台(대) | D48: 24376 | E48: -24.3 | F48: 62928 | G48: 4.5 | H48: -14.8 | I48: -0.8
A49: （乗用車） | B49: =VLOOKUP(A49,'3'!A:B,2,0) -> 승용차 | C49: 台(대) | D49: 11068 | E49: -30.2 | F49: 36106 | G49: 2.6 | H49: -11.8 | I49: -0.4
A50: （バス・トラック） | B50: =VLOOKUP(A50,'3'!A:B,2,0) -> 버스 및 트럭 | C50: 台(대) | D50: 11001 | E50: -18.6 | F50: 25435 | G50: 1.8 | H50: -17.8 | I50: -0.4
A51: 自動車の部分品 | B51: =VLOOKUP(A51,'3'!A:B,2,0) -> 자동차의 부분품 | C51: トン(톤) | D51: 39482 | E51: -4.3 | F51: 55073 | G51: 3.9 | H51: -6.1 | I51: -0.3
A52: 二輪自動車 | B52: =VLOOKUP(A52,'3'!A:B,2,0) -> 이륜자동차 | C52: 千台(천대) | D52: 11 | E52: 33.8 | F52: 2258 | G52: 0.2 | H52: 99.3 | I52: 0.1
A53: 航空機類 | B53: =VLOOKUP(A53,'3'!A:B,2,0) -> 항공기류 | F53: 848 | G53: 0.1 | H53: 22.4 | I53: 0
A54: 船舶 | B54: =VLOOKUP(A54,'3'!A:B,2,0) -> 선박 | C54: 総トン(총톤) | D54: 176875 | E54: 266.6 | F54: 31109 | G54: 2.2 | H54: 233.9 | I54: 1.6
A55: 9 その他 | B55: =VLOOKUP(A55,'3'!A:B,2,0) -> 기타 | F55: 260441 | G55: 18.5 | H55: 3 | I55: 0.6
A56: 科学光学機器 | B56: =VLOOKUP(A56,'3'!A:B,2,0) -> 과학 광학 기기 | F56: 24449 | G56: 1.7 | H56: 2.6 | I56: 0
A57: 写真用・映画用材料 | B57: =VLOOKUP(A57,'3'!A:B,2,0) -> 사진용 및 영화용 재료 | F57: 4046 | G57: 0.3 | H57: 18.1 | I57: 0
A58: （注）「伸率」は対前年伸率（％）を示す。ただし「＊」を付した数値は、前年に対する倍率を示す。
A59: =HLOOKUP(A58,'4'!59:60,2,0) -> 변화율은 전년대비 변화율을 나타냅니다. *를 붙인 수치는 전년대비 배율을 나타냅니다.
A61: 「増減寄与度」は前年に対する増減寄与度。
A62: =HLOOKUP(A61,'4'!62:63,2,0) -> 증감 기여도는 전년대비 증감 기여도입니다.

Sheet 11
A1: 主要地域（国）別商品別輸出(中東)
A2: =VLOOKUP(A1,目次!B:C,2,0) -> 주요 지역, 국가별 및 상품별 수출, 중동
A3: （単位：百万円、％）
A4: 단위: 백만엔, %
C5: 単位 | D5: 数量 | E5: 伸率 | F5: 価額 | G5: 構成比 | H5: 伸率 | I5: 増減寄与度
A6: 品名 | B6: =VLOOKUP(A6,'3'!A:B,2,0) -> 품명 | C6: =HLOOKUP(C5,'4'!5:6,2,0) -> 단위 | D6: =HLOOKUP(D5,'4'!5:6,2,0) -> 수량 | E6: =HLOOKUP(E5,'4'!5:6,2,0) -> 변화율 | F6: =HLOOKUP(F5,'4'!5:6,2,0) -> 가액 | G6: =HLOOKUP(G5,'4'!5:6,2,0) -> 구성비 | H6: =HLOOKUP(H5,'4'!5:6,2,0) -> 변화율 | I6: =HLOOKUP(I5,'4'!5:6,2,0) -> 증감 기여도
A7: 総額 | B7: =VLOOKUP(A7,'3'!A:B,2,0) -> 총액 | F7: 463524 | G7: 100 | H7: -1.6 | I7: -1.6
A8: 1 食料品 | B8: =VLOOKUP(A8,'3'!A:B,2,0) -> 식료품 | F8: 1982 | G8: 0.4 | H8: 41.6 | I8: 0.1
A9: 2 原料品 | B9: =VLOOKUP(A9,'3'!A:B,2,0) -> 원료품 | F9: 1167 | G9: 0.3 | H9: -37 | I9: -0.1
A10: 3 鉱物性燃料 | B10: =VLOOKUP(A10,'3'!A:B,2,0) -> 광물성 원료 | F10: 436 | G10: 0.1 | H10: 13.6 | I10: 0
A11: 4 化学製品 | B11: =VLOOKUP(A11,'3'!A:B,2,0) -> 화학제품 | F11: 7277 | G11: 1.6 | H11: 14.8 | I11: 0.2
A12: 有機化合物 | B12: =VLOOKUP(A12,'3'!A:B,2,0) -> 유기화합물 | F12: 728 | G12: 0.2 | H12: 12.9 | I12: 0
A13: 医薬品 | B13: =VLOOKUP(A13,'3'!A:B,2,0) -> 의약품 | C13: ＫＧ | D13: 37587 | E13: 7.6 | F13: 556 | G13: 0.1 | H13: 53.3 | I13: 0
A14: プラスチック | B14: =VLOOKUP(A14,'3'!A:B,2,0) -> 플라스틱 | C14: トン(톤) | D14: 3775 | E14: -19.3 | F14: 2016 | G14: 0.4 | H14: -17.8 | I14: -0.1
A15: 5 原料別製品 | B15: =VLOOKUP(A15,'3'!A:B,2,0) -> 원료별 제품 | F15: 28790 | G15: 6.2 | H15: -12.2 | I15: -0.9
A16: 鉄鋼 | B16: =VLOOKUP(A16,'3'!A:B,2,0) -> 철강 | C16: 千トン(톤) | D16: 91 | E16: -15.9 | F16: 12174 | G16: 2.6 | H16: -26 | I16: -0.9
A17: 非鉄金属 | B17: =VLOOKUP(A17,'3'!A:B,2,0) -> 비철금속 | C17: トン(톤) | D17: 8 | E17: -92.5 | F17: 66 | G17: 0 | H17: -71.4 | I17: 0
A18: 金属製品 | B18: =VLOOKUP(A18,'3'!A:B,2,0) -> 금속제품 | F18: 2165 | G18: 0.5 | H18: 12.6 | I18: 0.1
A19: 織物用糸・繊維製品 | B19: =VLOOKUP(A19,'3'!A:B,2,0) -> 직물용 실 및 섬유제품 | F19: 5009 | G19: 1.1 | H19: -8.3 | I19: -0.1
A20: 非金属鉱物製品 | B20: =VLOOKUP(A20,'3'!A:B,2,0) -> 비금속 철물제품 | F20: 1590 | G20: 0.3 | H20: 24.8 | I20: 0.1
A21: ゴム製品 | B21: =VLOOKUP(A21,'3'!A:B,2,0) -> 고무제품 | C21: トン(톤) | D21: 11469 | E21: -2.5 | F21: 7533 | G21: 1.6 | H21: 5.1 | I21: 0.1
A22: 紙類・紙製品 | B22: =VLOOKUP(A22,'3'!A:B,2,0) -> 종이류 및 종이제품 | C22: トン(톤) | D22: 587 | E22: -27.9 | F22: 220 | G22: 0 | H22: -21.1 | I22: 0
A23: 6 一般機械 | B23: =VLOOKUP(A23,'3'!A:B,2,0) -> 일반 기계 | F23: 47239 | G23: 10.2 | H23: 10.1 | I23: 0.9
A24: 原動機 | B24: =VLOOKUP(A24,'3'!A:B,2,0) -> 원동기 | C24: トン(톤) | D24: 14034 | E24: -3.4 | F24: 13389 | G24: 2.9 | H24: -13.7 | I24: -0.5
A25: 電算機類（含周辺機器） | B25: =VLOOKUP(A25,'3'!A:B,2,0) -> 전산기류, 주변기기 포함 | C25: 千台(천대) | D25: 35 | E25: -22.1 | F25: 1260 | G25: 0.3 | H25: 251.8 | I25: 0.2
A26: 電算機類の部分品 | B26: =VLOOKUP(A26,'3'!A:B,2,0) -> 전산기류의 부분품 | C26: トン(톤) | D26: 212 | E26: 37.3 | F26: 1690 | G26: 0.4 | H26: 65.6 | I26: 0.1
A27: 半導体等製造装置 | B27: =VLOOKUP(A27,'3'!A:B,2,0) -> 반도체 등 제조 장치 | C27: トン(톤) | D27: 67 | E27: 132.8 | F27: 1414 | G27: 0.3 | H27: 101.1 | I27: 0.2
A28: 金属加工機械 | B28: =VLOOKUP(A28,'3'!A:B,2,0) -> 금속 가공 기계 | F28: 271 | G28: 0.1 | H28: -67 | I28: -0.1
A29: ポンプ・遠心分離機 | B29: =VLOOKUP(A29,'3'!A:B,2,0) -> 펌프 및 원심분리기 | F29: 8721 | G29: 1.9 | H29: -3.2 | I29: -0.1
A30: 建設用・鉱山用機械 | B30: =VLOOKUP(A30,'3'!A:B,2,0) -> 건설용 및 광산용 기계 | F30: 7120 | G30: 1.5 | H30: 81.8 | I30: 0.7
A31: 荷役機械 | B31: =VLOOKUP(A31,'3'!A:B,2,0) -> 하역 기계 | F31: 3630 | G31: 0.8 | H31: 6 | I31: 0
A32: 加熱用・冷却用機器 | B32: =VLOOKUP(A32,'3'!A:B,2,0) -> 가열용 및 냉각용 기기 | F32: 709 | G32: 0.2 | H32: 23.7 | I32: 0
A33: 繊維機械 | B33: =VLOOKUP(A33,'3'!A:B,2,0) -> 섬유 기계 | F33: 94 | G33: 0 | H33: 108.8 | I33: 0
A34: ベアリング | B34: =VLOOKUP(A34,'3'!A:B,2,0) -> 베어링 | C34: トン(톤) | D34: 575 | E34: -7.1 | F34: 1267 | G34: 0.3 | H34: 0.1 | I34: 0
A35: 7 電気機器 | B35: =VLOOKUP(A35,'3'!A:B,2,0) -> 전기 기기 | F35: 14664 | G35: 3.2 | H35: 11.8 | I35: 0.3
A36: 半導体等電子部品 | B36: =VLOOKUP(A36,'3'!A:B,2,0) -> 반도체 등 전자부품 | F36: 220 | G36: 0 | H36: 173.7 | I36: 0
A37: （ＩＣ） | B37: =VLOOKUP(A37,'3'!A:B,2,0) -> IC | C37: 百万個(백만개) | D37: 0 | E37: -59.3 | F37: 12 | G37: 0 | H37: -39.8 | I37: 0
A38: 音響・映像機器 | B38: =VLOOKUP(A38,'3'!A:B,2,0) -> 음향 및 영상 기기 | C38: 千台(천대) | D38: 37 | E38: 17.6 | F38: 1862 | G38: 0.4 | H38: 45.2 | I38: 0.1
A39: （映像記録・再生機器） | B39: =VLOOKUP(A39,'3'!A:B,2,0) -> 영상 기록 및 재생 기기 | C39: 千台(천대) | D39: 22 | E39: 27.8 | F39: 1759 | G39: 0.4 | H39: 47 | I39: 0.1
A40: （テレビ受像機） | B40: =VLOOKUP(A40,'3'!A:B,2,0) -> TV 수상기 | C40: 千台(천대) | D40: 8 | E40: 3.8 | F40: 42 | G40: 0 | H40: -25.7 | I40: 0
A41: 音響・映像機器の部分品 | B41: =VLOOKUP(A41,'3'!A:B,2,0) -> 음향 및 영상 기기의 부분품 | F41: 50 | G41: 0 | H41: 95.4 | I41: 0
A42: 重電機器 | B42: =VLOOKUP(A42,'3'!A:B,2,0) -> 중전 기기 | F42: 4005 | G42: 0.9 | H42: 27.6 | I42: 0.2
A43: 通信機 | B43: =VLOOKUP(A43,'3'!A:B,2,0) -> 통신기 | F43: 360 | G43: 0.1 | H43: -40.8 | I43: -0.1
A44: 電気計測機器 | B44: =VLOOKUP(A44,'3'!A:B,2,0) -> 전기 계측 기기 | F44: 1132 | G44: 0.2 | H44: 21.4 | I44: 0
A45: 電気回路等の機器 | B45: =VLOOKUP(A45,'3'!A:B,2,0) -> 전기회로 등의 기기 | F45: 1815 | G45: 0.4 | H45: 58 | I45: 0.1
A46: 電池 | B46: =VLOOKUP(A46,'3'!A:B,2,0) -> 전지 | F46: 281 | G46: 0.1 | H46: 23.4 | I46: 0
A47: 8 輸送用機器 | B47: =VLOOKUP(A47,'3'!A:B,2,0) -> 수송용 기기 | F47: 207753 | G47: 44.8 | H47: -13.6 | I47: -6.9
A48: 自動車 | B48: =VLOOKUP(A48,'3'!A:B,2,0) -> 자동차 | C48: 台(대) | D48: 65338 | E48: -16.2 | F48: 191310 | G48: 41.3 | H48: -15.3 | I48: -7.3
A49: （乗用車） | B49: =VLOOKUP(A49,'3'!A:B,2,0) -> 승용차 | C49: 台(대) | D49: 51213 | E49: -19.9 | F49: 155458 | G49: 33.5 | H49: -19.2 | I49: -7.9
A50: （バス・トラック） | B50: =VLOOKUP(A50,'3'!A:B,2,0) -> 버스 및 트럭 | C50: 台(대) | D50: 13684 | E50: 3.1 | F50: 35318 | G50: 7.6 | H50: 6.8 | I50: 0.5
A51: 自動車の部分品 | B51: =VLOOKUP(A51,'3'!A:B,2,0) -> 자동차의 부분품 | C51: トン(톤) | D51: 15274 | E51: 4 | F51: 13481 | G51: 2.9 | H51: 8.5 | I51: 0.2
A52: 二輪自動車 | B52: =VLOOKUP(A52,'3'!A:B,2,0) -> 이륜자동차 | C52: 千台(천대) | D52: 6 | E52: -8.5 | F52: 1752 | G52: 0.4 | H52: 23.6 | I52: 0.1
A53: 航空機類 | B53: =VLOOKUP(A53,'3'!A:B,2,0) -> 항공기류 | F53: 665 | G53: 0.1 | H53: 27.2 | I53: 0
A54: 船舶 | B54: =VLOOKUP(A54,'3'!A:B,2,0) -> 선박 | C54: 総トン(총톤) | D54: - | F54: - | G54: - | I54: -
A55: 9 その他 | B55: =VLOOKUP(A55,'3'!A:B,2,0) -> 기타 | F55: 154217 | G55: 33.3 | H55: 17 | I55: 4.8
A56: 科学光学機器 | B56: =VLOOKUP(A56,'3'!A:B,2,0) -> 과학 광학 기기 | F56: 2409 | G56: 0.5 | H56: -9.8 | I56: -0.1
A57: 写真用・映画用材料 | B57: =VLOOKUP(A57,'3'!A:B,2,0) -> 사진용 및 영화용 재료 | F57: 640 | G57: 0.1 | H57: 10.4 | I57: 0
A58: （注）「伸率」は対前年伸率（％）を示す。ただし「＊」を付した数値は、前年に対する倍率を示す。
A59: =HLOOKUP(A58,'4'!59:60,2,0) -> 변화율은 전년대비 변화율을 나타냅니다. *를 붙인 수치는 전년대비 배율을 나타냅니다.
A61: 「増減寄与度」は前年に対する増減寄与度。
A62: =HLOOKUP(A61,'4'!62:63,2,0) -> 증감 기여도는 전년대비 증감 기여도입니다.

Sheet 12
A1: 主要地域（国）別商品別輸出(ロシア)
A2: =VLOOKUP(A1,目次!B:C,2,0) -> 주요 지역, 국가별 및 상품별 수출, 러시아
A3: （単位：百万円、％）
A4: 단위: 백만엔, %
C5: 単位 | D5: 数量 | E5: 伸率 | F5: 価額 | G5: 構成比 | H5: 伸率 | I5: 増減寄与度
A6: 品名 | B6: =VLOOKUP(A6,'3'!A:B,2,0) -> 품명 | C6: =HLOOKUP(C5,'4'!5:6,2,0) -> 단위 | D6: =HLOOKUP(D5,'4'!5:6,2,0) -> 수량 | E6: =HLOOKUP(E5,'4'!5:6,2,0) -> 변화율 | F6: =HLOOKUP(F5,'4'!5:6,2,0) -> 가액 | G6: =HLOOKUP(G5,'4'!5:6,2,0) -> 구성비 | H6: =HLOOKUP(H5,'4'!5:6,2,0) -> 변화율 | I6: =HLOOKUP(I5,'4'!5:6,2,0) -> 증감 기여도
A7: 総額 | B7: =VLOOKUP(A7,'3'!A:B,2,0) -> 총액 | F7: 32001 | G7: 100 | H7: 29.4 | I7: 29.4
A8: 1 食料品 | B8: =VLOOKUP(A8,'3'!A:B,2,0) -> 식료품 | F8: 469 | G8: 1.5 | H8: 6.8 | I8: 0.1
A9: 2 原料品 | B9: =VLOOKUP(A9,'3'!A:B,2,0) -> 원료품 | F9: - | G9: - | I9: -
A10: 3 鉱物性燃料 | B10: =VLOOKUP(A10,'3'!A:B,2,0) -> 광물성 원료 | F10: - | G10: - | H10: ZENGEN | I10: -0.4
A11: 4 化学製品 | B11: =VLOOKUP(A11,'3'!A:B,2,0) -> 화학제품 | F11: 1591 | G11: 5 | H11: 8.4 | I11: 0.5
A12: 有機化合物 | B12: =VLOOKUP(A12,'3'!A:B,2,0) -> 유기화합물 | F12: 150 | G12: 0.5 | H12: 570.8 | I12: 0.5
A13: 医薬品 | B13: =VLOOKUP(A13,'3'!A:B,2,0) -> 의약품 | C13: ＫＧ | D13: 11408 | E13: -28.4 | F13: 556 | G13: 1.7 | H13: 9.8 | I13: 0.2
A14: プラスチック | B14: =VLOOKUP(A14,'3'!A:B,2,0) -> 플라스틱 | C14: トン(톤) | D14: 884 | E14: -43 | F14: 169 | G14: 0.5 | H14: -43.9 | I14: -0.5
A15: 5 原料別製品 | B15: =VLOOKUP(A15,'3'!A:B,2,0) -> 원료별 제품 | F15: 644 | G15: 2 | H15: -33.9 | I15: -1.3
A16: 鉄鋼 | B16: =VLOOKUP(A16,'3'!A:B,2,0) -> 철강 | C16: 千トン(톤) | D16: - | F16: - | G16: - | I16: -
A17: 非鉄金属 | B17: =VLOOKUP(A17,'3'!A:B,2,0) -> 비철금속 | C17: トン(톤) | D17: - | F17: - | G17: - | I17: -
A18: 金属製品 | B18: =VLOOKUP(A18,'3'!A:B,2,0) -> 금속제품 | F18: 261 | G18: 0.8 | H18: -41.7 | I18: -0.8
A19: 織物用糸・繊維製品 | B19: =VLOOKUP(A19,'3'!A:B,2,0) -> 직물용 실 및 섬유제품 | F19: 111 | G19: 0.3 | H19: -60.6 | I19: -0.7
A20: 非金属鉱物製品 | B20: =VLOOKUP(A20,'3'!A:B,2,0) -> 비금속 철물제품 | F20: 7 | G20: 0 | H20: -83.5 | I20: -0.1
A21: ゴム製品 | B21: =VLOOKUP(A21,'3'!A:B,2,0) -> 고무제품 | C21: トン(톤) | D21: 220 | E21: -22.8 | F21: 253 | G21: 0.8 | H21: 28.6 | I21: 0.2
A22: 紙類・紙製品 | B22: =VLOOKUP(A22,'3'!A:B,2,0) -> 종이류 및 종이제품 | C22: トン(톤) | D22: 34 | E22: 325 | F22: 12 | G22: 0 | H22: 359.4 | I22: 0
A23: 6 一般機械 | B23: =VLOOKUP(A23,'3'!A:B,2,0) -> 일반 기계 | F23: 755 | G23: 2.4 | H23: 18.3 | I23: 0.5
A24: 原動機 | B24: =VLOOKUP(A24,'3'!A:B,2,0) -> 원동기 | C24: トン(톤) | D24: 460 | E24: -43.9 | F24: 276 | G24: 0.9 | H24: -37.8 | I24: -0.7
A25: 電算機類（含周辺機器） | B25: =VLOOKUP(A25,'3'!A:B,2,0) -> 전산기류, 주변기기 포함 | C25: 千台(천대) | D25: 0 | E25: -20 | F25: 5 | G25: 0 | H25: -49 | I25: 0
A26: 電算機類の部分品 | B26: =VLOOKUP(A26,'3'!A:B,2,0) -> 전산기류의 부분품 | C26: トン(톤) | D26: 0 | E26: ZENZO | F26: 2 | G26: 0 | H26: ZENZO | I26: 0
A27: 半導体等製造装置 | B27: =VLOOKUP(A27,'3'!A:B,2,0) -> 반도체 등 제조 장치 | C27: トン(톤) | D27: - | F27: - | G27: - | I27: -
A28: 金属加工機械 | B28: =VLOOKUP(A28,'3'!A:B,2,0) -> 금속 가공 기계 | F28: - | G28: - | I28: -
A29: ポンプ・遠心分離機 | B29: =VLOOKUP(A29,'3'!A:B,2,0) -> 펌프 및 원심분리기 | F29: 28 | G29: 0.1 | H29: -45.1 | I29: -0.1
A30: 建設用・鉱山用機械 | B30: =VLOOKUP(A30,'3'!A:B,2,0) -> 건설용 및 광산용 기계 | F30: - | G30: - | I30: -
A31: 荷役機械 | B31: =VLOOKUP(A31,'3'!A:B,2,0) -> 하역 기계 | F31: - | G31: - | I31: -
A32: 加熱用・冷却用機器 | B32: =VLOOKUP(A32,'3'!A:B,2,0) -> 가열용 및 냉각용 기기 | F32: 25 | G32: 0.1 | H32: ZENZO | I32: 0.1
A33: 繊維機械 | B33: =VLOOKUP(A33,'3'!A:B,2,0) -> 섬유 기계 | F33: 4 | G33: 0 | H33: -42.2 | I33: 0
A34: ベアリング | B34: =VLOOKUP(A34,'3'!A:B,2,0) -> 베어링 | C34: トン(톤) | D34: - | F34: - | G34: - | I34: -
A35: 7 電気機器 | B35: =VLOOKUP(A35,'3'!A:B,2,0) -> 전기 기기 | F35: 815 | G35: 2.5 | H35: 45.2 | I35: 1
A36: 半導体等電子部品 | B36: =VLOOKUP(A36,'3'!A:B,2,0) -> 반도체 등 전자부품 | F36: - | G36: - | I36: -
A37: （ＩＣ） | B37: =VLOOKUP(A37,'3'!A:B,2,0) -> IC | C37: 百万個(백만개) | D37: - | F37: - | G37: - | I37: -
A38: 音響・映像機器 | B38: =VLOOKUP(A38,'3'!A:B,2,0) -> 음향 및 영상 기기 | C38: 千台(천대) | D38: - | E38: ZENGEN | F38: - | G38: - | H38: ZENGEN | I38: -0.2
A39: （映像記録・再生機器） | B39: =VLOOKUP(A39,'3'!A:B,2,0) -> 영상 기록 및 재생 기기 | C39: 千台(천대) | D39: - | F39: - | G39: - | I39: -
A40: （テレビ受像機） | B40: =VLOOKUP(A40,'3'!A:B,2,0) -> TV 수상기 | C40: 千台(천대) | D40: - | E40: ZENGEN | F40: - | G40: - | H40: ZENGEN | I40: 0
A41: 音響・映像機器の部分品 | B41: =VLOOKUP(A41,'3'!A:B,2,0) -> 음향 및 영상 기기의 부분품 | F41: - | G41: - | H41: ZENGEN | I41: 0
A42: 重電機器 | B42: =VLOOKUP(A42,'3'!A:B,2,0) -> 중전 기기 | F42: - | G42: - | H42: ZENGEN | I42: 0
A43: 通信機 | B43: =VLOOKUP(A43,'3'!A:B,2,0) -> 통신기 | F43: - | G43: - | I43: -
A44: 電気計測機器 | B44: =VLOOKUP(A44,'3'!A:B,2,0) -> 전기 계측 기기 | F44: 3 | G44: 0 | H44: 158.6 | I44: 0
A45: 電気回路等の機器 | B45: =VLOOKUP(A45,'3'!A:B,2,0) -> 전기회로 등의 기기 | F45: - | G45: - | I45: -
A46: 電池 | B46: =VLOOKUP(A46,'3'!A:B,2,0) -> 전지 | F46: - | G46: - | I46: -
A47: 8 輸送用機器 | B47: =VLOOKUP(A47,'3'!A:B,2,0) -> 수송용 기기 | F47: 23409 | G47: 73.1 | H47: 35.2 | I47: 24.6
A48: 自動車 | B48: =VLOOKUP(A48,'3'!A:B,2,0) -> 자동차 | C48: 台(대) | D48: 17504 | E48: 18.6 | F48: 22365 | G48: 69.9 | H48: 39.6 | I48: 25.7
A49: （乗用車） | B49: =VLOOKUP(A49,'3'!A:B,2,0) -> 승용차 | C49: 台(대) | D49: 17503 | E49: 18.7 | F49: 22364 | G49: 69.9 | H49: 39.6 | I49: 25.7
A50: （バス・トラック） | B50: =VLOOKUP(A50,'3'!A:B,2,0) -> 버스 및 트럭 | C50: 台(대) | D50: - | F50: - | G50: - | I50: -
A51: 自動車の部分品 | B51: =VLOOKUP(A51,'3'!A:B,2,0) -> 자동차의 부분품 | C51: トン(톤) | D51: 1444 | E51: -24.3 | F51: 727 | G51: 2.3 | H51: -19 | I51: -0.7
A52: 二輪自動車 | B52: =VLOOKUP(A52,'3'!A:B,2,0) -> 이륜자동차 | C52: 千台(천대) | D52: 1 | E52: -80.3 | F52: 294 | G52: 0.9 | H52: -26.1 | I52: -0.4
A53: 航空機類 | B53: =VLOOKUP(A53,'3'!A:B,2,0) -> 항공기류 | F53: - | G53: - | I53: -
A54: 船舶 | B54: =VLOOKUP(A54,'3'!A:B,2,0) -> 선박 | C54: 総トン(총톤) | D54: - | F54: - | G54: - | I54: -
A55: 9 その他 | B55: =VLOOKUP(A55,'3'!A:B,2,0) -> 기타 | F55: 4319 | G55: 13.5 | H55: 33.6 | I55: 4.4
A56: 科学光学機器 | B56: =VLOOKUP(A56,'3'!A:B,2,0) -> 과학 광학 기기 | F56: 191 | G56: 0.6 | H56: 75.7 | I56: 0.3
A57: 写真用・映画用材料 | B57: =VLOOKUP(A57,'3'!A:B,2,0) -> 사진용 및 영화용 재료 | F57: 53 | G57: 0.2 | H57: -57.2 | I57: -0.3
A58: （注）「伸率」は対前年伸率（％）を示す。ただし「＊」を付した数値は、前年に対する倍率を示す。
A59: =HLOOKUP(A58,'4'!59:60,2,0) -> 변화율은 전년대비 변화율을 나타냅니다. *를 붙인 수치는 전년대비 배율을 나타냅니다.
A61: 「増減寄与度」は前年に対する増減寄与度。
A62: =HLOOKUP(A61,'4'!62:63,2,0) -> 증감 기여도는 전년대비 증감 기여도입니다.

Sheet 13
A1: 主要地域（国）別商品別輸入(アメリカ合衆国)
A2: =VLOOKUP(A1,目次!B:C,2,0) -> 주요 지역, 국가별 및 상품별 수입, 미국
A3: （単位：百万円、％）
A4: 단위: 백만엔, %
C5: 単位 | D5: 数量 | E5: 伸率 | F5: 価額 | G5: 構成比 | H5: 伸率 | I5: 増減寄与度
A6: 品名 | B6: =VLOOKUP(A6,'4'!A:B,2,0) -> 품명 | C6: =HLOOKUP(C5,'5'!5:6,2,0) -> 단위 | D6: =HLOOKUP(D5,'5'!5:6,2,0) -> 수량 | E6: =HLOOKUP(E5,'5'!5:6,2,0) -> 변화율 | F6: =HLOOKUP(F5,'5'!5:6,2,0) -> 가액 | G6: =HLOOKUP(G5,'5'!5:6,2,0) -> 구성비 | H6: =HLOOKUP(H5,'5'!5:6,2,0) -> 변화율 | I6: =HLOOKUP(I5,'5'!5:6,2,0) -> 증감 기여도
A7: 総額 | B7: =VLOOKUP(A7,'4'!A:B,2,0) -> 총액 | F7: 1077135 | G7: 100 | H7: 7.1 | I7: 7.1
A8: 1 食料品 | B8: =VLOOKUP(A8,'4'!A:B,2,0) -> 식료품 | F8: 153565 | G8: 14.3 | H8: 26.4 | I8: 3.2
A9: 魚介類 | B9: =VLOOKUP(A9,'4'!A:B,2,0) -> 어개류 | C9: トン(톤) | D9: 19128 | E9: -11.1 | F9: 21638 | G9: 2 | H9: 29.8 | I9: 0.5
A10: 肉類 | B10: =VLOOKUP(A10,'4'!A:B,2,0) -> 육류 | C10: トン(톤) | D10: 39928 | E10: -3.6 | F10: 33445 | G10: 3.1 | H10: -5.8 | I10: -0.2
A11: 穀物類 | B11: =VLOOKUP(A11,'4'!A:B,2,0) -> 곡물류 | C11: トン(톤) | D11: 1350651 | E11: 77.3 | F11: 54100 | G11: 5 | H11: 59.5 | I11: 2
A12: 野菜 | B12: =VLOOKUP(A12,'4'!A:B,2,0) -> 채소 | C12: トン(톤) | D12: 31350 | E12: 30.2 | F12: 8784 | G12: 0.8 | H12: 13.5 | I12: 0.1
A13: 果実 | B13: =VLOOKUP(A13,'4'!A:B,2,0) -> 과실 | C13: トン(톤) | D13: 11085 | E13: 20.4 | F13: 8633 | G13: 0.8 | H13: 27.9 | I13: 0.2
A14: 2 原料品 | B14: =VLOOKUP(A14,'4'!A:B,2,0) -> 원료품 | F14: 64829 | G14: 6 | H14: 0.6 | I14: 0
A15: 木材 | B15: =VLOOKUP(A15,'4'!A:B,2,0) -> 목재 | F15: 3762 | G15: 0.3 | H15: -30.1 | I15: -0.2
A16: 非鉄金属鉱 | B16: =VLOOKUP(A16,'4'!A:B,2,0) -> 비철금속광 | C16: 千トン(천톤) | D16: 33 | E16: -56.3 | F16: 14109 | G16: 1.3 | H16: -45.7 | I16: -1.2
A17: 鉄鉱石 | B17: =VLOOKUP(A17,'4'!A:B,2,0) -> 철광석 | C17: 千トン(천톤) | D17: - | F17: - | G17: - | I17: -
A18: 大豆 | B18: =VLOOKUP(A18,'4'!A:B,2,0) -> 대두 | C18: トン(톤) | D18: 215794 | E18: 57.8 | F18: 16652 | G18: 1.5 | H18: 55.6 | I18: 0.6
A19: 3 鉱物性燃料 | B19: =VLOOKUP(A19,'4'!A:B,2,0) -> 광물성 원료 | F19: 162925 | G19: 15.1 | H19: 7.6 | I19: 1.1
A20: 原油及び粗油 | B20: =VLOOKUP(A20,'4'!A:B,2,0) -> 원유 및 조유 | C20: 千ＫＬ | D20: 723 | E20: 323.4 | F20: 51461 | G20: 4.8 | H20: 281.9 | I20: 3.8
A21: 石油製品 | B21: =VLOOKUP(A21,'4'!A:B,2,0) -> 석유제품 | F21: 12918 | G21: 1.2 | H21: -20.6 | I21: -0.3
A22: （揮発油） | B22: =VLOOKUP(A22,'4'!A:B,2,0) -> 휘발유 | C22: 千ＫＬ | D22: 96 | E22: -30.2 | F22: 6140 | G22: 0.6 | H22: -44.7 | I22: -0.5
A23: 液化天然ガス | B23: =VLOOKUP(A23,'4'!A:B,2,0) -> 액화 천연 가스 | C23: 千トン(천톤) | D23: 385 | E23: -26.5 | F23: 32767 | G23: 3 | H23: -26.9 | I23: -1.2
A24: 液化石油ガス | B24: =VLOOKUP(A24,'4'!A:B,2,0) -> 액화 석유 가스 | C24: 千トン(천톤) | D24: 710 | E24: 41.8 | F24: 53180 | G24: 4.9 | H24: 14 | I24: 0.6
A25: 石炭 | B25: =VLOOKUP(A25,'4'!A:B,2,0) -> 석탄 | C25: 千トン(천톤) | D25: 502 | E25: -56.1 | F25: 12595 | G25: 1.2 | H25: -58.2 | I25: -1.7
A26: （一般炭） | B26: =VLOOKUP(A26,'4'!A:B,2,0) -> 일반탄 | C26: 千トン(천톤) | D26: 80 | E26: -86.3 | F26: 1203 | G26: 0.1 | H26: -90.4 | I26: -1.1
A27: 4 化学製品 | B27: =VLOOKUP(A27,'4'!A:B,2,0) -> 화학제품 | F27: 202368 | G27: 18.8 | H27: -6.5 | I27: -1.4
A28: 有機化合物 | B28: =VLOOKUP(A28,'4'!A:B,2,0) -> 유기화합물 | F28: 33407 | G28: 3.1 | H28: 5.9 | I28: 0.2
A29: 医薬品 | B29: =VLOOKUP(A29,'4'!A:B,2,0) -> 의약품 | C29: ＫＧ | D29: 933873 | E29: 8 | F29: 116536 | G29: 10.8 | H29: -12 | I29: -1.6
A30: 5 原料別製品 | B30: =VLOOKUP(A30,'4'!A:B,2,0) -> 원료별 제품 | F30: 42038 | G30: 3.9 | H30: 8.4 | I30: 0.3
A31: 鉄鋼 | B31: =VLOOKUP(A31,'4'!A:B,2,0) -> 철강 | C31: トン(톤) | D31: 277 | E31: -93.5 | F31: 1676 | G31: 0.2 | H31: -39.6 | I31: -0.1
A32: 非鉄金属 | B32: =VLOOKUP(A32,'4'!A:B,2,0) -> 비철금속 | C32: トン(톤) | D32: 1209 | E32: -36.6 | F32: 13137 | G32: 1.2 | H32: 41.2 | I32: 0.4
A33: 金属製品 | B33: =VLOOKUP(A33,'4'!A:B,2,0) -> 금속제품 | F33: 9407 | G33: 0.9 | H33: -0.5 | I33: 0
A34: 織物用糸・繊維製品 | B34: =VLOOKUP(A34,'4'!A:B,2,0) -> 직물용 실 및 섬유제품 | F34: 2550 | G34: 0.2 | H34: 12.4 | I34: 0
A35: 非金属鉱物製品 | B35: =VLOOKUP(A35,'4'!A:B,2,0) -> 비금속 철물제품 | F35: 8742 | G35: 0.8 | H35: 48.4 | I35: 0.3
A36: 木製品等（除家具） | B36: =VLOOKUP(A36,'4'!A:B,2,0) -> 목제품 등; 가구 제외 | F36: 2396 | G36: 0.2 | H36: -41.9 | I36: -0.2
A37: 6 一般機械 | B37: =VLOOKUP(A37,'4'!A:B,2,0) -> 일반 기계 | F37: 194110 | G37: 18 | H37: 12.4 | I37: 2.1
A38: 原動機 | B38: =VLOOKUP(A38,'4'!A:B,2,0) -> 원동기 | C38: トン(톤) | D38: 1647 | E38: 19.3 | F38: 98157 | G38: 9.1 | H38: 11.2 | I38: 1
A39: 電算機類（含周辺機器） | B39: =VLOOKUP(A39,'4'!A:B,2,0) -> 전산기류, 주변기기 포함 | C39: 千台(천대) | D39: 10 | E39: -28.3 | F39: 35074 | G39: 3.3 | H39: 22.5 | I39: 0.6
A40: 電算機類の部分品 | B40: =VLOOKUP(A40,'4'!A:B,2,0) -> 전산기류의 부분품 | C40: トン(톤) | D40: 9 | E40: -28.5 | F40: 871 | G40: 0.1 | H40: -6.2 | I40: 0
A41: 7 電気機器 | B41: =VLOOKUP(A41,'4'!A:B,2,0) -> 전기 기기 | F41: 107576 | G41: 10 | H41: -3.7 | I41: -0.4
A42: 半導体等電子部品 | B42: =VLOOKUP(A42,'4'!A:B,2,0) -> 반도체 등 전자부품 | F42: 17109 | G42: 1.6 | H42: -27.9 | I42: -0.7
A43: （ＩＣ） | B43: =VLOOKUP(A43,'4'!A:B,2,0) -> IC | C43: 百万個(백만개) | D43: 222 | E43: 1 | F43: 14658 | G43: 1.4 | H43: -29.3 | I43: -0.6
A44: 絶縁電線・絶縁ケーブル | B44: =VLOOKUP(A44,'4'!A:B,2,0) -> 절연 전선 및 절연 케이블 | C44: トン(톤) | D44: 59 | E44: -12.9 | F44: 2526 | G44: 0.2 | H44: 4.6 | I44: 0
A45: 音響映像機器（含部品） | B45: =VLOOKUP(A45,'4'!A:B,2,0) -> 음향 영상 기기, 부품 포함 | F45: 13486 | G45: 1.3 | H45: 33.4 | I45: 0.3
A46: 重電機器 | B46: =VLOOKUP(A46,'4'!A:B,2,0) -> 중전 기기 | F46: 5303 | G46: 0.5 | H46: -13.3 | I46: -0.1
A47: 通信機 | B47: =VLOOKUP(A47,'4'!A:B,2,0) -> 통신기 | F47: 11803 | G47: 1.1 | H47: 60.9 | I47: 0.4
A48: （電話機） | B48: =VLOOKUP(A48,'4'!A:B,2,0) -> 전화기 | C48: 台(대) | D48: 965 | E48: 937.6 | F48: 18 | G48: 0 | H48: 187.2 | I48: 0
A49: 電気計測機器 | B49: =VLOOKUP(A49,'4'!A:B,2,0) -> 전기 계측 기기 | F49: 22379 | G49: 2.1 | H49: 0.9 | I49: 0
A50: 8 輸送用機器 | B50: =VLOOKUP(A50,'4'!A:B,2,0) -> 수송용 기기 | F50: 51712 | G50: 4.8 | H50: 61.6 | I50: 2
A51: 自動車 | B51: =VLOOKUP(A51,'4'!A:B,2,0) -> 자동차 | C51: 台(대) | D51: 1254 | E51: 26.5 | F51: 11744 | G51: 1.1 | H51: 36.1 | I51: 0.3
A52: 自動車の部分品 | B52: =VLOOKUP(A52,'4'!A:B,2,0) -> 자동차의 부분품 | F52: 4472 | G52: 0.4 | H52: 1 | I52: 0
A53: 航空機類 | B53: =VLOOKUP(A53,'4'!A:B,2,0) -> 항공기류 | F53: 33127 | G53: 3.1 | H53: 93.5 | I53: 1.6
A54: 9 その他 | B54: =VLOOKUP(A54,'4'!A:B,2,0) -> 기타 | F54: 98013 | G54: 9.1 | H54: 1.4 | I54: 0.1
A55: 科学光学機器 | B55: =VLOOKUP(A55,'4'!A:B,2,0) -> 과학 광학 기기 | F55: 51420 | G55: 4.8 | H55: 1.1 | I55: 0.1
A56: 衣類・同付属品 | B56: =VLOOKUP(A56,'4'!A:B,2,0) -> 의류 및 관련 부속품 | F56: 868 | G56: 0.1 | H56: -1.2 | I56: 0
A57: 家具 | B57: =VLOOKUP(A57,'4'!A:B,2,0) -> 가구 | C57: トン(톤) | D57: 170 | E57: 17.8 | F57: 1737 | G57: 0.2 | H57: 59.7 | I57: 0.1
A58: バッグ類 | B58: =VLOOKUP(A58,'4'!A:B,2,0) -> 가방류 | F58: 218 | G58: 0 | H58: 45.3 | I58: 0
A59: （注）「伸率」は対前年伸率（％）を示す。ただし「＊」を付した数値は、前年に対する倍率を示す。
A60: =HLOOKUP(A59,'5'!58:59,2,0) -> 변화율은 전년대비 변화율을 나타냅니다. *를 붙인 수치는 전년대비 배율을 나타냅니다.
A62: 「増減寄与度」は前年に対する増減寄与度。
A63: =HLOOKUP(A62,'5'!61:62,2,0) -> 증감 기여도는 전년대비 증감 기여도입니다.

Sheet 14
A1: 主要地域（国）別商品別輸入(ＥＵ)
A2: =VLOOKUP(A1,目次!B:C,2,0) -> 주요 지역, 국가별 및 상품별 수입, 유럽연합
A3: （単位：百万円、％）
A4: 단위: 백만엔, %
C5: 単位 | D5: 数量 | E5: 伸率 | F5: 価額 | G5: 構成比 | H5: 伸率 | I5: 増減寄与度
A6: 品名 | B6: =VLOOKUP(A6,'4'!A:B,2,0) -> 품명 | C6: =HLOOKUP(C5,'5'!5:6,2,0) -> 단위 | D6: =HLOOKUP(D5,'5'!5:6,2,0) -> 수량 | E6: =HLOOKUP(E5,'5'!5:6,2,0) -> 변화율 | F6: =HLOOKUP(F5,'5'!5:6,2,0) -> 가액 | G6: =HLOOKUP(G5,'5'!5:6,2,0) -> 구성비 | H6: =HLOOKUP(H5,'5'!5:6,2,0) -> 변화율 | I6: =HLOOKUP(I5,'5'!5:6,2,0) -> 증감 기여도
A7: 総額 | B7: =VLOOKUP(A7,'4'!A:B,2,0) -> 총액 | F7: 1031882 | G7: 100 | H7: 6.8 | I7: 6.8
A8: 1 食料品 | B8: =VLOOKUP(A8,'4'!A:B,2,0) -> 식료품 | F8: 107644 | G8: 10.4 | H8: -8.5 | I8: -1
A9: 魚介類 | B9: =VLOOKUP(A9,'4'!A:B,2,0) -> 어개류 | C9: トン(톤) | D9: 1124 | E9: -61.1 | F9: 2245 | G9: 0.2 | H9: -53.6 | I9: -0.3
A10: 肉類 | B10: =VLOOKUP(A10,'4'!A:B,2,0) -> 육류 | C10: トン(톤) | D10: 15893 | E10: -31.3 | F10: 12596 | G10: 1.2 | H10: -33.6 | I10: -0.7
A11: 穀物類 | B11: =VLOOKUP(A11,'4'!A:B,2,0) -> 곡물류 | C11: トン(톤) | D11: 22509 | E11: 46 | F11: 6702 | G11: 0.6 | H11: 35.9 | I11: 0.2
A12: 野菜 | B12: =VLOOKUP(A12,'4'!A:B,2,0) -> 채소 | C12: トン(톤) | D12: 17873 | E12: -8.8 | F12: 5784 | G12: 0.6 | H12: -7.3 | I12: 0
A13: 果実 | B13: =VLOOKUP(A13,'4'!A:B,2,0) -> 과실 | C13: トン(톤) | D13: 3676 | E13: 0.8 | F13: 2621 | G13: 0.3 | H13: 16.9 | I13: 0
A14: 2 原料品 | B14: =VLOOKUP(A14,'4'!A:B,2,0) -> 원료품 | F14: 25737 | G14: 2.5 | H14: 6.7 | I14: 0.2
A15: 木材 | B15: =VLOOKUP(A15,'4'!A:B,2,0) -> 목재 | F15: 8222 | G15: 0.8 | H15: 1.6 | I15: 0
A16: 非鉄金属鉱 | B16: =VLOOKUP(A16,'4'!A:B,2,0) -> 비철금속광 | C16: 千トン(천톤) | D16: 0 | E16: -42.1 | F16: 274 | G16: 0 | H16: -79.6 | I16: -0.1
A17: 鉄鉱石 | B17: =VLOOKUP(A17,'4'!A:B,2,0) -> 철광석 | C17: 千トン(천톤) | D17: - | F17: - | G17: - | I17: -
A18: 大豆 | B18: =VLOOKUP(A18,'4'!A:B,2,0) -> 대두 | C18: トン(톤) | D18: - | F18: - | G18: - | I18: -
A19: 3 鉱物性燃料 | B19: =VLOOKUP(A19,'4'!A:B,2,0) -> 광물성 원료 | F19: 7878 | G19: 0.8 | H19: 698.2 | I19: 0.7
A20: 原油及び粗油 | B20: =VLOOKUP(A20,'4'!A:B,2,0) -> 원유 및 조유 | C20: 千ＫＬ | D20: - | F20: - | G20: - | I20: -
A21: 石油製品 | B21: =VLOOKUP(A21,'4'!A:B,2,0) -> 석유제품 | F21: 7704 | G21: 0.7 | H21: 895.5 | I21: 0.7
A22: （揮発油） | B22: =VLOOKUP(A22,'4'!A:B,2,0) -> 휘발유 | C22: 千ＫＬ | D22: 104 | E22: *2354 | F22: 6783 | G22: 0.7 | H22: *231 | I22: 0.7
A23: 液化天然ガス | B23: =VLOOKUP(A23,'4'!A:B,2,0) -> 액화 천연 가스 | C23: 千トン(천톤) | D23: - | F23: - | G23: - | I23: -
A24: 液化石油ガス | B24: =VLOOKUP(A24,'4'!A:B,2,0) -> 액화 석유 가스 | C24: 千トン(천톤) | D24: 0 | F24: 5 | G24: 0 | H24: 1960.6 | I24: 0
A25: 石炭 | B25: =VLOOKUP(A25,'4'!A:B,2,0) -> 석탄 | C25: 千トン(천톤) | D25: - | F25: - | G25: - | I25: -
A26: （一般炭） | B26: =VLOOKUP(A26,'4'!A:B,2,0) -> 일반탄 | C26: 千トン(천톤) | D26: - | F26: - | G26: - | I26: -
A27: 4 化学製品 | B27: =VLOOKUP(A27,'4'!A:B,2,0) -> 화학제품 | F27: 291820 | G27: 28.3 | H27: 4.5 | I27: 1.3
A28: 有機化合物 | B28: =VLOOKUP(A28,'4'!A:B,2,0) -> 유기화합물 | F28: 28186 | G28: 2.7 | H28: -44.4 | I28: -2.3
A29: 医薬品 | B29: =VLOOKUP(A29,'4'!A:B,2,0) -> 의약품 | C29: ＫＧ | D29: 1583564 | E29: 36.8 | F29: 203881 | G29: 19.8 | H29: 13.8 | I29: 2.6
A30: 5 原料別製品 | B30: =VLOOKUP(A30,'4'!A:B,2,0) -> 원료별 제품 | F30: 53480 | G30: 5.2 | H30: 18.7 | I30: 0.9
A31: 鉄鋼 | B31: =VLOOKUP(A31,'4'!A:B,2,0) -> 철강 | C31: トン(톤) | D31: 7889 | E31: 23.8 | F31: 3374 | G31: 0.3 | H31: 27.9 | I31: 0.1
A32: 非鉄金属 | B32: =VLOOKUP(A32,'4'!A:B,2,0) -> 비철금속 | C32: トン(톤) | D32: 1954 | E32: -32 | F32: 16024 | G32: 1.6 | H32: 38.3 | I32: 0.5
A33: 金属製品 | B33: =VLOOKUP(A33,'4'!A:B,2,0) -> 금속제품 | F33: 10898 | G33: 1.1 | H33: 22 | I33: 0.2
A34: 織物用糸・繊維製品 | B34: =VLOOKUP(A34,'4'!A:B,2,0) -> 직물용 실 및 섬유제품 | F34: 4497 | G34: 0.4 | H34: 3.3 | I34: 0
A35: 非金属鉱物製品 | B35: =VLOOKUP(A35,'4'!A:B,2,0) -> 비금속 철물제품 | F35: 5928 | G35: 0.6 | H35: 3.8 | I35: 0
A36: 木製品等（除家具） | B36: =VLOOKUP(A36,'4'!A:B,2,0) -> 목제품 등; 가구 제외 | F36: 4675 | G36: 0.5 | H36: -6.9 | I36: 0
A37: 6 一般機械 | B37: =VLOOKUP(A37,'4'!A:B,2,0) -> 일반 기계 | F37: 142066 | G37: 13.8 | H37: 16.6 | I37: 2.1
A38: 原動機 | B38: =VLOOKUP(A38,'4'!A:B,2,0) -> 원동기 | C38: トン(톤) | D38: 3864 | E38: 43 | F38: 73224 | G38: 7.1 | H38: 290.1 | I38: 5.6
A39: 電算機類（含周辺機器） | B39: =VLOOKUP(A39,'4'!A:B,2,0) -> 전산기류, 주변기기 포함 | C39: 千台(천대) | D39: 18 | E39: -29.6 | F39: 6433 | G39: 0.6 | H39: -79.7 | I39: -2.6
A40: 電算機類の部分品 | B40: =VLOOKUP(A40,'4'!A:B,2,0) -> 전산기류의 부분품 | C40: トン(톤) | D40: 26 | E40: -25 | F40: 681 | G40: 0.1 | H40: -22.7 | I40: 0
A41: 7 電気機器 | B41: =VLOOKUP(A41,'4'!A:B,2,0) -> 전기 기기 | F41: 102394 | G41: 9.9 | H41: 17 | I41: 1.5
A42: 半導体等電子部品 | B42: =VLOOKUP(A42,'4'!A:B,2,0) -> 반도체 등 전자부품 | F42: 19704 | G42: 1.9 | H42: 30.2 | I42: 0.5
A43: （ＩＣ） | B43: =VLOOKUP(A43,'4'!A:B,2,0) -> IC | C43: 百万個(백만개) | D43: 113 | E43: 11 | F43: 15684 | G43: 1.5 | H43: 38.1 | I43: 0.4
A44: 絶縁電線・絶縁ケーブル | B44: =VLOOKUP(A44,'4'!A:B,2,0) -> 절연 전선 및 절연 케이블 | C44: トン(톤) | D44: 124 | E44: 7.2 | F44: 1473 | G44: 0.1 | H44: 18.6 | I44: 0
A45: 音響映像機器（含部品） | B45: =VLOOKUP(A45,'4'!A:B,2,0) -> 음향 영상 기기, 부품 포함 | F45: 7803 | G45: 0.8 | H45: 8.1 | I45: 0.1
A46: 重電機器 | B46: =VLOOKUP(A46,'4'!A:B,2,0) -> 중전 기기 | F46: 6845 | G46: 0.7 | H46: 24.5 | I46: 0.1
A47: 通信機 | B47: =VLOOKUP(A47,'4'!A:B,2,0) -> 통신기 | F47: 6074 | G47: 0.6 | H47: -15.9 | I47: -0.1
A48: （電話機） | B48: =VLOOKUP(A48,'4'!A:B,2,0) -> 전화기 | C48: 台(대) | D48: 102 | E48: -93.5 | F48: 19 | G48: 0 | H48: -72.9 | I48: 0
A49: 電気計測機器 | B49: =VLOOKUP(A49,'4'!A:B,2,0) -> 전기 계측 기기 | F49: 21904 | G49: 2.1 | H49: 31.3 | I49: 0.5
A50: 8 輸送用機器 | B50: =VLOOKUP(A50,'4'!A:B,2,0) -> 수송용 기기 | F50: 133901 | G50: 13 | H50: 1.4 | I50: 0.2
A51: 自動車 | B51: =VLOOKUP(A51,'4'!A:B,2,0) -> 자동차 | C51: 台(대) | D51: 15712 | E51: -13.4 | F51: 106554 | G51: 10.3 | H51: 3.6 | I51: 0.4
A52: 自動車の部分品 | B52: =VLOOKUP(A52,'4'!A:B,2,0) -> 자동차의 부분품 | F52: 15433 | G52: 1.5 | H52: 23.2 | I52: 0.3
A53: 航空機類 | B53: =VLOOKUP(A53,'4'!A:B,2,0) -> 항공기류 | F53: 4011 | G53: 0.4 | H53: -70.5 | I53: -1
A54: 9 その他 | B54: =VLOOKUP(A54,'4'!A:B,2,0) -> 기타 | F54: 166963 | G54: 16.2 | H54: 5.9 | I54: 1
A55: 科学光学機器 | B55: =VLOOKUP(A55,'4'!A:B,2,0) -> 과학 광학 기기 | F55: 44507 | G55: 4.3 | H55: 0.3 | I55: 0
A56: 衣類・同付属品 | B56: =VLOOKUP(A56,'4'!A:B,2,0) -> 의류 및 관련 부속품 | F56: 22941 | G56: 2.2 | H56: 9.9 | I56: 0.2
A57: 家具 | B57: =VLOOKUP(A57,'4'!A:B,2,0) -> 가구 | C57: トン(톤) | D57: 2630 | E57: 6.6 | F57: 5348 | G57: 0.5 | H57: 15 | I57: 0.1
A58: バッグ類 | B58: =VLOOKUP(A58,'4'!A:B,2,0) -> 가방류 | F58: 36701 | G58: 3.6 | H58: -5.4 | I58: -0.2
A59: （注）「伸率」は対前年伸率（％）を示す。ただし「＊」を付した数値は、前年に対する倍率を示す。
A60: =HLOOKUP(A59,'5'!58:59,2,0) -> 변화율은 전년대비 변화율을 나타냅니다. *를 붙인 수치는 전년대비 배율을 나타냅니다.
A62: 「増減寄与度」は前年に対する増減寄与度。
A63: =HLOOKUP(A62,'5'!61:62,2,0) -> 증감 기여도는 전년대비 증감 기여도입니다.
A65: 「伸率」及び「増減寄与度」の計算に使用する前年の価額及び数量は、現在のＥＵ加盟国に基づく数値。
A66: 변화율 및 증감 기여도의 계산에 사용되는 전년의 가액 및 수량은 현재의 유럽연합 가맹국에 기초한 수치입니다.

Sheet 15
A1: 主要地域（国）別商品別輸入(アジア)
A2: =VLOOKUP(A1,目次!B:C,2,0) -> 주요 지역, 국가별 및 상품별 수입, 아시아
A3: （単位：百万円、％）
A4: 단위: 백만엔, %
C5: 単位 | D5: 数量 | E5: 伸率 | F5: 価額 | G5: 構成比 | H5: 伸率 | I5: 増減寄与度
A6: 品名 | B6: =VLOOKUP(A6,'4'!A:B,2,0) -> 품명 | C6: =HLOOKUP(C5,'5'!5:6,2,0) -> 단위 | D6: =HLOOKUP(D5,'5'!5:6,2,0) -> 수량 | E6: =HLOOKUP(E5,'5'!5:6,2,0) -> 변화율 | F6: =HLOOKUP(F5,'5'!5:6,2,0) -> 가액 | G6: =HLOOKUP(G5,'5'!5:6,2,0) -> 구성비 | H6: =HLOOKUP(H5,'5'!5:6,2,0) -> 변화율 | I6: =HLOOKUP(I5,'5'!5:6,2,0) -> 증감 기여도
A7: 総額 | B7: =VLOOKUP(A7,'4'!A:B,2,0) -> 총액 | F7: 4798332 | G7: 100 | H7: 3.2 | I7: 3.2
A8: 1 食料品 | B8: =VLOOKUP(A8,'4'!A:B,2,0) -> 식료품 | F8: 289500 | G8: 6 | H8: -4.4 | I8: -0.3
A9: 魚介類 | B9: =VLOOKUP(A9,'4'!A:B,2,0) -> 어개류 | C9: トン(톤) | D9: 79066 | E9: -7.4 | F9: 79275 | G9: 1.7 | H9: -2.2 | I9: 0
A10: 肉類 | B10: =VLOOKUP(A10,'4'!A:B,2,0) -> 육류 | C10: トン(톤) | D10: 66159 | E10: 1.2 | F10: 41761 | G10: 0.9 | H10: -0.5 | I10: 0
A11: 穀物類 | B11: =VLOOKUP(A11,'4'!A:B,2,0) -> 곡물류 | C11: トン(톤) | D11: 52518 | E11: -11.1 | F11: 12797 | G11: 0.3 | H11: 4.1 | I11: 0
A12: 野菜 | B12: =VLOOKUP(A12,'4'!A:B,2,0) -> 채소 | C12: トン(톤) | D12: 162902 | E12: -0.2 | F12: 43271 | G12: 0.9 | H12: -3.2 | I12: 0
A13: 果実 | B13: =VLOOKUP(A13,'4'!A:B,2,0) -> 과실 | C13: トン(톤) | D13: 118998 | E13: 0.4 | F13: 25984 | G13: 0.5 | H13: -5.3 | I13: 0
A14: 2 原料品 | B14: =VLOOKUP(A14,'4'!A:B,2,0) -> 원료품 | F14: 175462 | G14: 3.7 | H14: 1.8 | I14: 0.1
A15: 木材 | B15: =VLOOKUP(A15,'4'!A:B,2,0) -> 목재 | F15: 2791 | G15: 0.1 | H15: -11.6 | I15: 0
A16: 非鉄金属鉱 | B16: =VLOOKUP(A16,'4'!A:B,2,0) -> 비철금속광 | C16: 千トン(천톤) | D16: 38 | E16: -35.6 | F16: 38560 | G16: 0.8 | H16: 2.1 | I16: 0
A17: 鉄鉱石 | B17: =VLOOKUP(A17,'4'!A:B,2,0) -> 철광석 | C17: 千トン(천톤) | D17: - | F17: - | G17: - | I17: -
A18: 大豆 | B18: =VLOOKUP(A18,'4'!A:B,2,0) -> 대두 | C18: トン(톤) | D18: 517 | E18: -39 | F18: 77 | G18: 0 | H18: -48.2 | I18: 0
A19: 3 鉱物性燃料 | B19: =VLOOKUP(A19,'4'!A:B,2,0) -> 광물성 원료 | F19: 195721 | G19: 4.1 | H19: -26 | I19: -1.5
A20: 原油及び粗油 | B20: =VLOOKUP(A20,'4'!A:B,2,0) -> 원유 및 조유 | C20: 千ＫＬ | D20: - | F20: - | G20: - | I20: -
A21: 石油製品 | B21: =VLOOKUP(A21,'4'!A:B,2,0) -> 석유제품 | F21: 72648 | G21: 1.5 | H21: -31.3 | I21: -0.7
A22: （揮発油） | B22: =VLOOKUP(A22,'4'!A:B,2,0) -> 휘발유 | C22: 千ＫＬ | D22: 511 | E22: -22.2 | F22: 38415 | G22: 0.8 | H22: -23.9 | I22: -0.3
A23: 液化天然ガス | B23: =VLOOKUP(A23,'4'!A:B,2,0) -> 액화 천연 가스 | C23: 千トン(천톤) | D23: 1007 | E23: -19.6 | F23: 82789 | G23: 1.7 | H23: -27.2 | I23: -0.7
A24: 液化石油ガス | B24: =VLOOKUP(A24,'4'!A:B,2,0) -> 액화 석유 가스 | C24: 千トン(천톤) | D24: 3 | E24: -16.6 | F24: 955 | G24: 0 | H24: -17.4 | I24: 0
A25: 石炭 | B25: =VLOOKUP(A25,'4'!A:B,2,0) -> 석탄 | C25: 千トン(천톤) | D25: 2111 | E25: 21.2 | F25: 35984 | G25: 0.7 | H25: -11.3 | I25: -0.1
A26: （一般炭） | B26: =VLOOKUP(A26,'4'!A:B,2,0) -> 일반탄 | C26: 千トン(천톤) | D26: 1186 | E26: 54 | F26: 18212 | G26: 0.4 | H26: 10.9 | I26: 0
A27: 4 化学製品 | B27: =VLOOKUP(A27,'4'!A:B,2,0) -> 화학제품 | F27: 375657 | G27: 7.8 | H27: 2.7 | I27: 0.2
A28: 有機化合物 | B28: =VLOOKUP(A28,'4'!A:B,2,0) -> 유기화합물 | F28: 88231 | G28: 1.8 | H28: -6.5 | I28: -0.1
A29: 医薬品 | B29: =VLOOKUP(A29,'4'!A:B,2,0) -> 의약품 | C29: ＫＧ | D29: 5823477 | E29: 9.3 | F29: 44548 | G29: 0.9 | H29: 44.3 | I29: 0.3
A30: 5 原料別製品 | B30: =VLOOKUP(A30,'4'!A:B,2,0) -> 원료별 제품 | F30: 517800 | G30: 10.8 | H30: -0.9 | I30: -0.1
A31: 鉄鋼 | B31: =VLOOKUP(A31,'4'!A:B,2,0) -> 철강 | C31: トン(톤) | D31: 524136 | E31: -9.4 | F31: 78116 | G31: 1.6 | H31: -13.4 | I31: -0.3
A32: 非鉄金属 | B32: =VLOOKUP(A32,'4'!A:B,2,0) -> 비철금속 | C32: トン(톤) | D32: 75198 | E32: 0.1 | F32: 82502 | G32: 1.7 | H32: 24.9 | I32: 0.4
A33: 金属製品 | B33: =VLOOKUP(A33,'4'!A:B,2,0) -> 금속제품 | F33: 111853 | G33: 2.3 | H33: -3.7 | I33: -0.1
A34: 織物用糸・繊維製品 | B34: =VLOOKUP(A34,'4'!A:B,2,0) -> 직물용 실 및 섬유제품 | F34: 91566 | G34: 1.9 | H34: -1.3 | I34: 0
A35: 非金属鉱物製品 | B35: =VLOOKUP(A35,'4'!A:B,2,0) -> 비금속 철물제품 | F35: 43845 | G35: 0.9 | H35: -2.3 | I35: 0
A36: 木製品等（除家具） | B36: =VLOOKUP(A36,'4'!A:B,2,0) -> 목제품 등; 가구 제외 | F36: 51253 | G36: 1.1 | H36: -6.3 | I36: -0.1
A37: 6 一般機械 | B37: =VLOOKUP(A37,'4'!A:B,2,0) -> 일반 기계 | F37: 633721 | G37: 13.2 | H37: 8.6 | I37: 1.1
A38: 原動機 | B38: =VLOOKUP(A38,'4'!A:B,2,0) -> 원동기 | C38: トン(톤) | D38: 21686 | E38: 13.6 | F38: 35210 | G38: 0.7 | H38: 18.2 | I38: 0.1
A39: 電算機類（含周辺機器） | B39: =VLOOKUP(A39,'4'!A:B,2,0) -> 전산기류, 주변기기 포함 | C39: 千台(천대) | D39: 8997 | E39: 14.5 | F39: 265728 | G39: 5.5 | H39: 18 | I39: 0.9
A40: 電算機類の部分品 | B40: =VLOOKUP(A40,'4'!A:B,2,0) -> 전산기류의 부분품 | C40: トン(톤) | D40: 6636 | E40: -14.6 | F40: 45199 | G40: 0.9 | H40: -12.2 | I40: -0.1
A41: 7 電気機器 | B41: =VLOOKUP(A41,'4'!A:B,2,0) -> 전기 기기 | F41: 1453500 | G41: 30.3 | H41: 3.5 | I41: 1.1
A42: 半導体等電子部品 | B42: =VLOOKUP(A42,'4'!A:B,2,0) -> 반도체 등 전자부품 | F42: 347812 | G42: 7.2 | H42: 21.4 | I42: 1.3
A43: （ＩＣ） | B43: =VLOOKUP(A43,'4'!A:B,2,0) -> IC | C43: 百万個(백만개) | D43: 1717 | E43: 19.1 | F43: 306010 | G43: 6.4 | H43: 24.9 | I43: 1.3
A44: 絶縁電線・絶縁ケーブル | B44: =VLOOKUP(A44,'4'!A:B,2,0) -> 절연 전선 및 절연 케이블 | C44: トン(톤) | D44: 33629 | E44: -3.4 | F44: 107529 | G44: 2.2 | H44: -0.5 | I44: 0
A45: 音響映像機器（含部品） | B45: =VLOOKUP(A45,'4'!A:B,2,0) -> 음향 영상 기기, 부품 포함 | F45: 147682 | G45: 3.1 | H45: 2.5 | I45: 0.1
A46: 重電機器 | B46: =VLOOKUP(A46,'4'!A:B,2,0) -> 중전 기기 | F46: 86011 | G46: 1.8 | H46: 12.2 | I46: 0.2
A47: 通信機 | B47: =VLOOKUP(A47,'4'!A:B,2,0) -> 통신기 | F47: 424671 | G47: 8.9 | H47: -11.5 | I47: -1.2
A48: （電話機） | B48: =VLOOKUP(A48,'4'!A:B,2,0) -> 전화기 | C48: 台(대) | D48: 3401635 | E48: -10.9 | F48: 313362 | G48: 6.5 | H48: -17.2 | I48: -1.4
A49: 電気計測機器 | B49: =VLOOKUP(A49,'4'!A:B,2,0) -> 전기 계측 기기 | F49: 43926 | G49: 0.9 | H49: 16.2 | I49: 0.1
A50: 8 輸送用機器 | B50: =VLOOKUP(A50,'4'!A:B,2,0) -> 수송용 기기 | F50: 151827 | G50: 3.2 | H50: 6.6 | I50: 0.2
A51: 自動車 | B51: =VLOOKUP(A51,'4'!A:B,2,0) -> 자동차 | C51: 台(대) | D51: 13193 | E51: 59.4 | F51: 31881 | G51: 0.7 | H51: 41.1 | I51: 0.2
A52: 自動車の部分品 | B52: =VLOOKUP(A52,'4'!A:B,2,0) -> 자동차의 부분품 | F52: 90329 | G52: 1.9 | H52: 2.1 | I52: 0
A53: 航空機類 | B53: =VLOOKUP(A53,'4'!A:B,2,0) -> 항공기류 | F53: 3707 | G53: 0.1 | H53: 3.6 | I53: 0
A54: 9 その他 | B54: =VLOOKUP(A54,'4'!A:B,2,0) -> 기타 | F54: 1005145 | G54: 20.9 | H54: 12.6 | I54: 2.4
A55: 科学光学機器 | B55: =VLOOKUP(A55,'4'!A:B,2,0) -> 과학 광학 기기 | F55: 84932 | G55: 1.8 | H55: -1.1 | I55: 0
A56: 衣類・同付属品 | B56: =VLOOKUP(A56,'4'!A:B,2,0) -> 의류 및 관련 부속품 | F56: 277658 | G56: 5.8 | H56: 4.9 | I56: 0.3
A57: 家具 | B57: =VLOOKUP(A57,'4'!A:B,2,0) -> 가구 | C57: トン(톤) | D57: 122096 | E57: -2.5 | F57: 78175 | G57: 1.6 | H57: -1.5 | I57: 0
A58: バッグ類 | B58: =VLOOKUP(A58,'4'!A:B,2,0) -> 가방류 | F58: 39751 | G58: 0.8 | H58: -4 | I58: 0
A59: （注）「伸率」は対前年伸率（％）を示す。ただし「＊」を付した数値は、前年に対する倍率を示す。
A60: =HLOOKUP(A59,'5'!58:59,2,0) -> 변화율은 전년대비 변화율을 나타냅니다. *를 붙인 수치는 전년대비 배율을 나타냅니다.
A62: 「増減寄与度」は前年に対する増減寄与度。
A63: =HLOOKUP(A62,'5'!61:62,2,0) -> 증감 기여도는 전년대비 증감 기여도입니다.

Sheet 16
A1: 主要地域（国）別商品別輸入(中華人民共和国)
A2: =VLOOKUP(A1,目次!B:C,2,0) -> 주요 지역, 국가별 및 상품별 수입, 중국
A3: （単位：百万円、％）
A4: 단위: 백만엔, %
C5: 単位 | D5: 数量 | E5: 伸率 | F5: 価額 | G5: 構成比 | H5: 伸率 | I5: 増減寄与度
A6: 品名 | B6: =VLOOKUP(A6,'4'!A:B,2,0) -> 품명 | C6: =HLOOKUP(C5,'5'!5:6,2,0) -> 단위 | D6: =HLOOKUP(D5,'5'!5:6,2,0) -> 수량 | E6: =HLOOKUP(E5,'5'!5:6,2,0) -> 변화율 | F6: =HLOOKUP(F5,'5'!5:6,2,0) -> 가액 | G6: =HLOOKUP(G5,'5'!5:6,2,0) -> 구성비 | H6: =HLOOKUP(H5,'5'!5:6,2,0) -> 변화율 | I6: =HLOOKUP(I5,'5'!5:6,2,0) -> 증감 기여도
A7: 総額 | B7: =VLOOKUP(A7,'4'!A:B,2,0) -> 총액 | F7: 2400283 | G7: 100 | H7: 2.3 | I7: 2.3
A8: 1 食料品 | B8: =VLOOKUP(A8,'4'!A:B,2,0) -> 식료품 | F8: 109875 | G8: 4.6 | H8: -2.9 | I8: -0.1
A9: 魚介類 | B9: =VLOOKUP(A9,'4'!A:B,2,0) -> 어개류 | C9: トン(톤) | D9: 30240 | E9: -10.2 | F9: 29209 | G9: 1.2 | H9: -6.2 | I9: -0.1
A10: 肉類 | B10: =VLOOKUP(A10,'4'!A:B,2,0) -> 육류 | C10: トン(톤) | D10: 22998 | E10: 9.2 | F10: 14575 | G10: 0.6 | H10: 6.7 | I10: 0
A11: 穀物類 | B11: =VLOOKUP(A11,'4'!A:B,2,0) -> 곡물류 | C11: トン(톤) | D11: 25533 | E11: 94.3 | F11: 5847 | G11: 0.2 | H11: 60.4 | I11: 0.1
A12: 野菜 | B12: =VLOOKUP(A12,'4'!A:B,2,0) -> 채소 | C12: トン(톤) | D12: 141561 | E12: -0.1 | F12: 34205 | G12: 1.4 | H12: -5.5 | I12: -0.1
A13: 果実 | B13: =VLOOKUP(A13,'4'!A:B,2,0) -> 과실 | C13: トン(톤) | D13: 25274 | E13: -8.1 | F13: 9643 | G13: 0.4 | H13: -6.7 | I13: 0
A14: 2 原料品 | B14: =VLOOKUP(A14,'4'!A:B,2,0) -> 원료품 | F14: 24014 | G14: 1 | H14: 12.8 | I14: 0.1
A15: 木材 | B15: =VLOOKUP(A15,'4'!A:B,2,0) -> 목재 | F15: 1242 | G15: 0.1 | H15: -11.9 | I15: 0
A16: 非鉄金属鉱 | B16: =VLOOKUP(A16,'4'!A:B,2,0) -> 비철금속광 | C16: 千トン(천톤) | D16: 1 | E16: -47.7 | F16: 110 | G16: 0 | H16: -46.8 | I16: 0
A17: 鉄鉱石 | B17: =VLOOKUP(A17,'4'!A:B,2,0) -> 철광석 | C17: 千トン(천톤) | D17: - | F17: - | G17: - | I17: -
A18: 大豆 | B18: =VLOOKUP(A18,'4'!A:B,2,0) -> 대두 | C18: トン(톤) | D18: 517 | E18: -39 | F18: 77 | G18: 0 | H18: -48.2 | I18: 0
A19: 3 鉱物性燃料 | B19: =VLOOKUP(A19,'4'!A:B,2,0) -> 광물성 원료 | F19: 13691 | G19: 0.6 | H19: -29.5 | I19: -0.2
A20: 原油及び粗油 | B20: =VLOOKUP(A20,'4'!A:B,2,0) -> 원유 및 조유 | C20: 千ＫＬ | D20: - | F20: - | G20: - | I20: -
A21: 石油製品 | B21: =VLOOKUP(A21,'4'!A:B,2,0) -> 석유제품 | F21: 10099 | G21: 0.4 | H21: -34.3 | I21: -0.2
A22: （揮発油） | B22: =VLOOKUP(A22,'4'!A:B,2,0) -> 휘발유 | C22: 千ＫＬ | D22: 48 | E22: *986 | F22: 3874 | G22: 0.2 | H22: *282 | I22: 0.2
A23: 液化天然ガス | B23: =VLOOKUP(A23,'4'!A:B,2,0) -> 액화 천연 가스 | C23: 千トン(천톤) | D23: - | F23: - | G23: - | I23: -
A24: 液化石油ガス | B24: =VLOOKUP(A24,'4'!A:B,2,0) -> 액화 석유 가스 | C24: 千トン(천톤) | D24: 0 | E24: 300 | F24: 13 | G24: 0 | H24: 39.4 | I24: 0
A25: 石炭 | B25: =VLOOKUP(A25,'4'!A:B,2,0) -> 석탄 | C25: 千トン(천톤) | D25: 7 | E25: -75.3 | F25: 338 | G25: 0 | H25: -66.3 | I25: 0
A26: （一般炭） | B26: =VLOOKUP(A26,'4'!A:B,2,0) -> 일반탄 | C26: 千トン(천톤) | D26: - | F26: - | G26: - | I26: -
A27: 4 化学製品 | B27: =VLOOKUP(A27,'4'!A:B,2,0) -> 화학제품 | F27: 172208 | G27: 7.2 | H27: 5.4 | I27: 0.4
A28: 有機化合物 | B28: =VLOOKUP(A28,'4'!A:B,2,0) -> 유기화합물 | F28: 47168 | G28: 2 | H28: -4.9 | I28: -0.1
A29: 医薬品 | B29: =VLOOKUP(A29,'4'!A:B,2,0) -> 의약품 | C29: ＫＧ | D29: 3738739 | E29: -7.3 | F29: 25247 | G29: 1.1 | H29: 85 | I29: 0.5
A30: 5 原料別製品 | B30: =VLOOKUP(A30,'4'!A:B,2,0) -> 원료별 제품 | F30: 263632 | G30: 11 | H30: -1.2 | I30: -0.1
A31: 鉄鋼 | B31: =VLOOKUP(A31,'4'!A:B,2,0) -> 철강 | C31: トン(톤) | D31: 140761 | E31: -13.4 | F31: 25249 | G31: 1.1 | H31: -10.3 | I31: -0.1
A32: 非鉄金属 | B32: =VLOOKUP(A32,'4'!A:B,2,0) -> 비철금속 | C32: トン(톤) | D32: 31443 | E32: -6.1 | F32: 32132 | G32: 1.3 | H32: 27.9 | I32: 0.3
A33: 金属製品 | B33: =VLOOKUP(A33,'4'!A:B,2,0) -> 금속제품 | F33: 75000 | G33: 3.1 | H33: -7.4 | I33: -0.3
A34: 織物用糸・繊維製品 | B34: =VLOOKUP(A34,'4'!A:B,2,0) -> 직물용 실 및 섬유제품 | F34: 59153 | G34: 2.5 | H34: -1.6 | I34: 0
A35: 非金属鉱物製品 | B35: =VLOOKUP(A35,'4'!A:B,2,0) -> 비금속 철물제품 | F35: 26175 | G35: 1.1 | H35: 0.8 | I35: 0
A36: 木製品等（除家具） | B36: =VLOOKUP(A36,'4'!A:B,2,0) -> 목제품 등; 가구 제외 | F36: 12902 | G36: 0.5 | H36: -8.6 | I36: -0.1
A37: 6 一般機械 | B37: =VLOOKUP(A37,'4'!A:B,2,0) -> 일반 기계 | F37: 410274 | G37: 17.1 | H37: 8.1 | I37: 1.3
A38: 原動機 | B38: =VLOOKUP(A38,'4'!A:B,2,0) -> 원동기 | C38: トン(톤) | D38: 12375 | E38: 10.1 | F38: 18865 | G38: 0.8 | H38: 18.3 | I38: 0.1
A39: 電算機類（含周辺機器） | B39: =VLOOKUP(A39,'4'!A:B,2,0) -> 전산기류, 주변기기 포함 | C39: 千台(천대) | D39: 6943 | E39: 22.5 | F39: 203790 | G39: 8.5 | H39: 19.4 | I39: 1.4
A40: 電算機類の部分品 | B40: =VLOOKUP(A40,'4'!A:B,2,0) -> 전산기류의 부분품 | C40: トン(톤) | D40: 4510 | E40: -18.1 | F40: 27222 | G40: 1.1 | H40: -18.4 | I40: -0.3
A41: 7 電気機器 | B41: =VLOOKUP(A41,'4'!A:B,2,0) -> 전기 기기 | F41: 786244 | G41: 32.8 | H41: -4 | I41: -1.4
A42: 半導体等電子部品 | B42: =VLOOKUP(A42,'4'!A:B,2,0) -> 반도체 등 전자부품 | F42: 46804 | G42: 1.9 | H42: 24.5 | I42: 0.4
A43: （ＩＣ） | B43: =VLOOKUP(A43,'4'!A:B,2,0) -> IC | C43: 百万個(백만개) | D43: 183 | E43: 18.2 | F43: 27791 | G43: 1.2 | H43: 50.6 | I43: 0.4
A44: 絶縁電線・絶縁ケーブル | B44: =VLOOKUP(A44,'4'!A:B,2,0) -> 절연 전선 및 절연 케이블 | C44: トン(톤) | D44: 8557 | E44: 1.4 | F44: 28137 | G44: 1.2 | H44: 2.8 | I44: 0
A45: 音響映像機器（含部品） | B45: =VLOOKUP(A45,'4'!A:B,2,0) -> 음향 영상 기기, 부품 포함 | F45: 99364 | G45: 4.1 | H45: -0.2 | I45: 0
A46: 重電機器 | B46: =VLOOKUP(A46,'4'!A:B,2,0) -> 중전 기기 | F46: 57749 | G46: 2.4 | H46: 9 | I46: 0.2
A47: 通信機 | B47: =VLOOKUP(A47,'4'!A:B,2,0) -> 통신기 | F47: 335365 | G47: 14 | H47: -15.7 | I47: -2.7
A48: （電話機） | B48: =VLOOKUP(A48,'4'!A:B,2,0) -> 전화기 | C48: 台(대) | D48: 2726717 | E48: -17.5 | F48: 283922 | G48: 11.8 | H48: -18.5 | I48: -2.7
A49: 電気計測機器 | B49: =VLOOKUP(A49,'4'!A:B,2,0) -> 전기 계측 기기 | F49: 22532 | G49: 0.9 | H49: 7.1 | I49: 0.1
A50: 8 輸送用機器 | B50: =VLOOKUP(A50,'4'!A:B,2,0) -> 수송용 기기 | F50: 81266 | G50: 3.4 | H50: 2.3 | I50: 0.1
A51: 自動車 | B51: =VLOOKUP(A51,'4'!A:B,2,0) -> 자동차 | C51: 台(대) | D51: 2806 | E51: 69 | F51: 9855 | G51: 0.4 | H51: 42.8 | I51: 0.1
A52: 自動車の部分品 | B52: =VLOOKUP(A52,'4'!A:B,2,0) -> 자동차의 부분품 | F52: 53437 | G52: 2.2 | H52: 0.5 | I52: 0
A53: 航空機類 | B53: =VLOOKUP(A53,'4'!A:B,2,0) -> 항공기류 | F53: 2029 | G53: 0.1 | H53: 224.6 | I53: 0.1
A54: 9 その他 | B54: =VLOOKUP(A54,'4'!A:B,2,0) -> 기타 | F54: 539078 | G54: 22.5 | H54: 11.5 | I54: 2.4
A55: 科学光学機器 | B55: =VLOOKUP(A55,'4'!A:B,2,0) -> 과학 광학 기기 | F55: 37841 | G55: 1.6 | H55: 4.4 | I55: 0.1
A56: 衣類・同付属品 | B56: =VLOOKUP(A56,'4'!A:B,2,0) -> 의류 및 관련 부속품 | F56: 143478 | G56: 6 | H56: -0.2 | I56: 0
A57: 家具 | B57: =VLOOKUP(A57,'4'!A:B,2,0) -> 가구 | C57: トン(톤) | D57: 89658 | E57: -0.6 | F57: 57545 | G57: 2.4 | H57: -0.6 | I57: 0
A58: バッグ類 | B58: =VLOOKUP(A58,'4'!A:B,2,0) -> 가방류 | F58: 28061 | G58: 1.2 | H58: 2.5 | I58: 0
A59: （注）「伸率」は対前年伸率（％）を示す。ただし「＊」を付した数値は、前年に対する倍率を示す。
A60: =HLOOKUP(A59,'5'!58:59,2,0) -> 변화율은 전년대비 변화율을 나타냅니다. *를 붙인 수치는 전년대비 배율을 나타냅니다.
A62: 「増減寄与度」は前年に対する増減寄与度。
A63: =HLOOKUP(A62,'5'!61:62,2,0) -> 증감 기여도는 전년대비 증감 기여도입니다.

Sheet 17
A1: 主要地域（国）別商品別輸入(大韓民国)
A2: =VLOOKUP(A1,目次!B:C,2,0) -> 주요 지역, 국가별 및 상품별 수입, 대한민국
A3: （単位：百万円、％）
A4: 단위: 백만엔, %
C5: 単位 | D5: 数量 | E5: 伸率 | F5: 価額 | G5: 構成比 | H5: 伸率 | I5: 増減寄与度
A6: 品名 | B6: =VLOOKUP(A6,'4'!A:B,2,0) -> 품명 | C6: =HLOOKUP(C5,'5'!5:6,2,0) -> 단위 | D6: =HLOOKUP(D5,'5'!5:6,2,0) -> 수량 | E6: =HLOOKUP(E5,'5'!5:6,2,0) -> 변화율 | F6: =HLOOKUP(F5,'5'!5:6,2,0) -> 가액 | G6: =HLOOKUP(G5,'5'!5:6,2,0) -> 구성비 | H6: =HLOOKUP(H5,'5'!5:6,2,0) -> 변화율 | I6: =HLOOKUP(I5,'5'!5:6,2,0) -> 증감 기여도
A7: 総額 | B7: =VLOOKUP(A7,'4'!A:B,2,0) -> 총액 | F7: 367471 | G7: 100 | H7: -9.8 | I7: -9.8
A8: 1 食料品 | B8: =VLOOKUP(A8,'4'!A:B,2,0) -> 식료품 | F8: 31247 | G8: 8.5 | H8: -14.5 | I8: -1.3
A9: 魚介類 | B9: =VLOOKUP(A9,'4'!A:B,2,0) -> 어개류 | C9: トン(톤) | D9: 4946 | E9: -2.1 | F9: 5519 | G9: 1.5 | H9: -4.5 | I9: -0.1
A10: 肉類 | B10: =VLOOKUP(A10,'4'!A:B,2,0) -> 육류 | C10: トン(톤) | D10: 197 | E10: 37.8 | F10: 128 | G10: 0 | H10: 43.2 | I10: 0
A11: 穀物類 | B11: =VLOOKUP(A11,'4'!A:B,2,0) -> 곡물류 | C11: トン(톤) | D11: 5355 | E11: 3.6 | F11: 2061 | G11: 0.6 | H11: 13 | I11: 0.1
A12: 野菜 | B12: =VLOOKUP(A12,'4'!A:B,2,0) -> 채소 | C12: トン(톤) | D12: 3494 | E12: -2.4 | F12: 3016 | G12: 0.8 | H12: 11 | I12: 0.1
A13: 果実 | B13: =VLOOKUP(A13,'4'!A:B,2,0) -> 과실 | C13: トン(톤) | D13: 1145 | E13: -15.6 | F13: 1349 | G13: 0.4 | H13: -13.8 | I13: -0.1
A14: 2 原料品 | B14: =VLOOKUP(A14,'4'!A:B,2,0) -> 원료품 | F14: 8618 | G14: 2.3 | H14: 21.7 | I14: 0.4
A15: 木材 | B15: =VLOOKUP(A15,'4'!A:B,2,0) -> 목재 | F15: 12 | G15: 0 | H15: 394.1 | I15: 0
A16: 非鉄金属鉱 | B16: =VLOOKUP(A16,'4'!A:B,2,0) -> 비철금속광 | C16: 千トン(천톤) | D16: 1 | E16: 124 | F16: 1334 | G16: 0.4 | H16: 82.2 | I16: 0.1
A17: 鉄鉱石 | B17: =VLOOKUP(A17,'4'!A:B,2,0) -> 철광석 | C17: 千トン(천톤) | D17: - | F17: - | G17: - | I17: -
A18: 大豆 | B18: =VLOOKUP(A18,'4'!A:B,2,0) -> 대두 | C18: トン(톤) | D18: - | F18: - | G18: - | I18: -
A19: 3 鉱物性燃料 | B19: =VLOOKUP(A19,'4'!A:B,2,0) -> 광물성 원료 | F19: 53818 | G19: 14.6 | H19: -37.5 | I19: -7.9
A20: 原油及び粗油 | B20: =VLOOKUP(A20,'4'!A:B,2,0) -> 원유 및 조유 | C20: 千ＫＬ | D20: - | F20: - | G20: - | I20: -
A21: 石油製品 | B21: =VLOOKUP(A21,'4'!A:B,2,0) -> 석유제품 | F21: 52876 | G21: 14.4 | H21: -37.8 | I21: -7.9
A22: （揮発油） | B22: =VLOOKUP(A22,'4'!A:B,2,0) -> 휘발유 | C22: 千ＫＬ | D22: 409 | E22: -34.3 | F22: 29855 | G22: 8.1 | H22: -37.9 | I22: -4.5
A23: 液化天然ガス | B23: =VLOOKUP(A23,'4'!A:B,2,0) -> 액화 천연 가스 | C23: 千トン(천톤) | D23: - | F23: - | G23: - | I23: -
A24: 液化石油ガス | B24: =VLOOKUP(A24,'4'!A:B,2,0) -> 액화 석유 가스 | C24: 千トン(천톤) | D24: 3 | E24: -16.8 | F24: 942 | G24: 0.3 | H24: -17.9 | I24: -0.1
A25: 石炭 | B25: =VLOOKUP(A25,'4'!A:B,2,0) -> 석탄 | C25: 千トン(천톤) | D25: - | F25: - | G25: - | I25: -
A26: （一般炭） | B26: =VLOOKUP(A26,'4'!A:B,2,0) -> 일반탄 | C26: 千トン(천톤) | D26: - | F26: - | G26: - | I26: -
A27: 4 化学製品 | B27: =VLOOKUP(A27,'4'!A:B,2,0) -> 화학제품 | F27: 67680 | G27: 18.4 | H27: 1 | I27: 0.2
A28: 有機化合物 | B28: =VLOOKUP(A28,'4'!A:B,2,0) -> 유기화합물 | F28: 13708 | G28: 3.7 | H28: 7.1 | I28: 0.2
A29: 医薬品 | B29: =VLOOKUP(A29,'4'!A:B,2,0) -> 의약품 | C29: ＫＧ | D29: 307939 | E29: 54.6 | F29: 9024 | G29: 2.5 | H29: 57.6 | I29: 0.8
A30: 5 原料別製品 | B30: =VLOOKUP(A30,'4'!A:B,2,0) -> 원료별 제품 | F30: 65117 | G30: 17.7 | H30: -9.3 | I30: -1.6
A31: 鉄鋼 | B31: =VLOOKUP(A31,'4'!A:B,2,0) -> 철강 | C31: トン(톤) | D31: 276262 | E31: -6.6 | F31: 34199 | G31: 9.3 | H31: -15.7 | I31: -1.6
A32: 非鉄金属 | B32: =VLOOKUP(A32,'4'!A:B,2,0) -> 비철금속 | C32: トン(톤) | D32: 4784 | E32: -30.3 | F32: 15133 | G32: 4.1 | H32: 8.2 | I32: 0.3
A33: 金属製品 | B33: =VLOOKUP(A33,'4'!A:B,2,0) -> 금속제품 | F33: 6758 | G33: 1.8 | H33: -10.4 | I33: -0.2
A34: 織物用糸・繊維製品 | B34: =VLOOKUP(A34,'4'!A:B,2,0) -> 직물용 실 및 섬유제품 | F34: 2824 | G34: 0.8 | H34: -8.5 | I34: -0.1
A35: 非金属鉱物製品 | B35: =VLOOKUP(A35,'4'!A:B,2,0) -> 비금속 철물제품 | F35: 3217 | G35: 0.9 | H35: 1.7 | I35: 0
A36: 木製品等（除家具） | B36: =VLOOKUP(A36,'4'!A:B,2,0) -> 목제품 등; 가구 제외 | F36: 38 | G36: 0 | H36: -38.1 | I36: 0
A37: 6 一般機械 | B37: =VLOOKUP(A37,'4'!A:B,2,0) -> 일반 기계 | F37: 42513 | G37: 11.6 | H37: 2.5 | I37: 0.3
A38: 原動機 | B38: =VLOOKUP(A38,'4'!A:B,2,0) -> 원동기 | C38: トン(톤) | D38: 3141 | E38: 16.5 | F38: 4751 | G38: 1.3 | H38: 37.7 | I38: 0.3
A39: 電算機類（含周辺機器） | B39: =VLOOKUP(A39,'4'!A:B,2,0) -> 전산기류, 주변기기 포함 | C39: 千台(천대) | D39: 19 | E39: -27.7 | F39: 887 | G39: 0.2 | H39: -34.7 | I39: -0.1
A40: 電算機類の部分品 | B40: =VLOOKUP(A40,'4'!A:B,2,0) -> 전산기류의 부분품 | C40: トン(톤) | D40: 47 | E40: 249 | F40: 1159 | G40: 0.3 | H40: -20 | I40: -0.1
A41: 7 電気機器 | B41: =VLOOKUP(A41,'4'!A:B,2,0) -> 전기 기기 | F41: 54712 | G41: 14.9 | H41: 15.8 | I41: 1.8
A42: 半導体等電子部品 | B42: =VLOOKUP(A42,'4'!A:B,2,0) -> 반도체 등 전자부품 | F42: 24087 | G42: 6.6 | H42: 41.3 | I42: 1.7
A43: （ＩＣ） | B43: =VLOOKUP(A43,'4'!A:B,2,0) -> IC | C43: 百万個(백만개) | D43: 48 | E43: 39.6 | F43: 22721 | G43: 6.2 | H43: 52.6 | I43: 1.9
A44: 絶縁電線・絶縁ケーブル | B44: =VLOOKUP(A44,'4'!A:B,2,0) -> 절연 전선 및 절연 케이블 | C44: トン(톤) | D44: 917 | E44: -30.8 | F44: 1511 | G44: 0.4 | H44: -24 | I44: -0.1
A45: 音響映像機器（含部品） | B45: =VLOOKUP(A45,'4'!A:B,2,0) -> 음향 영상 기기, 부품 포함 | F45: 2605 | G45: 0.7 | H45: -26.3 | I45: -0.2
A46: 重電機器 | B46: =VLOOKUP(A46,'4'!A:B,2,0) -> 중전 기기 | F46: 3643 | G46: 1 | H46: 1.7 | I46: 0
A47: 通信機 | B47: =VLOOKUP(A47,'4'!A:B,2,0) -> 통신기 | F47: 4114 | G47: 1.1 | H47: 14.4 | I47: 0.1
A48: （電話機） | B48: =VLOOKUP(A48,'4'!A:B,2,0) -> 전화기 | C48: 台(대) | D48: 1381 | E48: -38.6 | F48: 50 | G48: 0 | H48: -61.1 | I48: 0
A49: 電気計測機器 | B49: =VLOOKUP(A49,'4'!A:B,2,0) -> 전기 계측 기기 | F49: 2363 | G49: 0.6 | H49: 59.2 | I49: 0.2
A50: 8 輸送用機器 | B50: =VLOOKUP(A50,'4'!A:B,2,0) -> 수송용 기기 | F50: 6798 | G50: 1.8 | H50: -3.1 | I50: -0.1
A51: 自動車 | B51: =VLOOKUP(A51,'4'!A:B,2,0) -> 자동차 | C51: 台(대) | D51: 269 | E51: 691.2 | F51: 882 | G51: 0.2 | H51: 191.6 | I51: 0.1
A52: 自動車の部分品 | B52: =VLOOKUP(A52,'4'!A:B,2,0) -> 자동차의 부분품 | F52: 4804 | G52: 1.3 | H52: -5.7 | I52: -0.1
A53: 航空機類 | B53: =VLOOKUP(A53,'4'!A:B,2,0) -> 항공기류 | F53: 826 | G53: 0.2 | H53: -40.1 | I53: -0.1
A54: 9 その他 | B54: =VLOOKUP(A54,'4'!A:B,2,0) -> 기타 | F54: 36969 | G54: 10.1 | H54: -13.8 | I54: -1.4
A55: 科学光学機器 | B55: =VLOOKUP(A55,'4'!A:B,2,0) -> 과학 광학 기기 | F55: 5904 | G55: 1.6 | H55: 0.9 | I55: 0
A56: 衣類・同付属品 | B56: =VLOOKUP(A56,'4'!A:B,2,0) -> 의류 및 관련 부속품 | F56: 523 | G56: 0.1 | H56: -38.6 | I56: -0.1
A57: 家具 | B57: =VLOOKUP(A57,'4'!A:B,2,0) -> 가구 | C57: トン(톤) | D57: 474 | E57: 16.1 | F57: 476 | G57: 0.1 | H57: 12.2 | I57: 0
A58: バッグ類 | B58: =VLOOKUP(A58,'4'!A:B,2,0) -> 가방류 | F58: 207 | G58: 0.1 | H58: 24.3 | I58: 0
A59: （注）「伸率」は対前年伸率（％）を示す。ただし「＊」を付した数値は、前年に対する倍率を示す。
A60: =HLOOKUP(A59,'5'!58:59,2,0) -> 변화율은 전년대비 변화율을 나타냅니다. *를 붙인 수치는 전년대비 배율을 나타냅니다.
A62: 「増減寄与度」は前年に対する増減寄与度。
A63: =HLOOKUP(A62,'5'!61:62,2,0) -> 증감 기여도는 전년대비 증감 기여도입니다.

Sheet 18
A1: 主要地域（国）別商品別輸入(ＡＳＥＡＮ)
A2: =VLOOKUP(A1,目次!B:C,2,0) -> 주요 지역, 국가별 및 상품별 수입, 아세안
A3: （単位：百万円、％）
A4: 단위: 백만엔, %
C5: 単位 | D5: 数量 | E5: 伸率 | F5: 価額 | G5: 構成比 | H5: 伸率 | I5: 増減寄与度
A6: 品名 | B6: =VLOOKUP(A6,'4'!A:B,2,0) -> 품명 | C6: =HLOOKUP(C5,'5'!5:6,2,0) -> 단위 | D6: =HLOOKUP(D5,'5'!5:6,2,0) -> 수량 | E6: =HLOOKUP(E5,'5'!5:6,2,0) -> 변화율 | F6: =HLOOKUP(F5,'5'!5:6,2,0) -> 가액 | G6: =HLOOKUP(G5,'5'!5:6,2,0) -> 구성비 | H6: =HLOOKUP(H5,'5'!5:6,2,0) -> 변화율 | I6: =HLOOKUP(I5,'5'!5:6,2,0) -> 증감 기여도
A7: 総額 | B7: =VLOOKUP(A7,'4'!A:B,2,0) -> 총액 | F7: 1441157 | G7: 100 | H7: 3.4 | I7: 3.4
A8: 1 食料品 | B8: =VLOOKUP(A8,'4'!A:B,2,0) -> 식료품 | F8: 128188 | G8: 8.9 | H8: -4.8 | I8: -0.5
A9: 魚介類 | B9: =VLOOKUP(A9,'4'!A:B,2,0) -> 어개류 | C9: トン(톤) | D9: 27054 | E9: -14.4 | F9: 31291 | G9: 2.2 | H9: -4.4 | I9: -0.1
A10: 肉類 | B10: =VLOOKUP(A10,'4'!A:B,2,0) -> 육류 | C10: トン(톤) | D10: 42956 | E10: -2.7 | F10: 27046 | G10: 1.9 | H10: -4.1 | I10: -0.1
A11: 穀物類 | B11: =VLOOKUP(A11,'4'!A:B,2,0) -> 곡물류 | C11: トン(톤) | D11: 19174 | E11: -50.7 | F11: 4379 | G11: 0.3 | H11: -32 | I11: -0.1
A12: 野菜 | B12: =VLOOKUP(A12,'4'!A:B,2,0) -> 채소 | C12: トン(톤) | D12: 13230 | E12: -5 | F12: 4760 | G12: 0.3 | H12: 3 | I12: 0
A13: 果実 | B13: =VLOOKUP(A13,'4'!A:B,2,0) -> 과실 | C13: トン(톤) | D13: 91095 | E13: 3.4 | F13: 14070 | G13: 1 | H13: -3.6 | I13: 0
A14: 2 原料品 | B14: =VLOOKUP(A14,'4'!A:B,2,0) -> 원료품 | F14: 125750 | G14: 8.7 | H14: 1.5 | I14: 0.1
A15: 木材 | B15: =VLOOKUP(A15,'4'!A:B,2,0) -> 목재 | F15: 1500 | G15: 0.1 | H15: -11.5 | I15: 0
A16: 非鉄金属鉱 | B16: =VLOOKUP(A16,'4'!A:B,2,0) -> 비철금속광 | C16: 千トン(천톤) | D16: 30 | E16: -12.8 | F16: 35929 | G16: 2.5 | H16: 20.3 | I16: 0.4
A17: 鉄鉱石 | B17: =VLOOKUP(A17,'4'!A:B,2,0) -> 철광석 | C17: 千トン(천톤) | D17: - | F17: - | G17: - | I17: -
A18: 大豆 | B18: =VLOOKUP(A18,'4'!A:B,2,0) -> 대두 | C18: トン(톤) | D18: - | F18: - | G18: - | I18: -
A19: 3 鉱物性燃料 | B19: =VLOOKUP(A19,'4'!A:B,2,0) -> 광물성 원료 | F19: 124434 | G19: 8.6 | H19: -20.3 | I19: -2.3
A20: 原油及び粗油 | B20: =VLOOKUP(A20,'4'!A:B,2,0) -> 원유 및 조유 | C20: 千ＫＬ | D20: - | F20: - | G20: - | I20: -
A21: 石油製品 | B21: =VLOOKUP(A21,'4'!A:B,2,0) -> 석유제품 | F21: 5985 | G21: 0.4 | H21: 126.2 | I21: 0.2
A22: （揮発油） | B22: =VLOOKUP(A22,'4'!A:B,2,0) -> 휘발유 | C22: 千ＫＬ | D22: 11 | E22: 721.6 | F22: 1786 | G22: 0.1 | H22: 927.1 | I22: 0.1
A23: 液化天然ガス | B23: =VLOOKUP(A23,'4'!A:B,2,0) -> 액화 천연 가스 | C23: 千トン(천톤) | D23: 1007 | E23: -19.6 | F23: 82789 | G23: 5.7 | H23: -27.2 | I23: -2.2
A24: 液化石油ガス | B24: =VLOOKUP(A24,'4'!A:B,2,0) -> 액화 석유 가스 | C24: 千トン(천톤) | D24: - | F24: - | G24: - | I24: -
A25: 石炭 | B25: =VLOOKUP(A25,'4'!A:B,2,0) -> 석탄 | C25: 千トン(천톤) | D25: 2104 | E25: 22.8 | F25: 35639 | G25: 2.5 | H25: -9.9 | I25: -0.3
A26: （一般炭） | B26: =VLOOKUP(A26,'4'!A:B,2,0) -> 일반탄 | C26: 千トン(천톤) | D26: 1186 | E26: 54 | F26: 18212 | G26: 1.3 | H26: 10.9 | I26: 0.1
A27: 4 化学製品 | B27: =VLOOKUP(A27,'4'!A:B,2,0) -> 화학제품 | F27: 89468 | G27: 6.2 | H27: 3.8 | I27: 0.2
A28: 有機化合物 | B28: =VLOOKUP(A28,'4'!A:B,2,0) -> 유기화합물 | F28: 14143 | G28: 1 | H28: -0.9 | I28: 0
A29: 医薬品 | B29: =VLOOKUP(A29,'4'!A:B,2,0) -> 의약품 | C29: ＫＧ | D29: 1562309 | E29: 71.4 | F29: 5933 | G29: 0.4 | H29: -31.2 | I29: -0.2
A30: 5 原料別製品 | B30: =VLOOKUP(A30,'4'!A:B,2,0) -> 원료별 제품 | F30: 143859 | G30: 10 | H30: 4.7 | I30: 0.5
A31: 鉄鋼 | B31: =VLOOKUP(A31,'4'!A:B,2,0) -> 철강 | C31: トン(톤) | D31: 28254 | E31: -15.8 | F31: 7204 | G31: 0.5 | H31: -16.3 | I31: -0.1
A32: 非鉄金属 | B32: =VLOOKUP(A32,'4'!A:B,2,0) -> 비철금속 | C32: トン(톤) | D32: 27042 | E32: 22.8 | F32: 23861 | G32: 1.7 | H32: 41 | I32: 0.5
A33: 金属製品 | B33: =VLOOKUP(A33,'4'!A:B,2,0) -> 금속제품 | F33: 22332 | G33: 1.5 | H33: 16 | I33: 0.2
A34: 織物用糸・繊維製品 | B34: =VLOOKUP(A34,'4'!A:B,2,0) -> 직물용 실 및 섬유제품 | F34: 22618 | G34: 1.6 | H34: 1.4 | I34: 0
A35: 非金属鉱物製品 | B35: =VLOOKUP(A35,'4'!A:B,2,0) -> 비금속 철물제품 | F35: 10010 | G35: 0.7 | H35: -7.7 | I35: -0.1
A36: 木製品等（除家具） | B36: =VLOOKUP(A36,'4'!A:B,2,0) -> 목제품 등; 가구 제외 | F36: 38205 | G36: 2.7 | H36: -5.5 | I36: -0.2
A37: 6 一般機械 | B37: =VLOOKUP(A37,'4'!A:B,2,0) -> 일반 기계 | F37: 134659 | G37: 9.3 | H37: 13.7 | I37: 1.2
A38: 原動機 | B38: =VLOOKUP(A38,'4'!A:B,2,0) -> 원동기 | C38: トン(톤) | D38: 5234 | E38: 21.8 | F38: 8793 | G38: 0.6 | H38: 9.4 | I38: 0.1
A39: 電算機類（含周辺機器） | B39: =VLOOKUP(A39,'4'!A:B,2,0) -> 전산기류, 주변기기 포함 | C39: 千台(천대) | D39: 1395 | E39: -9.4 | F39: 48901 | G39: 3.4 | H39: 27.4 | I39: 0.8
A40: 電算機類の部分品 | B40: =VLOOKUP(A40,'4'!A:B,2,0) -> 전산기류의 부분품 | C40: トン(톤) | D40: 1871 | E40: -7.5 | F40: 11094 | G40: 0.8 | H40: -10.6 | I40: -0.1
A41: 7 電気機器 | B41: =VLOOKUP(A41,'4'!A:B,2,0) -> 전기 기기 | F41: 353738 | G41: 24.5 | H41: 10.9 | I41: 2.5
A42: 半導体等電子部品 | B42: =VLOOKUP(A42,'4'!A:B,2,0) -> 반도체 등 전자부품 | F42: 62356 | G42: 4.3 | H42: 4.2 | I42: 0.2
A43: （ＩＣ） | B43: =VLOOKUP(A43,'4'!A:B,2,0) -> IC | C43: 百万個(백만개) | D43: 451 | E43: 3.5 | F43: 45841 | G43: 3.2 | H43: 4.3 | I43: 0.1
A44: 絶縁電線・絶縁ケーブル | B44: =VLOOKUP(A44,'4'!A:B,2,0) -> 절연 전선 및 절연 케이블 | C44: トン(톤) | D44: 23383 | E44: -3.6 | F44: 75821 | G44: 5.3 | H44: -0.7 | I44: 0
A45: 音響映像機器（含部品） | B45: =VLOOKUP(A45,'4'!A:B,2,0) -> 음향 영상 기기, 부품 포함 | F45: 41953 | G45: 2.9 | H45: 13.7 | I45: 0.4
A46: 重電機器 | B46: =VLOOKUP(A46,'4'!A:B,2,0) -> 중전 기기 | F46: 17755 | G46: 1.2 | H46: 2 | I46: 0
A47: 通信機 | B47: =VLOOKUP(A47,'4'!A:B,2,0) -> 통신기 | F47: 70875 | G47: 4.9 | H47: 28 | I47: 1.1
A48: （電話機） | B48: =VLOOKUP(A48,'4'!A:B,2,0) -> 전화기 | C48: 台(대) | D48: 629731 | E48: 63.6 | F48: 25669 | G48: 1.8 | H48: 50.1 | I48: 0.6
A49: 電気計測機器 | B49: =VLOOKUP(A49,'4'!A:B,2,0) -> 전기 계측 기기 | F49: 16046 | G49: 1.1 | H49: 22.8 | I49: 0.2
A50: 8 輸送用機器 | B50: =VLOOKUP(A50,'4'!A:B,2,0) -> 수송용 기기 | F50: 43026 | G50: 3 | H50: 9.2 | I50: 0.3
A51: 自動車 | B51: =VLOOKUP(A51,'4'!A:B,2,0) -> 자동차 | C51: 台(대) | D51: 2297 | E51: 15.1 | F51: 7282 | G51: 0.5 | H51: 14.1 | I51: 0.1
A52: 自動車の部分品 | B52: =VLOOKUP(A52,'4'!A:B,2,0) -> 자동차의 부분품 | F52: 27385 | G52: 1.9 | H52: 6 | I52: 0.1
A53: 航空機類 | B53: =VLOOKUP(A53,'4'!A:B,2,0) -> 항공기류 | F53: 706 | G53: 0 | H53: -42.4 | I53: 0
A54: 9 その他 | B54: =VLOOKUP(A54,'4'!A:B,2,0) -> 기타 | F54: 298035 | G54: 20.7 | H54: 7 | I54: 1.4
A55: 科学光学機器 | B55: =VLOOKUP(A55,'4'!A:B,2,0) -> 과학 광학 기기 | F55: 31645 | G55: 2.2 | H55: -9.4 | I55: -0.2
A56: 衣類・同付属品 | B56: =VLOOKUP(A56,'4'!A:B,2,0) -> 의류 및 관련 부속품 | F56: 113445 | G56: 7.9 | H56: 12.2 | I56: 0.9
A57: 家具 | B57: =VLOOKUP(A57,'4'!A:B,2,0) -> 가구 | C57: トン(톤) | D57: 28919 | E57: -5 | F57: 17864 | G57: 1.2 | H57: -2.3 | I57: 0
A58: バッグ類 | B58: =VLOOKUP(A58,'4'!A:B,2,0) -> 가방류 | F58: 9564 | G58: 0.7 | H58: -19.1 | I58: -0.2
A59: （注）「伸率」は対前年伸率（％）を示す。ただし「＊」を付した数値は、前年に対する倍率を示す。
A60: =HLOOKUP(A59,'5'!58:59,2,0) -> 변화율은 전년대비 변화율을 나타냅니다. *를 붙인 수치는 전년대비 배율을 나타냅니다.
A62: 「増減寄与度」は前年に対する増減寄与度。
A63: =HLOOKUP(A62,'5'!61:62,2,0) -> 증감 기여도는 전년대비 증감 기여도입니다.

Sheet 19
A1: 主要地域（国）別商品別輸入(中東)
A2: =VLOOKUP(A1,目次!B:C,2,0) -> 주요 지역, 국가별 및 상품별 수입, 중동
A3: （単位：百万円、％）
A4: 단위: 백만엔, %
C5: 単位 | D5: 数量 | E5: 伸率 | F5: 価額 | G5: 構成比 | H5: 伸率 | I5: 増減寄与度
A6: 品名 | B6: =VLOOKUP(A6,'4'!A:B,2,0) -> 품명 | C6: =HLOOKUP(C5,'5'!5:6,2,0) -> 단위 | D6: =HLOOKUP(D5,'5'!5:6,2,0) -> 수량 | E6: =HLOOKUP(E5,'5'!5:6,2,0) -> 변화율 | F6: =HLOOKUP(F5,'5'!5:6,2,0) -> 가액 | G6: =HLOOKUP(G5,'5'!5:6,2,0) -> 구성비 | H6: =HLOOKUP(H5,'5'!5:6,2,0) -> 변화율 | I6: =HLOOKUP(I5,'5'!5:6,2,0) -> 증감 기여도
A7: 総額 | B7: =VLOOKUP(A7,'4'!A:B,2,0) -> 총액 | F7: 853515 | G7: 100 | H7: -10.4 | I7: -10.4
A8: 1 食料品 | B8: =VLOOKUP(A8,'4'!A:B,2,0) -> 식료품 | F8: 1138 | G8: 0.1 | H8: -45.8 | I8: -0.1
A9: 魚介類 | B9: =VLOOKUP(A9,'4'!A:B,2,0) -> 어개류 | C9: トン(톤) | D9: 198 | E9: 23 | F9: 219 | G9: 0 | H9: 79.4 | I9: 0
A10: 肉類 | B10: =VLOOKUP(A10,'4'!A:B,2,0) -> 육류 | C10: トン(톤) | D10: - | F10: - | G10: - | I10: -
A11: 穀物類 | B11: =VLOOKUP(A11,'4'!A:B,2,0) -> 곡물류 | C11: トン(톤) | D11: 262 | E11: 197.7 | F11: 31 | G11: 0 | H11: 107.3 | I11: 0
A12: 野菜 | B12: =VLOOKUP(A12,'4'!A:B,2,0) -> 채소 | C12: トン(톤) | D12: 83 | E12: -52.9 | F12: 90 | G12: 0 | H12: -28.1 | I12: 0
A13: 果実 | B13: =VLOOKUP(A13,'4'!A:B,2,0) -> 과실 | C13: トン(톤) | D13: 695 | E13: -74.3 | F13: 389 | G13: 0 | H13: -73.1 | I13: -0.1
A14: 2 原料品 | B14: =VLOOKUP(A14,'4'!A:B,2,0) -> 원료품 | F14: 8109 | G14: 1 | H14: 27.5 | I14: 0.2
A15: 木材 | B15: =VLOOKUP(A15,'4'!A:B,2,0) -> 목재 | F15: - | G15: - | I15: -
A16: 非鉄金属鉱 | B16: =VLOOKUP(A16,'4'!A:B,2,0) -> 비철금속광 | C16: 千トン(천톤) | D16: 0 | E16: 200 | F16: 18 | G16: 0 | H16: 197.5 | I16: 0
A17: 鉄鉱石 | B17: =VLOOKUP(A17,'4'!A:B,2,0) -> 철광석 | C17: 千トン(천톤) | D17: - | F17: - | G17: - | I17: -
A18: 大豆 | B18: =VLOOKUP(A18,'4'!A:B,2,0) -> 대두 | C18: トン(톤) | D18: - | F18: - | G18: - | I18: -
A19: 3 鉱物性燃料 | B19: =VLOOKUP(A19,'4'!A:B,2,0) -> 광물성 원료 | F19: 803899 | G19: 94.2 | H19: -9.9 | I19: -9.3
A20: 原油及び粗油 | B20: =VLOOKUP(A20,'4'!A:B,2,0) -> 원유 및 조유 | C20: 千ＫＬ | D20: 9892 | E20: 2 | F20: 677095 | G20: 79.3 | H20: -7.1 | I20: -5.4
A21: 石油製品 | B21: =VLOOKUP(A21,'4'!A:B,2,0) -> 석유제품 | F21: 92722 | G21: 10.9 | H21: -21.8 | I21: -2.7
A22: （揮発油） | B22: =VLOOKUP(A22,'4'!A:B,2,0) -> 휘발유 | C22: 千ＫＬ | D22: 1438 | E22: -9.9 | F22: 91795 | G22: 10.8 | H22: -21.2 | I22: -2.6
A23: 液化天然ガス | B23: =VLOOKUP(A23,'4'!A:B,2,0) -> 액화 천연 가스 | C23: 千トン(천톤) | D23: 409 | E23: -13.9 | F23: 34083 | G23: 4 | H23: -24.5 | I23: -1.2
A24: 液化石油ガス | B24: =VLOOKUP(A24,'4'!A:B,2,0) -> 액화 석유 가스 | C24: 千トン(천톤) | D24: - | E24: ZENGEN | F24: - | G24: - | H24: ZENGEN | I24: 0
A25: 石炭 | B25: =VLOOKUP(A25,'4'!A:B,2,0) -> 석탄 | C25: 千トン(천톤) | D25: - | F25: - | G25: - | I25: -
A26: （一般炭） | B26: =VLOOKUP(A26,'4'!A:B,2,0) -> 일반탄 | C26: 千トン(천톤) | D26: - | F26: - | G26: - | I26: -
A27: 4 化学製品 | B27: =VLOOKUP(A27,'4'!A:B,2,0) -> 화학제품 | F27: 7424 | G27: 0.9 | H27: -9.6 | I27: -0.1
A28: 有機化合物 | B28: =VLOOKUP(A28,'4'!A:B,2,0) -> 유기화합물 | F28: 2186 | G28: 0.3 | H28: 2.4 | I28: 0
A29: 医薬品 | B29: =VLOOKUP(A29,'4'!A:B,2,0) -> 의약품 | C29: ＫＧ | D29: 706 | E29: -23.4 | F29: 667 | G29: 0.1 | H29: -16.5 | I29: 0
A30: 5 原料別製品 | B30: =VLOOKUP(A30,'4'!A:B,2,0) -> 원료별 제품 | F30: 18224 | G30: 2.1 | H30: -28.9 | I30: -0.8
A31: 鉄鋼 | B31: =VLOOKUP(A31,'4'!A:B,2,0) -> 철강 | C31: トン(톤) | D31: 43 | E31: -72.4 | F31: 22 | G31: 0 | H31: -54.8 | I31: 0
A32: 非鉄金属 | B32: =VLOOKUP(A32,'4'!A:B,2,0) -> 비철금속 | C32: トン(톤) | D32: 37335 | E32: -34.9 | F32: 16448 | G32: 1.9 | H32: -30.3 | I32: -0.8
A33: 金属製品 | B33: =VLOOKUP(A33,'4'!A:B,2,0) -> 금속제품 | F33: 726 | G33: 0.1 | H33: -28.6 | I33: 0
A34: 織物用糸・繊維製品 | B34: =VLOOKUP(A34,'4'!A:B,2,0) -> 직물용 실 및 섬유제품 | F34: 491 | G34: 0.1 | H34: 9.5 | I34: 0
A35: 非金属鉱物製品 | B35: =VLOOKUP(A35,'4'!A:B,2,0) -> 비금속 철물제품 | F35: 273 | G35: 0 | H35: -18.3 | I35: 0
A36: 木製品等（除家具） | B36: =VLOOKUP(A36,'4'!A:B,2,0) -> 목제품 등; 가구 제외 | F36: 0 | G36: 0 | H36: ZENZO | I36: 0
A37: 6 一般機械 | B37: =VLOOKUP(A37,'4'!A:B,2,0) -> 일반 기계 | F37: 2216 | G37: 0.3 | H37: -22.6 | I37: -0.1
A38: 原動機 | B38: =VLOOKUP(A38,'4'!A:B,2,0) -> 원동기 | C38: トン(톤) | D38: 3 | E38: -25 | F38: 1225 | G38: 0.1 | H38: -22.4 | I38: 0
A39: 電算機類（含周辺機器） | B39: =VLOOKUP(A39,'4'!A:B,2,0) -> 전산기류, 주변기기 포함 | C39: 千台(천대) | D39: 3 | E39: 522.3 | F39: 226 | G39: 0 | H39: -35.1 | I39: 0
A40: 電算機類の部分品 | B40: =VLOOKUP(A40,'4'!A:B,2,0) -> 전산기류의 부분품 | C40: トン(톤) | D40: 0 | E40: 7.9 | F40: 40 | G40: 0 | H40: -36.5 | I40: 0
A41: 7 電気機器 | B41: =VLOOKUP(A41,'4'!A:B,2,0) -> 전기 기기 | F41: 8349 | G41: 1 | H41: -18.5 | I41: -0.2
A42: 半導体等電子部品 | B42: =VLOOKUP(A42,'4'!A:B,2,0) -> 반도체 등 전자부품 | F42: 5055 | G42: 0.6 | H42: -20.6 | I42: -0.1
A43: （ＩＣ） | B43: =VLOOKUP(A43,'4'!A:B,2,0) -> IC | C43: 百万個(백만개) | D43: 9 | E43: -76.8 | F43: 4758 | G43: 0.6 | H43: -23.4 | I43: -0.2
A44: 絶縁電線・絶縁ケーブル | B44: =VLOOKUP(A44,'4'!A:B,2,0) -> 절연 전선 및 절연 케이블 | C44: トン(톤) | D44: 1 | E44: -10.7 | F44: 24 | G44: 0 | H44: 65 | I44: 0
A45: 音響映像機器（含部品） | B45: =VLOOKUP(A45,'4'!A:B,2,0) -> 음향 영상 기기, 부품 포함 | F45: 60 | G45: 0 | H45: -89.3 | I45: -0.1
A46: 重電機器 | B46: =VLOOKUP(A46,'4'!A:B,2,0) -> 중전 기기 | F46: 218 | G46: 0 | H46: -33 | I46: 0
A47: 通信機 | B47: =VLOOKUP(A47,'4'!A:B,2,0) -> 통신기 | F47: 130 | G47: 0 | H47: -63.4 | I47: 0
A48: （電話機） | B48: =VLOOKUP(A48,'4'!A:B,2,0) -> 전화기 | C48: 台(대) | D48: - | F48: - | G48: - | I48: -
A49: 電気計測機器 | B49: =VLOOKUP(A49,'4'!A:B,2,0) -> 전기 계측 기기 | F49: 464 | G49: 0.1 | H49: 70.6 | I49: 0
A50: 8 輸送用機器 | B50: =VLOOKUP(A50,'4'!A:B,2,0) -> 수송용 기기 | F50: 45 | G50: 0 | H50: 143 | I50: 0
A51: 自動車 | B51: =VLOOKUP(A51,'4'!A:B,2,0) -> 자동차 | C51: 台(대) | D51: - | F51: - | G51: - | I51: -
A52: 自動車の部分品 | B52: =VLOOKUP(A52,'4'!A:B,2,0) -> 자동차의 부분품 | F52: 23 | G52: 0 | H52: 115.6 | I52: 0
A53: 航空機類 | B53: =VLOOKUP(A53,'4'!A:B,2,0) -> 항공기류 | F53: 20 | G53: 0 | H53: 579.7 | I53: 0
A54: 9 その他 | B54: =VLOOKUP(A54,'4'!A:B,2,0) -> 기타 | F54: 4111 | G54: 0.5 | H54: -0.5 | I54: 0
A55: 科学光学機器 | B55: =VLOOKUP(A55,'4'!A:B,2,0) -> 과학 광학 기기 | F55: 1847 | G55: 0.2 | H55: -25.4 | I55: -0.1
A56: 衣類・同付属品 | B56: =VLOOKUP(A56,'4'!A:B,2,0) -> 의류 및 관련 부속품 | F56: 82 | G56: 0 | H56: 26.4 | I56: 0
A57: 家具 | B57: =VLOOKUP(A57,'4'!A:B,2,0) -> 가구 | C57: トン(톤) | D57: 0 | E57: -93.4 | F57: 1 | G57: 0 | H57: -74 | I57: 0
A58: バッグ類 | B58: =VLOOKUP(A58,'4'!A:B,2,0) -> 가방류 | F58: 1 | G58: 0 | H58: -90.4 | I58: 0
A59: （注）「伸率」は対前年伸率（％）を示す。ただし「＊」を付した数値は、前年に対する倍率を示す。
A60: =HLOOKUP(A59,'5'!58:59,2,0) -> 변화율은 전년대비 변화율을 나타냅니다. *를 붙인 수치는 전년대비 배율을 나타냅니다.
A62: 「増減寄与度」は前年に対する増減寄与度。
A63: =HLOOKUP(A62,'5'!61:62,2,0) -> 증감 기여도는 전년대비 증감 기여도입니다.

Sheet 20
A1: 主要地域（国）別商品別輸入(ロシア)
A2: =VLOOKUP(A1,目次!B:C,2,0) -> 주요 지역, 국가별 및 상품별 수입, 러시아
A3: （単位：百万円、％）
A4: 단위: 백만엔, %
C5: 単位 | D5: 数量 | E5: 伸率 | F5: 価額 | G5: 構成比 | H5: 伸率 | I5: 増減寄与度
A6: 品名 | B6: =VLOOKUP(A6,'4'!A:B,2,0) -> 품명 | C6: =HLOOKUP(C5,'5'!5:6,2,0) -> 단위 | D6: =HLOOKUP(D5,'5'!5:6,2,0) -> 수량 | E6: =HLOOKUP(E5,'5'!5:6,2,0) -> 변화율 | F6: =HLOOKUP(F5,'5'!5:6,2,0) -> 가액 | G6: =HLOOKUP(G5,'5'!5:6,2,0) -> 구성비 | H6: =HLOOKUP(H5,'5'!5:6,2,0) -> 변화율 | I6: =HLOOKUP(I5,'5'!5:6,2,0) -> 증감 기여도
A7: 総額 | B7: =VLOOKUP(A7,'4'!A:B,2,0) -> 총액 | F7: 63379 | G7: 100 | H7: -15.8 | I7: -15.8
A8: 1 食料品 | B8: =VLOOKUP(A8,'4'!A:B,2,0) -> 식료품 | F8: 13770 | G8: 21.7 | H8: 13.9 | I8: 2.2
A9: 魚介類 | B9: =VLOOKUP(A9,'4'!A:B,2,0) -> 어개류 | C9: トン(톤) | D9: 9315 | E9: 4.2 | F9: 13601 | G9: 21.5 | H9: 13.5 | I9: 2.2
A10: 肉類 | B10: =VLOOKUP(A10,'4'!A:B,2,0) -> 육류 | C10: トン(톤) | D10: 0 | F10: 1 | G10: 0 | H10: -32.8 | I10: 0
A11: 穀物類 | B11: =VLOOKUP(A11,'4'!A:B,2,0) -> 곡물류 | C11: トン(톤) | D11: 471 | E11: 33.8 | F11: 31 | G11: 0 | H11: 49.2 | I11: 0
A12: 野菜 | B12: =VLOOKUP(A12,'4'!A:B,2,0) -> 채소 | C12: トン(톤) | D12: 15 | E12: -50 | F12: 8 | G12: 0 | H12: -42.1 | I12: 0
A13: 果実 | B13: =VLOOKUP(A13,'4'!A:B,2,0) -> 과실 | C13: トン(톤) | D13: 0 | E13: -0.6 | F13: 0 | G13: 0 | H13: 45.8 | I13: 0
A14: 2 原料品 | B14: =VLOOKUP(A14,'4'!A:B,2,0) -> 원료품 | F14: 2292 | G14: 3.6 | H14: -7.9 | I14: -0.3
A15: 木材 | B15: =VLOOKUP(A15,'4'!A:B,2,0) -> 목재 | F15: 2054 | G15: 3.2 | H15: -12.1 | I15: -0.4
A16: 非鉄金属鉱 | B16: =VLOOKUP(A16,'4'!A:B,2,0) -> 비철금속광 | C16: 千トン(천톤) | D16: 0 | E16: ZENZO | F16: 43 | G16: 0.1 | H16: ZENZO | I16: 0.1
A17: 鉄鉱石 | B17: =VLOOKUP(A17,'4'!A:B,2,0) -> 철광석 | C17: 千トン(천톤) | D17: - | F17: - | G17: - | I17: -
A18: 大豆 | B18: =VLOOKUP(A18,'4'!A:B,2,0) -> 대두 | C18: トン(톤) | D18: - | F18: - | G18: - | I18: -
A19: 3 鉱物性燃料 | B19: =VLOOKUP(A19,'4'!A:B,2,0) -> 광물성 원료 | F19: 39303 | G19: 62 | H19: -22.5 | I19: -15.2
A20: 原油及び粗油 | B20: =VLOOKUP(A20,'4'!A:B,2,0) -> 원유 및 조유 | C20: 千ＫＬ | D20: - | F20: - | G20: - | I20: -
A21: 石油製品 | B21: =VLOOKUP(A21,'4'!A:B,2,0) -> 석유제품 | F21: - | G21: - | I21: -
A22: （揮発油） | B22: =VLOOKUP(A22,'4'!A:B,2,0) -> 휘발유 | C22: 千ＫＬ | D22: - | F22: - | G22: - | I22: -
A23: 液化天然ガス | B23: =VLOOKUP(A23,'4'!A:B,2,0) -> 액화 천연 가스 | C23: 千トン(천톤) | D23: 446 | E23: -6.8 | F23: 38308 | G23: 60.4 | H23: -21.9 | I23: -14.3
A24: 液化石油ガス | B24: =VLOOKUP(A24,'4'!A:B,2,0) -> 액화 석유 가스 | C24: 千トン(천톤) | D24: - | F24: - | G24: - | I24: -
A25: 石炭 | B25: =VLOOKUP(A25,'4'!A:B,2,0) -> 석탄 | C25: 千トン(천톤) | D25: 63 | E25: -26 | F25: 995 | G25: 1.6 | H25: -39.1 | I25: -0.8
A26: （一般炭） | B26: =VLOOKUP(A26,'4'!A:B,2,0) -> 일반탄 | C26: 千トン(천톤) | D26: 41 | E26: 172.3 | F26: 676 | G26: 1.1 | H26: 120.4 | I26: 0.5
A27: 4 化学製品 | B27: =VLOOKUP(A27,'4'!A:B,2,0) -> 화학제품 | F27: 720 | G27: 1.1 | H27: -2.3 | I27: 0
A28: 有機化合物 | B28: =VLOOKUP(A28,'4'!A:B,2,0) -> 유기화합물 | F28: 166 | G28: 0.3 | H28: -66.7 | I28: -0.4
A29: 医薬品 | B29: =VLOOKUP(A29,'4'!A:B,2,0) -> 의약품 | C29: ＫＧ | D29: - | F29: - | G29: - | I29: -
A30: 5 原料別製品 | B30: =VLOOKUP(A30,'4'!A:B,2,0) -> 원료별 제품 | F30: 7198 | G30: 11.4 | H30: -20.2 | I30: -2.4
A31: 鉄鋼 | B31: =VLOOKUP(A31,'4'!A:B,2,0) -> 철강 | C31: トン(톤) | D31: 120 | E31: -82.6 | F31: 19 | G31: 0 | H31: -85 | I31: -0.1
A32: 非鉄金属 | B32: =VLOOKUP(A32,'4'!A:B,2,0) -> 비철금속 | C32: トン(톤) | D32: 3871 | E32: -42.9 | F32: 6872 | G32: 10.8 | H32: -20.8 | I32: -2.4
A33: 金属製品 | B33: =VLOOKUP(A33,'4'!A:B,2,0) -> 금속제품 | F33: 18 | G33: 0 | H33: 36.8 | I33: 0
A34: 織物用糸・繊維製品 | B34: =VLOOKUP(A34,'4'!A:B,2,0) -> 직물용 실 및 섬유제품 | F34: - | G34: - | H34: ZENGEN | I34: 0
A35: 非金属鉱物製品 | B35: =VLOOKUP(A35,'4'!A:B,2,0) -> 비금속 철물제품 | F35: 1 | G35: 0 | H35: -49.8 | I35: 0
A36: 木製品等（除家具） | B36: =VLOOKUP(A36,'4'!A:B,2,0) -> 목제품 등; 가구 제외 | F36: 288 | G36: 0.5 | H36: 47.3 | I36: 0.1
A37: 6 一般機械 | B37: =VLOOKUP(A37,'4'!A:B,2,0) -> 일반 기계 | F37: - | G37: - | I37: -
A38: 原動機 | B38: =VLOOKUP(A38,'4'!A:B,2,0) -> 원동기 | C38: トン(톤) | D38: - | F38: - | G38: - | I38: -
A39: 電算機類（含周辺機器） | B39: =VLOOKUP(A39,'4'!A:B,2,0) -> 전산기류, 주변기기 포함 | C39: 千台(천대) | D39: - | F39: - | G39: - | I39: -
A40: 電算機類の部分品 | B40: =VLOOKUP(A40,'4'!A:B,2,0) -> 전산기류의 부분품 | C40: トン(톤) | D40: - | F40: - | G40: - | I40: -
A41: 7 電気機器 | B41: =VLOOKUP(A41,'4'!A:B,2,0) -> 전기 기기 | F41: 65 | G41: 0.1 | H41: -55 | I41: -0.1
A42: 半導体等電子部品 | B42: =VLOOKUP(A42,'4'!A:B,2,0) -> 반도체 등 전자부품 | F42: 9 | G42: 0 | H42: -69 | I42: 0
A43: （ＩＣ） | B43: =VLOOKUP(A43,'4'!A:B,2,0) -> IC | C43: 百万個(백만개) | D43: - | F43: - | G43: - | I43: -
A44: 絶縁電線・絶縁ケーブル | B44: =VLOOKUP(A44,'4'!A:B,2,0) -> 절연 전선 및 절연 케이블 | C44: トン(톤) | D44: - | F44: - | G44: - | I44: -
A45: 音響映像機器（含部品） | B45: =VLOOKUP(A45,'4'!A:B,2,0) -> 음향 영상 기기, 부품 포함 | F45: 3 | G45: 0 | H45: 180.5 | I45: 0
A46: 重電機器 | B46: =VLOOKUP(A46,'4'!A:B,2,0) -> 중전 기기 | F46: - | G46: - | I46: -
A47: 通信機 | B47: =VLOOKUP(A47,'4'!A:B,2,0) -> 통신기 | F47: - | G47: - | I47: -
A48: （電話機） | B48: =VLOOKUP(A48,'4'!A:B,2,0) -> 전화기 | C48: 台(대) | D48: - | F48: - | G48: - | I48: -
A49: 電気計測機器 | B49: =VLOOKUP(A49,'4'!A:B,2,0) -> 전기 계측 기기 | F49: 4 | G49: 0 | H49: ZENZO | I49: 0
A50: 8 輸送用機器 | B50: =VLOOKUP(A50,'4'!A:B,2,0) -> 수송용 기기 | F50: - | G50: - | I50: -
A51: 自動車 | B51: =VLOOKUP(A51,'4'!A:B,2,0) -> 자동차 | C51: 台(대) | D51: - | F51: - | G51: - | I51: -
A52: 自動車の部分品 | B52: =VLOOKUP(A52,'4'!A:B,2,0) -> 자동차의 부분품 | F52: - | G52: - | I52: -
A53: 航空機類 | B53: =VLOOKUP(A53,'4'!A:B,2,0) -> 항공기류 | F53: - | G53: - | I53: -
A54: 9 その他 | B54: =VLOOKUP(A54,'4'!A:B,2,0) -> 기타 | F54: 32 | G54: 0 | H54: -34.5 | I54: 0
A55: 科学光学機器 | B55: =VLOOKUP(A55,'4'!A:B,2,0) -> 과학 광학 기기 | F55: 1 | G55: 0 | H55: -93.7 | I55: 0
A56: 衣類・同付属品 | B56: =VLOOKUP(A56,'4'!A:B,2,0) -> 의류 및 관련 부속품 | F56: 0 | G56: 0 | H56: ZENZO | I56: 0
A57: 家具 | B57: =VLOOKUP(A57,'4'!A:B,2,0) -> 가구 | C57: トン(톤) | D57: - | F57: - | G57: - | I57: -
A58: バッグ類 | B58: =VLOOKUP(A58,'4'!A:B,2,0) -> 가방류 | F58: - | G58: - | I58: -
A59: （注）「伸率」は対前年伸率（％）を示す。ただし「＊」を付した数値は、前年に対する倍率を示す。
A60: =HLOOKUP(A59,'5'!58:59,2,0) -> 변화율은 전년대비 변화율을 나타냅니다. *를 붙인 수치는 전년대비 배율을 나타냅니다.
A62: 「増減寄与度」は前年に対する増減寄与度。
A63: =HLOOKUP(A62,'5'!61:62,2,0) -> 증감 기여도는 전년대비 증감 기여도입니다.

Sheet 21
A1: 貿易指数
A2: =VLOOKUP(A1,目次!B:C,2,0) -> 무역지수
A3: 原値
A4: 원치
C5: 輸出金額 | D5: 輸出数量 | E5: 輸出価格 | F5: 輸入金額 | G5: 輸入数量 | H5: 輸入価格
C6: 수출금액 | D6: 수출수량 | E6: 수출가격 | F6: 수입금액 | G6: 수입수량 | H6: 수입가격
A7: 世界 | B7: 세계 | C7: 170.3 | D7: 104 | E7: 163.7 | F7: 165.7 | G7: 99 | H7: 167.4
A8: アメリカ合衆国 | B8: 미국 | C8: 172.9 | D8: 122.2 | E8: 141.5 | F8: 173.4 | G8: 85.2 | H8: 203.6
A9: ＥＵ | B9: 유럽연합 | C9: 171.3 | D9: 105 | E9: 163.2 | F9: 159.5 | G9: 96.7 | H9: 165
A10: アジア | B10: 아시아 | C10: 160.1 | D10: 98 | E10: 163.4 | F10: 166 | G10: 106.1 | H10: 156.6
A11: 中華人民共和国 | B11: 중국 | C11: 128.9 | D11: 68.8 | E11: 187.2 | F11: 164.5 | G11: 113.3 | H11: 145.2
A12: （注）・ 令和 2年＝100。
A13: 2020=100.
A15: ・「アジア」には「中華人民共和国」を含む。
A16: 아시아에는 중국을 포함.
A19: 伸率
A20: 변화율
C21: 輸出金額 | D21: 輸出数量 | E21: 輸出価格 | F21: 輸入金額 | G21: 輸入数量 | H21: 輸入価格
C22: 수출금액 | D22: 수출수량 | E22: 수출가격 | F22: 수입금액 | G22: 수입수량 | H22: 수입가격
A23: 世界 | B23: 세계 | C23: 6.1 | D23: 0.4 | E23: 5.7 | F23: 1.3 | G23: 3.8 | H23: -2.4
A24: アメリカ合衆国 | B24: 미국 | C24: 8.8 | D24: 14 | E24: -4.5 | F24: 7.1 | G24: 8.7 | H24: -1.5
A25: ＥＵ | B25: 유럽연합 | C25: 19.5 | D25: 16 | E25: 3.1 | F25: 6.8 | G25: 7 | H25: -0.1
A26: アジア | B26: 아시아 | C26: 4.4 | D26: -2.6 | E26: 7.2 | F26: 3.2 | G26: 5.3 | H26: -2
A27: 中華人民共和国 | B27: 중국 | C27: -2.5 | D27: -14.2 | E27: 13.6 | F27: 2.3 | G27: 3.7 | H27: -1.3
A28: （注）・「伸率」は対前年伸率。
A29: 변화율은 전년대비 변화율.

Sheet 22
A1: 貿易指数 （対世界）
A2: =VLOOKUP(A1,目次!B:C,2,0) -> 무역지수, 세계
A3: 原値
A4: 원치
D5: 輸出金額 | E5: 輸出数量 | F5: 輸出価格 | H5: 輸入金額 | I5: 輸入数量 | J5: 輸入価格
D6: 수출금액 | E6: 수출수량 | F6: 수출가격 | H6: 수입금액 | I6: 수입수량 | J6: 수입가격
A7: 令和 4年 | B7: 2022 | D7: 143.5 | E7: 110 | F7: 130.4 | H7: 174.2 | I7: 104.4 | J7: 166.9
A8: 令和 5年 | B8: 2023 | D8: 147.5 | E8: 105.7 | F8: 139.5 | H8: 162.3 | I8: 99.3 | J8: 163.4
A9: 令和 6年 | B9: 2024 | D9: 156.6 | E9: 102.9 | F9: 152.1 | H9: 165.7 | I9: 96.8 | J9: 171.2
A10: 令和 6年12月 | B10: 2024.12. | D10: 173.8 | E10: 113 | F10: 153.8 | H10: 172.7 | I10: 100.8 | J10: 171.4
A11: 令和 7年 1月 | B11: 2025.01. | D11: 138 | E11: 86.4 | F11: 159.8 | H11: 187.2 | I11: 106.9 | J11: 175.1
A12: 令和 7年 2月 | B12: 2025.02. | D12: 161.2 | E12: 101.7 | F12: 158.6 | H12: 151.8 | I12: 86.6 | J12: 175.3
A13: 令和 7年 3月 | B13: 2025.03. | D13: 172.9 | E13: 111.1 | F13: 155.6 | H13: 164.1 | I13: 98.9 | J13: 165.9
A14: 令和 7年 4月 | B14: 2025.04. | D14: 160.7 | E14: 105.4 | F14: 152.5 | H14: 163.8 | I14: 100.8 | J14: 162.6
A15: 令和 7年 5月 | B15: 2025.05. | D15: 142.7 | E15: 95.9 | F15: 148.7 | H15: 154.9 | I15: 96.7 | J15: 160.1
A16: 令和 7年 6月 | B16: 2025.06. | D16: 160.8 | E16: 106.5 | F16: 151 | H16: 159.1 | I16: 100.6 | J16: 158.2
A17: 令和 7年 7月 | B17: 2025.07. | D17: 164.2 | E17: 107.1 | F17: 153.3 | H17: 167.3 | I17: 105.3 | J17: 158.9
A18: 令和 7年 8月 | B18: 2025.08. | D18: 147.8 | E18: 92.3 | F18: 160.2 | H18: 153.1 | I18: 94.8 | J18: 161.6
A19: 令和 7年 9月 | B19: 2025.09. | D19: 165.1 | E19: 104 | F19: 158.8 | H19: 170.4 | I19: 104.7 | J19: 162.8
A20: 令和 7年10月 | B20: 2025.10. | D20: 171.3 | E20: 108.1 | F20: 158.5 | H20: 176.4 | I20: 106.8 | J20: 165.1
A21: 令和 7年11月 | B21: 2025.11. | D21: 170.3 | E21: 104 | F21: 163.7 | G21: (P) | H21: 165.7 | I21: 99 | J21: 167.4
A22: （注）・ 令和 2年＝100。 ・(P)は速報値。
A23: 2020=100. P)는 속보치.
A25: 伸率
A26: 변화율
D27: 輸出金額 | E27: 輸出数量 | F27: 輸出価格 | H27: 輸入金額 | I27: 輸入数量 | J27: 輸入価格
D28: 수출금액 | E28: 수출수량 | F28: 수출가격 | H28: 수입금액 | I28: 수입수량 | J28: 수입가격
A29: 令和 4年 | B29: =VLOOKUP(A29,$A$7:$B$21,2,0) -> 2022 | D29: 18.2 | E29: -0.6 | F29: 18.9 | H29: 39.6 | I29: -0.4 | J29: 40.1
A30: 令和 5年 | B30: =VLOOKUP(A30,$A$7:$B$21,2,0) -> 2023 | D30: 2.7 | E30: -4 | F30: 7 | H30: -6.8 | I30: -4.9 | J30: -2.1
A31: 令和 6年 | B31: =VLOOKUP(A31,$A$7:$B$21,2,0) -> 2024 | D31: 6.2 | E31: -2.6 | F31: 9 | H31: 2.1 | I31: -2.6 | J31: 4.8
A32: 令和 6年12月 | B32: =VLOOKUP(A32,$A$7:$B$21,2,0) -> 2024.12. | D32: 2.7 | E32: -2.7 | F32: 5.5 | H32: 1.8 | I32: 1.8 | J32: 0.1
A33: 令和 7年 1月 | B33: =VLOOKUP(A33,$A$7:$B$21,2,0) -> 2025.01. | D33: 7.3 | E33: -1.7 | F33: 9.1 | H33: 16.2 | I33: 8.5 | J33: 7.2
A34: 令和 7年 2月 | B34: =VLOOKUP(A34,$A$7:$B$21,2,0) -> 2025.02. | D34: 11.4 | E34: 2.9 | F34: 8.3 | H34: -0.9 | I34: -4.1 | J34: 3.4
A35: 令和 7年 3月 | B35: =VLOOKUP(A35,$A$7:$B$21,2,0) -> 2025.03. | D35: 4 | E35: -0.8 | F35: 4.8 | H35: 1.8 | I35: 5 | J35: -3
A36: 令和 7年 4月 | B36: =VLOOKUP(A36,$A$7:$B$21,2,0) -> 2025.04. | D36: 2 | E36: 0.5 | F36: 1.5 | H36: -2.2 | I36: 2.8 | J36: -4.9
A37: 令和 7年 5月 | B37: =VLOOKUP(A37,$A$7:$B$21,2,0) -> 2025.05. | D37: -1.7 | E37: 1.8 | F37: -3.5 | H37: -7.7 | I37: 1.7 | J37: -9.2
A38: 令和 7年 6月 | B38: =VLOOKUP(A38,$A$7:$B$21,2,0) -> 2025.06. | D38: -0.5 | E38: 2.5 | F38: -2.9 | H38: 0.2 | I38: 13.1 | J38: -11.4
A39: 令和 7年 7月 | B39: =VLOOKUP(A39,$A$7:$B$21,2,0) -> 2025.07. | D39: -2.6 | E39: 1.2 | F39: -3.7 | H39: -7.5 | I39: 4 | J39: -11
A40: 令和 7年 8月 | B40: =VLOOKUP(A40,$A$7:$B$21,2,0) -> 2025.08. | D40: -0.1 | E40: -3.9 | F40: 4 | H40: -5.5 | I40: -0.1 | J40: -5.4
... A42: 令和 7年10月 | B42: =VLOOKUP(A42,$A$7:$B$21,2,0) -> 2025.10. | D42: 3.6 | E42: -1.3 | F42: 5 | H42: 0.7 | I42: 1.4 | J42: -0.7
A43: 令和 7年11月 | B43: =VLOOKUP(A43,$A$7:$B$21,2,0) -> 2025.11. | D43: 6.1 | E43: 0.4 | F43: 5.7 | G43: (P) | H43: 1.3 | I43: 3.8 | J43: -2.4
A44: （注）・「伸率」は対前年伸率。 ・(P)は速報値。
A45: 변화율은 전년대비 변화율. (P)는 속보치.

Sheet 23
A1: 貿易指数 （アメリカ合衆国）
A2: =VLOOKUP(A1,目次!B:C,2,0) -> 무역지수, 미국
A3: 原値
A4: 원치
D5: 輸出金額 | E5: 輸出数量 | F5: 輸出価格 | H5: 輸入金額 | I5: 輸入数量 | J5: 輸入価格
D6: 수출금액 | E6: 수출수량 | F6: 수출가격 | H6: 수입금액 | I6: 수입수량 | J6: 수입가격
A7: 令和 4年 | B7: =VLOOKUP(A7,'22'!$A$7:$B$21,2,0) -> 2022 | D7: 144.8 | E7: 113.7 | F7: 127.3 | H7: 157.8 | I7: 91.7 | J7: 172
A8: 令和 5年 | B8: =VLOOKUP(A8,'22'!$A$7:$B$21,2,0) -> 2023 | D8: 160.7 | E8: 118.8 | F8: 135.3 | H8: 155 | I8: 86.4 | J8: 179.4
A9: 令和 6年 | B9: =VLOOKUP(A9,'22'!$A$7:$B$21,2,0) -> 2024 | D9: 168.9 | E9: 116.6 | F9: 144.8 | H9: 170.2 | I9: 88 | J9: 193.4
A10: 令和 6年12月 | B10: =VLOOKUP(A10,'22'!$A$7:$B$21,2,0) -> 2024.12. | D10: 193.9 | E10: 133.4 | F10: 145.4 | H10: 165.2 | I10: 81 | J10: 204
A11: 令和 7年 1月 | B11: =VLOOKUP(A11,'22'!$A$7:$B$21,2,0) -> 2025.01. | D11: 146.5 | E11: 93.7 | F11: 156.3 | H11: 171.1 | I11: 85.6 | J11: 200
A12: 令和 7年 2月 | B12: =VLOOKUP(A12,'22'!$A$7:$B$21,2,0) -> 2025.02. | D12: 181.3 | E12: 116.3 | F12: 155.9 | H12: 158.8 | I12: 79.8 | J12: 199.1
A13: 令和 7年 3月 | B13: =VLOOKUP(A13,'22'!$A$7:$B$21,2,0) -> 2025.03. | D13: 178.5 | E13: 118.3 | F13: 150.9 | H13: 165.9 | I13: 87.9 | J13: 188.6
A14: 令和 7年 4月 | B14: =VLOOKUP(A14,'22'!$A$7:$B$21,2,0) -> 2025.04. | D14: 168.5 | E14: 121.5 | F14: 138.7 | H14: 161.1 | I14: 86.6 | J14: 185.9
A15: 令和 7年 5月 | B15: =VLOOKUP(A15,'22'!$A$7:$B$21,2,0) -> 2025.05. | D15: 144.1 | E15: 104.1 | F15: 138.4 | H15: 171.2 | I15: 91.6 | J15: 186.8
A16: 令和 7年 6月 | B16: =VLOOKUP(A16,'22'!$A$7:$B$21,2,0) -> 2025.06. | D16: 162.4 | E16: 116.8 | F16: 139.1 | H16: 167.2 | I16: 92.8 | J16: 180.2
A17: 令和 7年 7月 | B17: =VLOOKUP(A17,'22'!$A$7:$B$21,2,0) -> 2025.07. | D17: 164.5 | E17: 117.6 | F17: 139.9 | H17: 184.1 | I17: 97.7 | J17: 188.5
A18: 令和 7年 8月 | B18: =VLOOKUP(A18,'22'!$A$7:$B$21,2,0) -> 2025.08. | D18: 131.9 | E18: 92.9 | F18: 142 | H18: 171.1 | I18: 87.5 | J18: 195.5
... A20: 令和 7年10月 | B20: =VLOOKUP(A20,'22'!$A$7:$B$21,2,0) -> 2025.10. | D20: 166.9 | E20: 121.4 | F20: 137.5 | H20: 197.2 | I20: 104.1 | J20: 189.5
A21: 令和 7年11月 | B21: =VLOOKUP(A21,'22'!$A$7:$B$21,2,0) -> 2025.11. | D21: 172.9 | E21: 122.2 | F21: 141.5 | G21: (P) | H21: 173.4 | I21: 85.2 | J21: 203.6
A22: （注）・ 令和 2年＝100。 ・(P)は速報値。
A23: 2020=100. P)는 속보치.
A25: 伸率
A26: 변화율
D27: 輸出金額 | E27: 輸出数量 | F27: 輸出価格 | H27: 輸入金額 | I27: 輸入数量 | J27: 輸入価格
D28: 수출금액 | E28: 수출수량 | F28: 수출가격 | H28: 수입금액 | I28: 수입수량 | J28: 수입가격
A29: 令和 4年 | B29: =VLOOKUP(A29,'22'!$A$7:$B$21,2,0) -> 2022 | D29: 23.1 | E29: 2.7 | F29: 19.9 | H29: 31.9 | I29: -4.7 | J29: 38.4
A30: 令和 5年 | B30: =VLOOKUP(A30,'22'!$A$7:$B$21,2,0) -> 2023 | D30: 11 | E30: 4.5 | F30: 6.2 | H30: -1.7 | I30: -5.8 | J30: 4.3
A31: 令和 6年 | B31: =VLOOKUP(A31,'22'!$A$7:$B$21,2,0) -> 2024 | D31: 5.1 | E31: -1.8 | F31: 7 | H31: 9.8 | I31: 1.9 | J31: 7.8
A32: 令和 6年12月 | B32: =VLOOKUP(A32,'22'!$A$7:$B$21,2,0) -> 2024.12. | D32: -2.1 | E32: -6.5 | F32: 4.7 | H32: 1.5 | I32: -1.4 | J32: 2.9
A33: 令和 7年 1月 | B33: =VLOOKUP(A33,'22'!$A$7:$B$21,2,0) -> 2025.01. | D33: 8.1 | E33: -3.5 | F33: 12.1 | H33: 5.3 | I33: 2.4 | J33: 2.9
A34: 令和 7年 2月 | B34: =VLOOKUP(A34,'22'!$A$7:$B$21,2,0) -> 2025.02. | D34: 10.5 | E34: -3.3 | F34: 14.3 | H34: -2.9 | I34: -9.9 | J34: 7.7
A35: 令和 7年 3月 | B35: =VLOOKUP(A35,'22'!$A$7:$B$21,2,0) -> 2025.03. | D35: 3.1 | E35: -4.9 | F35: 8.4 | H35: -4.7 | I35: -9 | J35: 4.8
A36: 令和 7年 4月 | B36: =VLOOKUP(A36,'22'!$A$7:$B$21,2,0) -> 2025.04. | D36: -1.8 | E36: 1.2 | F36: -3 | H36: -11.1 | I36: -10.9 | J36: -0.2
A37: 令和 7年 5月 | B37: =VLOOKUP(A37,'22'!$A$7:$B$21,2,0) -> 2025.05. | D37: -11 | E37: -1.4 | F37: -9.8 | H37: -13.5 | I37: -7.1 | J37: -6.9
A38: 令和 7年 6月 | B38: =VLOOKUP(A38,'22'!$A$7:$B$21,2,0) -> 2025.06. | D38: -11.4 | E38: -1.6 | F38: -9.9 | H38: -2.2 | I38: 6 | J38: -7.7
A39: 令和 7年 7月 | B39: =VLOOKUP(A39,'22'!$A$7:$B$21,2,0) -> 2025.07. | D39: -10.1 | E39: -2.3 | F39: -7.9 | H39: -0.9 | I39: 12 | J39: -11.5
A40: 令和 7年 8月 | B40: =VLOOKUP(A40,'22'!$A$7:$B$21,2,0) -> 2025.08. | D40: -13.7 | E40: -12 | F40: -2 | H40: 11.6 | I40: 7.9 | J40: 3.4
... A42: 令和 7年10月 | B42: =VLOOKUP(A42,'22'!$A$7:$B$21,2,0) -> 2025.10. | D42: -3.1 | E42: 0 | F42: -3.1 | H42: 21 | I42: 13.2 | J42: 6.8
A43: 令和 7年11月 | B43: =VLOOKUP(A43,'22'!$A$7:$B$21,2,0) -> 2025.11. | D43: 8.8 | E43: 14 | F43: -4.5 | G43: (P) | H43: 7.1 | I43: 8.7 | J43: -1.5
A44: （注）・「伸率」は対前年伸率。 ・(P)は速報値。
A45: 변화율은 전년대비 변화율. (P)는 속보치.

Sheet 24
A1: 貿易指数 （ＥＵ）
A2: =VLOOKUP(A1,目次!B:C,2,0) -> 무역지수, 유럽연합
A3: 原値
A4: 원치
D5: 輸出金額 | E5: 輸出数量 | F5: 輸出価格 | H5: 輸入金額 | I5: 輸入数量 | J5: 輸入価格
D6: 수출금액 | E6: 수출수량 | F6: 수출가격 | H6: 수입금액 | I6: 수입수량 | J6: 수입가격
A7: 令和 4年 | B7: =VLOOKUP(A7,'23'!$A$7:$B$21,2,0) -> 2022 | D7: 148.2 | E7: 118.9 | F7: 124.7 | H7: 147.5 | I7: 108.6 | J7: 135.7
A8: 令和 5年 | B8: =VLOOKUP(A8,'23'!$A$7:$B$21,2,0) -> 2023 | D8: 164.3 | E8: 116.5 | F8: 141 | H8: 147.2 | I8: 106.5 | J8: 138.2
A9: 令和 6年 | B9: =VLOOKUP(A9,'23'!$A$7:$B$21,2,0) -> 2024 | D9: 157.8 | E9: 104.4 | F9: 151.2 | H9: 154.1 | I9: 100.9 | J9: 152.8
A10: 令和 6年12月 | B10: =VLOOKUP(A10,'23'!$A$7:$B$21,2,0) -> 2024.12. | D10: 182.4 | E10: 124.3 | F10: 146.7 | H10: 157.8 | I10: 100.7 | J10: 156.8
A11: 令和 7年 1月 | B11: =VLOOKUP(A11,'23'!$A$7:$B$21,2,0) -> 2025.01. | D11: 124.2 | E11: 80 | F11: 155.2 | H11: 163.5 | I11: 100.9 | J11: 162
A12: 令和 7年 2月 | B12: =VLOOKUP(A12,'23'!$A$7:$B$21,2,0) -> 2025.02. | D12: 152.8 | E12: 101.5 | F12: 150.5 | H12: 158.7 | I12: 102 | J12: 155.7
A13: 令和 7年 3月 | B13: =VLOOKUP(A13,'23'!$A$7:$B$21,2,0) -> 2025.03. | D13: 169.7 | E13: 115.2 | F13: 147.2 | H13: 155.6 | I13: 107.7 | J13: 144.5
A14: 令和 7年 4月 | B14: =VLOOKUP(A14,'23'!$A$7:$B$21,2,0) -> 2025.04. | D14: 159 | E14: 106.2 | F14: 149.7 | H14: 154.9 | I14: 104.3 | J14: 148.5
A15: 令和 7年 5月 | B15: =VLOOKUP(A15,'23'!$A$7:$B$21,2,0) -> 2025.05. | D15: 142.6 | E15: 95.7 | F15: 149 | H15: 163.8 | I15: 105.7 | J15: 154.9
A16: 令和 7年 6月 | B16: =VLOOKUP(A16,'23'!$A$7:$B$21,2,0) -> 2025.06. | D16: 156.6 | E16: 104.1 | F16: 150.5 | H16: 174.3 | I16: 113.3 | J16: 153.8
A17: 令和 7年 7月 | B17: =VLOOKUP(A17,'23'!$A$7:$B$21,2,0) -> 2025.07. | D17: 164.7 | E17: 106.1 | F17: 155.2 | H17: 177 | I17: 118.1 | J17: 149.9
A18: 令和 7年 8月 | B18: =VLOOKUP(A18,'23'!$A$7:$B$21,2,0) -> 2025.08. | D18: 148.3 | E18: 93.8 | F18: 158.1 | H18: 139.7 | I18: 96.6 | J18: 144.7
... A20: 令和 7年10月 | B20: =VLOOKUP(A20,'23'!$A$7:$B$21,2,0) -> 2025.10. | D20: 172.4 | E20: 107.2 | F20: 160.8 | H20: 155.2 | I20: 98.1 | J20: 158.2
A21: 令和 7年11月 | B21: =VLOOKUP(A21,'23'!$A$7:$B$21,2,0) -> 2025.11. | D21: 171.3 | E21: 105 | F21: 163.2 | G21: (P) | H21: 159.5 | I21: 96.7 | J21: 165
A22: （注）・ 令和 2年＝100。 ・(P)は速報値。
A23: 2020=100. P)는 속보치.
A25: 伸率
A26: 변화율
D27: 輸出金額 | E27: 輸出数量 | F27: 輸出価格 | H27: 輸入金額 | I27: 輸入数量 | J27: 輸入価格
D28: 수출금액 | E28: 수출수량 | F28: 수출가격 | H28: 수입금액 | I28: 수입수량 | J28: 수입가격
A29: 令和 4年 | B29: =VLOOKUP(A29,'23'!$A$7:$B$21,2,0) -> 2022 | D29: 22 | E29: 6.6 | F29: 14.5 | H29: 21.1 | I29: 5.5 | J29: 14.8
A30: 令和 5年 | B30: =VLOOKUP(A30,'23'!$A$7:$B$21,2,0) -> 2023 | D30: 10.9 | E30: -2 | F30: 13.1 | H30: -0.2 | I30: -1.9 | J30: 1.8
A31: 令和 6年 | B31: =VLOOKUP(A31,'23'!$A$7:$B$21,2,0) -> 2024 | D31: -3.9 | E31: -10.4 | F31: 7.2 | H31: 4.7 | I31: -5.3 | J31: 10.6
A32: 令和 6年12月 | B32: =VLOOKUP(A32,'23'!$A$7:$B$21,2,0) -> 2024.12. | D32: 0.5 | E32: 0 | F32: 0.5 | H32: 7.8 | I32: 1.8 | J32: 5.9
A33: 令和 7年 1月 | B33: =VLOOKUP(A33,'23'!$A$7:$B$21,2,0) -> 2025.01. | D33: -15 | E33: -18.2 | F33: 3.9 | H33: 37.6 | I33: 28.9 | J33: 6.8
A34: 令和 7年 2月 | B34: =VLOOKUP(A34,'23'!$A$7:$B$21,2,0) -> 2025.02. | D34: -7.7 | E34: -9.9 | F34: 2.4 | H34: 14 | I34: 6.9 | J34: 6.6
A35: 令和 7年 3月 | B35: =VLOOKUP(A35,'23'!$A$7:$B$21,2,0) -> 2025.03. | D35: -1.1 | E35: -0.4 | F35: -0.7 | H35: 0.8 | I35: 6.6 | J35: -5.4
A36: 令和 7年 4月 | B36: =VLOOKUP(A36,'23'!$A$7:$B$21,2,0) -> 2025.04. | D36: -5.2 | E36: -4.4 | F36: -0.9 | H36: -0.7 | I36: -2.8 | J36: 2.2
A37: 令和 7年 5月 | B37: =VLOOKUP(A37,'23'!$A$7:$B$21,2,0) -> 2025.05. | D37: 4.9 | E37: 6.3 | F37: -1.3 | H37: 7.3 | I37: 2.3 | J37: 4.9
A38: 令和 7年 6月 | B38: =VLOOKUP(A38,'23'!$A$7:$B$21,2,0) -> 2025.06. | D38: 3.6 | E38: 7 | F38: -3.3 | H38: 14.6 | I38: 10.7 | J38: 3.5
A39: 令和 7年 7月 | B39: =VLOOKUP(A39,'23'!$A$7:$B$21,2,0) -> 2025.07. | D39: -3.4 | E39: -3.7 | F39: 0.3 | H39: 5.7 | I39: 9.8 | J39: -3.7
A40: 令和 7年 8月 | B40: =VLOOKUP(A40,'23'!$A$7:$B$21,2,0) -> 2025.08. | D40: 5.6 | E40: 0.1 | F40: 5.5 | H40: -20.1 | I40: -14.1 | J40: -7
... A42: 令和 7年10月 | B42: =VLOOKUP(A42,'23'!$A$7:$B$21,2,0) -> 2025.10. | D42: 9.2 | E42: 4.9 | F42: 4.1 | H42: -9 | I42: -9 | J42: 0
A43: 令和 7年11月 | B43: =VLOOKUP(A43,'23'!$A$7:$B$21,2,0) -> 2025.11. | D43: 19.5 | E43: 16 | F43: 3.1 | G43: (P) | H43: 6.8 | I43: 7 | J43: -0.1
A44: （注）・「伸率」は対前年伸率。 ・(P)は速報値。
A45: 변화율은 전년대비 변화율. (P)는 속보치.

Sheet 25
A1: 貿易指数 （アジア）
A2: =VLOOKUP(A1,目次!B:C,2,0) -> 무역지수, 아시아
A3: 原値
A4: 원치
D5: 輸出金額 | E5: 輸出数量 | F5: 輸出価格 | H5: 輸入金額 | I5: 輸入数量 | J5: 輸入価格
D6: 수출금액 | E6: 수출수량 | F6: 수출가격 | H6: 수입금액 | I6: 수입수량 | J6: 수입가격
A7: 令和 4年 | B7: =VLOOKUP(A7,'23'!$A$7:$B$21,2,0) -> 2022 | D7: 141.3 | E7: 106.4 | F7: 132.8 | H7: 154 | I7: 106.1 | J7: 145.2
A8: 令和 5年 | B8: =VLOOKUP(A8,'23'!$A$7:$B$21,2,0) -> 2023 | D8: 133.9 | E8: 97.1 | F8: 137.8 | H8: 150 | I8: 101.8 | J8: 147.4
A9: 令和 6年 | B9: =VLOOKUP(A9,'23'!$A$7:$B$21,2,0) -> 2024 | D9: 145 | E9: 96 | F9: 151 | H9: 155.5 | I9: 99.1 | J9: 156.9
A10: 令和 6年12月 | B10: =VLOOKUP(A10,'23'!$A$7:$B$21,2,0) -> 2024.12. | D10: 158.3 | E10: 104.3 | F10: 151.8 | H10: 159.8 | I10: 101.3 | J10: 157.8
A11: 令和 7年 1月 | B11: =VLOOKUP(A11,'23'!$A$7:$B$21,2,0) -> 2025.01. | D11: 126.7 | E11: 80.6 | F11: 157.2 | H11: 184.5 | I11: 113.5 | J11: 162.5
A12: 令和 7年 2月 | B12: =VLOOKUP(A12,'23'!$A$7:$B$21,2,0) -> 2025.02. | D12: 149.6 | E12: 95.4 | F12: 156.8 | H12: 138.4 | I12: 87.1 | J12: 158.9
A13: 令和 7年 3月 | B13: =VLOOKUP(A13,'23'!$A$7:$B$21,2,0) -> 2025.03. | D13: 161.9 | E13: 104.6 | F13: 154.7 | H13: 158.9 | I13: 104.7 | J13: 151.8
A14: 令和 7年 4月 | B14: =VLOOKUP(A14,'23'!$A$7:$B$21,2,0) -> 2025.04. | D14: 152.9 | E14: 98.6 | F14: 155.1 | H14: 156.1 | I14: 104.2 | J14: 149.8
A15: 令和 7年 5月 | B15: =VLOOKUP(A15,'23'!$A$7:$B$21,2,0) -> 2025.05. | D15: 137 | E15: 91.3 | F15: 150.1 | H15: 144.2 | I15: 99.2 | J15: 145.3
A16: 令和 7年 6月 | B16: =VLOOKUP(A16,'23'!$A$7:$B$21,2,0) -> 2025.06. | D16: 150.9 | E16: 99.7 | F16: 151.3 | H16: 155.1 | I16: 105.9 | J16: 146.5
A17: 令和 7年 7月 | B17: =VLOOKUP(A17,'23'!$A$7:$B$21,2,0) -> 2025.07. | D17: 155.3 | E17: 100.2 | F17: 155 | H17: 159.2 | I17: 108.1 | J17: 147.3
A18: 令和 7年 8月 | B18: =VLOOKUP(A18,'23'!$A$7:$B$21,2,0) -> 2025.08. | D18: 145 | E18: 87.8 | F18: 165.1 | H18: 145.3 | I18: 97.5 | J18: 149
... A20: 令和 7年10月 | B20: =VLOOKUP(A20,'23'!$A$7:$B$21,2,0) -> 2025.10. | D20: 160.7 | E20: 100.8 | F20: 159.4 | H20: 174.5 | I20: 112.8 | J20: 154.8
A21: 令和 7年11月 | B21: =VLOOKUP(A21,'23'!$A$7:$B$21,2,0) -> 2025.11. | D21: 160.1 | E21: 98 | F21: 163.4 | G21: (P) | H21: 166 | I21: 106.1 | J21: 156.6
A22: （注）・ 令和 2年＝100。 ・(P)は速報値。
A23: 2020=100. P)는 속보치.
A25: ・「アジア」には「中華人民共和国」を含む。
A26: 아시아에는 중국을 포함.
A28: 伸率
A29: 변화율
D30: 輸出金額 | E30: 輸出数量 | F30: 輸出価格 | H30: 輸入金額 | I30: 輸入数量 | J30: 輸入価格
D31: 수출금액 | E31: 수출수량 | F31: 수출가격 | H31: 수입금액 | I31: 수입수량 | J31: 수입가격
A32: 令和 4年 | B32: =VLOOKUP(A32,'23'!$A$7:$B$21,2,0) -> 2022 | D32: 15.1 | E32: -3.8 | F32: 19.5 | H32: 29.9 | I32: -0.5 | J32: 30.6
A33: 令和 5年 | B33: =VLOOKUP(A33,'23'!$A$7:$B$21,2,0) -> 2023 | D33: -5.3 | E33: -8.7 | F33: 3.8 | H33: -2.6 | I33: -4.1 | J33: 1.5
A34: 令和 6年 | B34: =VLOOKUP(A34,'23'!$A$7:$B$21,2,0) -> 2024 | D34: 8.3 | E34: -1.1 | F34: 9.6 | H34: 3.7 | I34: -2.6 | J34: 6.5
A35: 令和 6年12月 | B35: =VLOOKUP(A35,'23'!$A$7:$B$21,2,0) -> 2024.12. | D35: 5.7 | E35: 1 | F35: 4.7 | H35: 4.7 | I35: 2.8 | J35: 1.9
A36: 令和 7年 1月 | B36: =VLOOKUP(A36,'23'!$A$7:$B$21,2,0) -> 2025.01. | D36: 6.3 | E36: -1.7 | F36: 8.1 | H36: 18.6 | I36: 7.7 | J36: 10.1
A37: 令和 7年 2月 | B37: =VLOOKUP(A37,'23'!$A$7:$B$21,2,0) -> 2025.02. | D37: 15.7 | E37: 6.5 | F37: 8.7 | H37: -0.6 | I37: -3.7 | J37: 3.2
A38: 令和 7年 3月 | B38: =VLOOKUP(A38,'23'!$A$7:$B$21,2,0) -> 2025.03. | D38: 5.6 | E38: 1 | F38: 4.6 | H38: 11.2 | I38: 12.4 | J38: -1
A39: 令和 7年 4月 | B39: =VLOOKUP(A39,'23'!$A$7:$B$21,2,0) -> 2025.04. | D39: 6 | E39: 1.5 | F39: 4.4 | H39: 1.9 | I39: 6.2 | J39: -4
A40: 令和 7年 5月 | B40: =VLOOKUP(A40,'23'!$A$7:$B$21,2,0) -> 2025.05. | D40: 0.5 | E40: 1.5 | F40: -1 | H40: -6 | I40: 2.9 | J40: -8.6
A41: 令和 7年 6月 | B41: =VLOOKUP(A41,'23'!$A$7:$B$21,2,0) -> 2025.06. | D41: 1.7 | E41: 4.4 | F41: -2.6 | H41: 4.4 | I41: 15.5 | J41: -9.6
A42: 令和 7年 7月 | B42: =VLOOKUP(A42,'23'!$A$7:$B$21,2,0) -> 2025.07. | D42: -0.2 | E42: 2.2 | F42: -2.4 | H42: -7.2 | I42: 3.2 | J42: -10.1
A43: 令和 7年 8月 | B43: =VLOOKUP(A43,'23'!$A$7:$B$21,2,0) -> 2025.08. | D43: 1.7 | E43: -4.7 | F43: 6.7 | H43: -0.7 | I43: 4.6 | J43: -5.1
... A45: 令和 7年10月 | B45: =VLOOKUP(A45,'23'!$A$7:$B$21,2,0) -> 2025.10. | D45: 4.2 | E45: -2.4 | F45: 6.9 | H45: 0.5 | I45: 2.2 | J45: -1.6
A46: 令和 7年11月 | B46: =VLOOKUP(A46,'23'!$A$7:$B$21,2,0) -> 2025.11. | D46: 4.4 | E46: -2.6 | F46: 7.2 | G46: (P) | H46: 3.2 | I46: 5.3 | J46: -2
A47: （注）・「伸率」は対前年伸率。 ・(P)は速報値。
A48: 변화율은 전년대비 변화율. (P)는 속보치.

Sheet 26
A1: 貿易指数 （中華人民共和国）
A2: =VLOOKUP(A1,目次!B:C,2,0) -> 무역지수, 중국
A3: 原値
A4: 원치
D5: 輸出金額 | E5: 輸出数量 | F5: 輸出価格 | H5: 輸入金額 | I5: 輸入数量 | J5: 輸入価格
D6: 수출금액 | E6: 수출수량 | F6: 수출가격 | H6: 수입금액 | I6: 수입수량 | J6: 수입가격
A7: 令和 4年 | B7: =VLOOKUP(A7,'23'!$A$7:$B$21,2,0) -> 2022 | D7: 126 | E7: 96.7 | F7: 130.3 | H7: 141.9 | I7: 105.5 | J7: 134.5
A8: 令和 5年 | B8: =VLOOKUP(A8,'23'!$A$7:$B$21,2,0) -> 2023 | D8: 117.8 | E8: 83.8 | F8: 140.5 | H8: 139.5 | I8: 99.7 | J8: 139.9
A9: 令和 6年 | B9: =VLOOKUP(A9,'23'!$A$7:$B$21,2,0) -> 2024 | D9: 125.1 | E9: 79.5 | F9: 157.4 | H9: 144.6 | I9: 100.3 | J9: 144.1
A10: 令和 6年12月 | B10: =VLOOKUP(A10,'23'!$A$7:$B$21,2,0) -> 2024.12. | D10: 136.5 | E10: 85.1 | F10: 160.4 | H10: 147.3 | I10: 104.5 | J10: 141
A11: 令和 7年 1月 | B11: =VLOOKUP(A11,'23'!$A$7:$B$21,2,0) -> 2025.01. | D11: 93.4 | E11: 57.3 | F11: 163.2 | H11: 179.4 | I11: 122.2 | J11: 146.8
A12: 令和 7年 2月 | B12: =VLOOKUP(A12,'23'!$A$7:$B$21,2,0) -> 2025.02. | D12: 122.4 | E12: 76.4 | F12: 160.2 | H12: 118.3 | I12: 79.5 | J12: 148.7
A13: 令和 7年 3月 | B13: =VLOOKUP(A13,'23'!$A$7:$B$21,2,0) -> 2025.03. | D13: 132.4 | E13: 81.9 | F13: 161.7 | H13: 145 | I13: 104 | J13: 139.5
A14: 令和 7年 4月 | B14: =VLOOKUP(A14,'23'!$A$7:$B$21,2,0) -> 2025.04. | D14: 125.6 | E14: 77.2 | F14: 162.7 | H14: 154.7 | I14: 110.6 | J14: 139.9
A15: 令和 7年 5月 | B15: =VLOOKUP(A15,'23'!$A$7:$B$21,2,0) -> 2025.05. | D15: 114.7 | E15: 72.9 | F15: 157.4 | H15: 141.7 | I15: 103.2 | J15: 137.3
A16: 令和 7年 6月 | B16: =VLOOKUP(A16,'23'!$A$7:$B$21,2,0) -> 2025.06. | D16: 123.4 | E16: 76.6 | F16: 161.2 | H16: 141.7 | I16: 106.9 | J16: 132.6
A17: 令和 7年 7月 | B17: =VLOOKUP(A17,'23'!$A$7:$B$21,2,0) -> 2025.07. | D17: 127 | E17: 79.4 | F17: 159.9 | H17: 151.2 | I17: 110.3 | J17: 137.1
A18: 令和 7年 8月 | B18: =VLOOKUP(A18,'23'!$A$7:$B$21,2,0) -> 2025.08. | D18: 119.4 | E18: 67.3 | F18: 177.3 | H18: 132.1 | I18: 96.4 | J18: 137
... A20: 令和 7年10月 | B20: =VLOOKUP(A20,'23'!$A$7:$B$21,2,0) -> 2025.10. | D20: 136.1 | E20: 82.8 | F20: 164.2 | H20: 169.8 | I20: 116.4 | J20: 145.9
A21: 令和 7年11月 | B21: =VLOOKUP(A21,'23'!$A$7:$B$21,2,0) -> 2025.11. | D21: 128.9 | E21: 68.8 | F21: 187.2 | G21: (P) | H21: 164.5 | I21: 113.3 | J21: 145.2
A22: （注）・ 令和 2年＝100。 ・(P)は速報値。
A23: 2020=100. P)는 속보치.
A25: 伸率
A26: 변화율
D27: 輸出金額 | E27: 輸出数量 | F27: 輸出価格 | H27: 輸入金額 | I27: 輸入数量 | J27: 輸入価格
D28: 수출금액 | E28: 수출수량 | F28: 수출가격 | H28: 수입금액 | I28: 수입수량 | J28: 수입가격
A29: 令和 4年 | B29: =VLOOKUP(A29,'23'!$A$7:$B$21,2,0) -> 2022 | D29: 5.7 | E29: -10.1 | F29: 17.5 | H29: 21.9 | I29: -2 | J29: 24.4
A30: 令和 5年 | B30: =VLOOKUP(A30,'23'!$A$7:$B$21,2,0) -> 2023 | D30: -6.5 | E30: -13.3 | F30: 7.8 | H30: -1.7 | I30: -5.5 | J30: 4
A31: 令和 6年 | B31: =VLOOKUP(A31,'23'!$A$7:$B$21,2,0) -> 2024 | D31: 6.2 | E31: -5.2 | F31: 12 | H31: 3.6 | I31: 0.6 | J31: 3
A32: 令和 6年12月 | B32: =VLOOKUP(A32,'23'!$A$7:$B$21,2,0) -> 2024.12. | D32: -3.2 | E32: -10.3 | F32: 7.9 | H32: 5.8 | I32: 7.5 | J32: -1.6
A33: 令和 7年 1月 | B33: =VLOOKUP(A33,'23'!$A$7:$B$21,2,0) -> 2025.01. | D33: -6.1 | E33: -15.2 | F33: 10.7 | H33: 18.4 | I33: 12.4 | J33: 5.3
A34: 令和 7年 2月 | B34: =VLOOKUP(A34,'23'!$A$7:$B$21,2,0) -> 2025.02. | D34: 14 | E34: 4.9 | F34: 8.7 | H34: -3.5 | I34: -7.1 | J34: 3.9
A35: 令和 7年 3月 | B35: =VLOOKUP(A35,'23'!$A$7:$B$21,2,0) -> 2025.03. | D35: -4.8 | E35: -8.5 | F35: 4 | H35: 15.9 | I35: 17.7 | J35: -1.5
A36: 令和 7年 4月 | B36: =VLOOKUP(A36,'23'!$A$7:$B$21,2,0) -> 2025.04. | D36: -0.6 | E36: -5.3 | F36: 5 | H36: 6.6 | I36: 10.4 | J36: -3.4
A37: 令和 7年 5月 | B37: =VLOOKUP(A37,'23'!$A$7:$B$21,2,0) -> 2025.05. | D37: -8.8 | E37: -7.8 | F37: -1 | H37: -2.3 | I37: 4.7 | J37: -6.6
A38: 令和 7年 6月 | B38: =VLOOKUP(A38,'23'!$A$7:$B$21,2,0) -> 2025.06. | D38: -4.7 | E38: -5.8 | F38: 1.2 | H38: 5.3 | I38: 16.3 | J38: -9.4
A39: 令和 7年 7月 | B39: =VLOOKUP(A39,'23'!$A$7:$B$21,2,0) -> 2025.07. | D39: -3.5 | E39: -0.3 | F39: -3.3 | H39: -3.9 | I39: 5.1 | J39: -8.6
A40: 令和 7年 8月 | B40: =VLOOKUP(A40,'23'!$A$7:$B$21,2,0) -> 2025.08. | D40: -0.5 | E40: -12.4 | F40: 13.5 | H40: 2.1 | I40: 4.4 | J40: -2.3
... A42: 令和 7年10月 | B42: =VLOOKUP(A42,'23'!$A$7:$B$21,2,0) -> 2025.10. | D42: 2.1 | E42: -3.3 | F42: 5.7 | H42: 0.8 | I42: 0.9 | J42: -0.1
A43: 令和 7年11月 | B43: =VLOOKUP(A43,'23'!$A$7:$B$21,2,0) -> 2025.11. | D43: -2.5 | E43: -14.2 | F43: 13.6 | G43: (P) | H43: 2.3 | I43: 3.7 | J43: -1.3
A44: （注）・「伸率」は対前年伸率。 ・(P)は速報値。
A45: 변화율은 전년대비 변화율. (P)는 속보치.

Sheet 출처
B2: 貿易統計
B3: 자료 원본: | C3: https://www.customs.go.jp/toukei/shinbun/trade-st/2025/2025115.xml
