Workbook

Sheet 目次
A1: 貿易統計 月分
A2: 무역통계 월분
A4: 1. | B4: 総額 | C4: 총액
A5: 2. | B5: 地域（国）別輸出入 | C5: 지역, 국가별 수출입
A6: 3. | B6: 主要商品別輸出(世界) | C6: 주요 상품별 수출, 세계
A7: 4. | B7: 主要商品別輸入(世界) | C7: 주요 상품별 수입, 세계
A8: 5. | B8: 主要地域（国）別商品別輸出(アメリカ合衆国) | C8: 주요 지역, 국가별 및 상품별 수출, 미국
A9: 6. | B9: 主要地域（国）別商品別輸出(ＥＵ) | C9: 주요 지역, 국가별 및 상품별 수출, 유럽연합
A10: 7. | B10: 主要地域（国）別商品別輸出(アジア) | C10: 주요 지역, 국가별 및 상품별 수출, 아시아
A11: 8. | B11: 主要地域（国）別商品別輸出(中華人民共和国) | C11: 주요 지역, 국가별 및 상품별 수출, 중국
A12: 9. | B12: 主要地域（国）別商品別輸出(大韓民国) | C12: 주요 지역, 국가별 및 상품별 수출, 대한민국
A13: 10. | B13: 主要地域（国）別商品別輸出(ＡＳＥＡＮ) | C13: 주요 지역, 국가별 및 상품별 수출, 아세안
A14: 11. | B14: 主要地域（国）別商品別輸出(中東) | C14: 주요 지역, 국가별 및 상품별 수출, 중동
A15: 12. | B15: 主要地域（国）別商品別輸出(ロシア) | C15: 주요 지역, 국가별 및 상품별 수출, 러시아
... A29: 26. | B29: 貿易指数 （中華人民共和国） | C29: 무역지수, 중국

Sheet 1
A1: 令和 7年10月分貿易統計（輸出確報；輸入速報（9桁））
A2: 무역통계, 수출 확보 및 수입 속보 (9품목)
A3: 総 額 （原 値） | D3: （単位:百万円,％）
A4: 총액, 원치 | D4: 단위: 백만엔, %
B5: 令和 7年11月 | C5: 令和 6年11月 | D5: 伸 率
B6: 2025.11. | C6: 2024.11. | D6: 변화율
A7: 輸 出 수출 | B7: 9709494 | C7: 9152003 | D7: 6.1
A8: 輸 入 수입 | B8: 9392795 | C8: 9272812 | D8: 1.3
A9: 差 引 차감 | B9: 316699 | C9: △120,809 | D9: -
A11: （注）
A12: 1. 輸出はＦＯＢ価格、輸入はＣＩＦ価格（ただし、特例輸入申告制度により輸入（引取）申告が行われ、まだ特例（納税）申告が行われていない輸入貨物については、輸入（引取）申告の際に申告された価格（仕入書その他の輸入引取に係る書類に記載された貨物の価格でも可））。
A17: 수출은 FOB 가격, 수입은 CIF 가격(단, 특례 수입 신고 제도에 의해 수입(인취) 신고가 행해져, 아직 특례(납세) 신고가 행해지고 있지 않은 수입 화물에 대해서는, 수입(인취) 신고 시에 신고된 가격(사입서 및 기타 수입 인취에 관련된 서류에 기재된 화물의 가격으로도 가능).
A23: 2. 輸出は当該輸出貨物を積載する船舶又は航空機の出港の日、輸入は当該輸入貨物の輸入許可の日（蔵入貨物、移入貨物、総保入貨物及び輸入許可前引取貨物は、それぞれ当該貨物の蔵入、移入、総保入、輸入許可前引取の承認の日）をもって計上。
A27: 수출은 해당 수출 화물을 적재하는 선박 또는 항공기의 출항일, 수입은 해당 수입 화물의 수입 허가일(장입화물, 이입화물, 총보입화물 및 수입허가전 인취화물은 각각 해당 화물의 장입, 이입, 총보입, 수입허가전 인취의 승인일)로 계상.
A32: 3. 「伸率」は、対前年伸率。
A33: 변화율은 전년대비 변화율

Sheet 2
A1: 地域（国）別輸出入
A2: =VLOOKUP(A1,目次!B:C,2,0) -> 지역, 국가별 수출입
A3: （単位：百万円、％）
A4: 단위: 백만엔, %
C5: 輸出価額 | D5: 伸率 | E5: 輸入価額 | F5: 伸率 | G5: 差引価額 | H5: 伸率
C6: 수출가액 | D6: 변화율 | E6: 수입가액 | F6: 변화율 | G6: 차감가액 | H6: 변화율
A7: 総額 | B7: 총액 | C7: 9709494 | D7: 6.1 | E7: 9392795 | F7: 1.3 | G7: 316699 | H7: -
A8: アジア | B8: 아시아 | C8: 5233597 | D8: 4.4 | E8: 4798332 | F8: 3.2 | G8: 435265 | H8: 20.6
A9: 中華人民共和国 | B9: 중국 | C9: 1619924 | D9: -2.5 | E9: 2400283 | F9: 2.3 | G9: -780359 | H9: 14.1
A10: 香港 | B10: 홍콩 | C10: 608223 | D10: 11.4 | E10: 10226 | F10: -17.1 | G10: 597997 | H10: 12
A11: 台湾 | B11: 대만 | C11: 706945 | D11: 16.7 | E11: 469709 | F11: 22.7 | G11: 237236 | H11: 6.5
A12: 大韓民国 | B12: 대한민국 | C12: 585351 | D12: -1.7 | E12: 367471 | F12: -9.8 | G12: 217880 | H12: 15.6
A13: シンガポール | B13: 싱가포르 | C13: 289940 | D13: -1.3 | E13: 87447 | F13: -5 | G13: 202493 | H13: 0.4
A14: タイ | B14: 태국 | C14: 361814 | D14: 7 | E14: 308431 | F14: 1.4 | G14: 53383 | H14: 56.9
A15: マレーシア | B15: 말레이시아 | C15: 194915 | D15: 14.1 | E15: 236416 | F15: 4.4 | G15: -41501 | H15: -25.4
A16: インドネシア | B16: 인도네시아 | C16: 161799 | D16: -7.1 | E16: 237016 | F16: -4.8 | G16: -75217 | H16: 0.5
A17: フィリピン | B17: 필리핀 | C17: 132583 | D17: -1.8 | E17: 125551 | F17: 2.6 | G17: 7032 | H17: -44.5
A18: ベトナム | B18: 베트남 | C18: 249921 | D18: 13.9 | E18: 384854 | F18: 14.5 | G18: -134933 | H18: 15.6
A19: インド | B19: 인도 | C19: 227335 | D19: 16.5 | E19: 82164 | F19: -0.5 | G19: 145171 | H19: 28.9
... A22: オーストラリア | B22: 호주 | C22: 192564 | D22: -19.2 | E22: 547767 | F22: -16 | G22: -355203 | H22: -14.1
A23: ニュージーランド | B23: 뉴질랜드 | C23: 25296 | D23: -34.5 | E23: 28409 | F23: 14.6 | G23: -3113 | H23: -
A24: 北米 | B24: 북미 | C24: 1952063 | D24: 9.6 | E24: 1238881 | F24: 7 | G24: 713182 | H24: 14.4
A25: アメリカ合衆国 | B25: 미국 | C25: 1816870 | D25: 8.8 | E25: 1077135 | F25: 7.1 | G25: 739735 | H25: 11.3
A26: カナダ | B26: 캐나다 | C26: 135193 | D26: 21.4 | E26: 160848 | F26: 6.1 | G26: -25655 | H26: -36.2
A27: 中南米 | B27: 중남미 | C27: 390027 | D27: -3 | E27: 378162 | F27: -5.4 | G27: 11865 | H27: 412.4
A28: ブラジル | B28: 브라질 | C28: 54992 | D28: -6.6 | E28: 93854 | F28: -32.9 | G28: -38862 | H28: -52.1
A29: メキシコ | B29: 멕시코 | C29: 135687 | D29: -3 | E29: 77909 | F29: 12.8 | G29: 57778 | H29: -18.4
A30: チリ | B30: 칠레 | C30: 28504 | D30: 43 | E30: 94782 | F30: -12.6 | G30: -66278 | H30: -25.1
A31: 西欧 | B31: 서유럽 | C31: 1145089 | D31: 23.6 | E31: 1219706 | F31: 8.5 | G31: -74617 | H31: -62.1
A32: ドイツ | B32: 독일 | C32: 238711 | D32: 21 | E32: 293837 | F32: 4.1 | G32: -55126 | H32: -35.1
A33: 英国 | B33: 영국 | C33: 191603 | D33: 29.4 | E33: 110464 | F33: 9 | G33: 81139 | H33: 73.4
A34: フランス | B34: 프랑스 | C34: 86176 | D34: 20 | E34: 169320 | F34: 41.3 | G34: -83144 | H34: 73
A35: オランダ | B35: 네덜란드 | C35: 164247 | D35: 36.6 | E35: 32803 | F35: -29.3 | G35: 131444 | H35: 77.9
... A40: アイルランド | B40: 아일랜드 | C40: 18215 | D40: -0.8 | E40: 102535 | F40: 25.3 | G40: -84320 | H40: 32.9
A41: スペイン | B41: 스페인 | C41: 39845 | D41: 3 | E41: 39001 | F41: -24.2 | G41: 844 | H41: -
A42: 中東欧・ロシア等 | B42: 중동 유럽 및 러시아 등 | C42: 164485 | D42: 2 | E42: 152451 | F42: -5.6 | G42: 12034 | H42: -
A43: ロシア | B43: 러시아 | C43: 32001 | D43: 29.4 | E43: 63379 | F43: -15.8 | G43: -31378 | H43: -37.9
A44: (ＥＵ) | B44: 유럽연합 | C44: 901251 | D44: 19.5 | E44: 1031882 | F44: 6.8 | G44: -130631 | H44: -38.4
A45: 中東 | B45: 중동 | C45: 463524 | D45: -1.6 | E45: 853515 | F45: -10.4 | G45: -389991 | H45: -19
A46: アラブ首長国連邦 | B46: 아랍에미레이트연합 | C46: 254153 | D46: 6 | E46: 343663 | F46: -7.1 | G46: -89510 | H46: -31.3
...

Sheet 3
A1: 主要商品別輸出(世界)
A2: =VLOOKUP(A1,目次!B:C,2,0) -> 주요 상품별 수출, 세계
A3: （単位：百万円、％）
A4: 단위: 백만엔, %
C5: 単位 | D5: 数量 | E5: 伸率 | F5: 価額 | G5: 構成比 | H5: 伸率 | I5: 増減寄与度
A6: 品名 | B6: 품명 | C6: 단위 | D6: 수량 | E6: 변화율 | F6: 가액 | G6: 구성비 | H6: 변화율 | I6: 증감 기여도
A7: 総額 | B7: 총액 | F7: 9709494 | G7: 100 | H7: 6.1 | I7: 6.1
A8: 1 食料品 | B8: 식료품 | F8: 122567 | G8: 1.3 | H8: 10.9 | I8: 0.1
A9: 2 原料品 | B9: 원료품 | F9: 172247 | G9: 1.8 | H9: 15.3 | I9: 0.3
A10: 3 鉱物性燃料 | B10: 광물성 원료 | F10: 129168 | G10: 1.3 | H10: 9.2 | I10: 0.1
A11: 4 化学製品 | B11: 화학제품 | F11: 1023744 | G11: 10.5 | H11: 5.5 | I11: 0.6
A12: 有機化合物 | B12: 유기화합물 | F12: 151283 | G12: 1.6 | H12: -13.4 | I12: -0.3
A13: 医薬品 | B13: 의약품 | C13: ＫＧ | D13: 5442265 | E13: -1.3 | F13: 148189 | G13: 1.5 | H13: 48.1 | I13: 0.5
A14: プラスチック | B14: 플라스틱 | C14: トン(톤) | D14: 428999 | E14: -2.8 | F14: 282343 | G14: 2.9 | H14: 2.3 | I14: 0.1
A15: 5 原料別製品 | B15: 원료별 제품 | F15: 971964 | G15: 10 | H15: 1.2 | I15: 0.1
A16: 鉄鋼 | B16: 철강 | C16: 千トン(톤) | D16: 2375 | E16: -3.6 | F16: 306301 | G16: 3.2 | H16: -9 | I16: -0.3
A17: 非鉄金属 | B17: 비철금속 | C17: トン(톤) | D17: 109708 | E17: -8.6 | F17: 248939 | G17: 2.6 | H17: 14.8 | I17: 0.4
A18: 金属製品 | B18: 금속제품 | F18: 120831 | G18: 1.2 | H18: 2 | I18: 0
A19: 織物用糸・繊維製品 | B19: 직물용 실 및 섬유제품 | F19: 72546 | G19: 0.7 | H19: -1.9 | I19: 0
A20: 非金属鉱物製品 | B20: 비금속 철물제품 | F20: 99295 | G20: 1 | H20: 9.4 | I20: 0.1
A21: ゴム製品 | B21: 고무제품 | C21: トン(톤) | D21: 97286 | E21: -4.5 | F21: 92556 | G21: 1 | H21: 0 | I21: 0
A22: 紙類・紙製品 | B22: 종이류 및 종이제품 | C22: トン(톤) | D22: 169924 | E22: 7.5 | F22: 29047 | G22: 0.3 | H22: 0.8 | I22: 0
A23: 6 一般機械 | B23: 일반 기계 | F23: 1652286 | G23: 17 | H23: 4.9 | I23: 0.8
A24: 原動機 | B24: 원동기 | C24: トン(톤) | D24: 90539 | E24: 4.9 | F24: 254425 | G24: 2.6 | H24: 7.9 | I24: 0.2
A25: 電算機類（含周辺機器） | B25: 전산기류, 주변기기 포함 | C25: 千台(천대) | D25: 604 | E25: 25.3 | F25: 34241 | G25: 0.4 | H25: 9.4 | I25: 0
A26: 電算機類の部分品 | B26: 전산기류의 부분품 | C26: トン(톤) | D26: 8749 | E26: -6.9 | F26: 93228 | G26: 1 | H26: 4.1 | I26: 0
A27: 半導体等製造装置 | B27: 반도체 등 제조 장치 | C27: トン(톤) | D27: 11713 | E27: 1.3 | F27: 379223 | G27: 3.9 | H27: 1.3 | I27: 0.1
A28: 金属加工機械 | B28: 금속 가공 기계 | F28: 94517 | G28: 1 | H28: 9.1 | I28: 0.1
A29: ポンプ・遠心分離機 | B29: 펌프 및 원심분리기 | F29: 136661 | G29: 1.4 | H29: -2.1 | I29: 0
A30: 建設用・鉱山用機械 | B30: 건설용 및 광산용 기계 | F30: 151164 | G30: 1.6 | H30: 12.5 | I30: 0.2
A31: 荷役機械 | B31: 하역 기계 | F31: 65915 | G31: 0.7 | H31: -4.1 | I31: 0
A32: 加熱用・冷却用機器 | B32: 가열용 및 냉각용 기기 | F32: 41052 | G32: 0.4 | H32: -0.4 | I32: 0
A33: 繊維機械 | B33: 섬유 기계 | F33: 26409 | G33: 0.3 | H33: 13.2 | I33: 0
A34: ベアリング | B34: 베어링 | C34: トン(톤) | D34: 19938 | E34: 3.3 | F34: 43886 | G34: 0.5 | H34: 8.6 | I34: 0
A35: 7 電気機器 | B35: 전기 기기 | F35: 1606783 | G35: 16.5 | H35: 7.4 | I35: 1.2
A36: 半導体等電子部品 | B36: 반도체 등 전자부품 | F36: 577022 | G36: 5.9 | H36: 13 | I36: 0.7
A37: （ＩＣ） | B37: IC | C37: 百万個(백만개) | D37: 6075 | E37: -5 | F37: 426948 | G37: 4.4 | H37: 12.2 | I37: 0.5
A38: 音響・映像機器 | B38: 음향 및 영상 기기 | C38: 千台(천대) | D38: 11391 | E38: 3.1 | F38: 66919 | G38: 0.7 | H38: 5.5 | I38: 0
A39: （映像記録・再生機器） | B39: 영상 기록 및 재생 기기 | C39: 千台(천대) | D39: 691 | E39: 33.9 | F39: 44299 | G39: 0.5 | H39: 24.3 | I39: 0.1
A40: （テレビ受像機） | B40: TV 수상기 | C40: 千台(천대) | D40: 158 | E40: -32.5 | F40: 3789 | G40: 0 | H40: -36.6 | I40: 0
...

Sheet 4
A1: 主要商品別輸入(世界)
A2: =VLOOKUP(A1,目次!B:C,2,0) -> 주요 상품별 수입, 세계
A3: （単位：百万円、％）
A4: 단위: 백만엔, %
C5: 単位 | D5: 数量 | E5: 伸率 | F5: 価額 | G5: 構成比 | H5: 伸率 | I5: 増減寄与度
A6: 品名 | B6: 품명 | C6: =HLOOKUP(C5,'3'!5:6,2,0) -> 단위 | D6: =HLOOKUP(D5,'3'!5:6,2,0) -> 수량 | E6: =HLOOKUP(E5,'3'!5:6,2,0) -> 변화율 | F6: =HLOOKUP(F5,'3'!5:6,2,0) -> 가액 | G6: =HLOOKUP(G5,'3'!5:6,2,0) -> 구성비 | H6: =HLOOKUP(H5,'3'!5:6,2,0) -> 변화율 | I6: =HLOOKUP(I5,'3'!5:6,2,0) -> 증감 기여도
A7: 総額 | B7: 총액 | F7: 9392795 | G7: 100 | H7: 1.3 | I7: 1.3
A8: 1 食料品 | B8: 식료품 | F8: 815822 | G8: 8.7 | H8: -1.8 | I8: -0.2
A9: 魚介類 | B9: 어개류 | C9: トン(톤) | D9: 159235 | E9: -6.2 | F9: 179112 | G9: 1.9 | H9: 3.4 | I9: 0.1
A10: 肉類 | B10: 육류 | C10: トン(톤) | D10: 222633 | E10: -7 | F10: 157606 | G10: 1.7 | H10: -5.5 | I10: -0.1
A11: 穀物類 | B11: 곡물류 | C11: トン(톤) | D11: 1908241 | E11: -3.4 | F11: 97697 | G11: 1 | H11: -2.2 | I11: 0
A12: 野菜 | B12: 채소 | C12: トン(톤) | D12: 227522 | E12: 2.6 | F12: 63603 | G12: 0.7 | H12: -1.2 | I12: 0
A13: 果実 | B13: 과실 | C13: トン(톤) | D13: 179907 | E13: -3.6 | F13: 53088 | G13: 0.6 | H13: -3.8 | I13: 0
A14: 2 原料品 | B14: 원료품 | F14: 569761 | G14: 6.1 | H14: -5.8 | I14: -0.4
A15: 木材 | B15: 목재 | F15: 21758 | G15: 0.2 | H15: -8.7 | I15: 0
A16: 非鉄金属鉱 | B16: 비철금속광 | C16: 千トン(천톤) | D16: 586 | E16: -0.3 | F16: 180336 | G16: 1.9 | H16: -13.2 | I16: -0.3
A17: 鉄鉱石 | B17: 철광석 | C17: 千トン(천톤) | D17: 7083 | E17: -8.9 | F17: 103833 | G17: 1.1 | H17: -17.4 | I17: -0.2
A18: 大豆 | B18: 대두 | C18: トン(톤) | D18: 247710 | E18: -11.5 | F18: 20607 | G18: 0.2 | H18: -7.8 | I18: 0
A19: 3 鉱物性燃料 | B19: 광물성 원료 | F19: 1649335 | G19: 17.6 | H19: -13.4 | I19: -2.7
A20: 原油及び粗油 | B20: 원유 및 조유 | C20: 千ＫＬ | D20: 10843 | E20: 7 | F20: 743772 | G20: 7.9 | H20: -2.4 | I20: -0.2
A21: 石油製品 | B21: 석유제품 | F21: 192633 | G21: 2.1 | H21: -20.5 | I21: -0.5
A22: （揮発油） | B22: 휘발유 | C22: 千ＫＬ | D22: 2234 | E22: -6.9 | F22: 148504 | G22: 1.6 | H22: -16.9 | I22: -0.3
A23: 液化天然ガス | B23: 액화 천연 가스 | C23: 千トン(천톤) | D23: 4730 | E23: -6.3 | F23: 397995 | G23: 4.2 | H23: -17.7 | I23: -0.9
A24: 液化石油ガス | B24: 액화 석유 가스 | C24: 千トン(천톤) | D24: 733 | E24: -3.5 | F24: 55773 | G24: 0.6 | H24: -23.6 | I24: -0.2
A25: 石炭 | B25: 석탄 | C25: 千トン(천톤) | D25: 12919 | E25: -2.5 | F25: 255531 | G25: 2.7 | H25: -24.6 | I25: -0.9
A26: （一般炭） | B26: 일반탄 | C26: 千トン(천톤) | D26: 8671 | E26: 2.9 | F26: 155301 | G26: 1.7 | H26: -22.2 | I26: -0.5
A27: 4 化学製品 | B27: 화학제품 | F27: 1016942 | G27: 10.8 | H27: 2.5 | I27: 0.3
A28: 有機化合物 | B28: 유기화합물 | F28: 163921 | G28: 1.7 | H28: -15 | I28: -0.3
A29: 医薬品 | B29: 의약품 | C29: ＫＧ | D29: 9281777 | E29: 15.6 | F29: 465841 | G29: 5 | H29: 10.5 | I29: 0.5
A30: 5 原料別製品 | B30: 원료별 제품 | F30: 796167 | G30: 8.5 | H30: 1.4 | I30: 0.1
A31: 鉄鋼 | B31: 철강 | C31: トン(톤) | D31: 583914 | E31: -8.3 | F31: 101004 | G31: 1.1 | H31: -9.9 | I31: -0.1
A32: 非鉄金属 | B32: 비철금속 | C32: トン(톤) | D32: 203580 | E32: -3.3 | F32: 255119 | G32: 2.7 | H32: 15.1 | I32: 0.4
A33: 金属製品 | B33: 금속제품 | F33: 136088 | G33: 1.4 | H33: -1.4 | I33: 0
A34: 織物用糸・繊維製品 | B34: 직물용 실 및 섬유제품 | F34: 100488 | G34: 1.1 | H34: -0.7 | I34: 0
A35: 非金属鉱物製品 | B35: 비금속 철물제품 | F35: 62317 | G35: 0.7 | H35: 2.7 | I35: 0
A36: 木製品等（除家具） | B36: 목제품 등; 가구 제외 | F36: 68414 | G36: 0.7 | H36: -14.7 | I36: -0.1
A37: 6 一般機械 | B37: 일반 기계 | F37: 1037964 | G37: 11.1 | H37: 12.3 | I37: 1.2
A38: 原動機 | B38: 원동기 | C38: トン(톤) | D38: 28489 | E38: 14.6 | F38: 241606 | G38: 2.6 | H38: 50.6 | I38: 0.9
A39: 電算機類（含周辺機器） | B39: 전산기류, 주변기기 포함 | C39: 千台(천대) | D39: 9050 | E39: 14.3 | F39: 316084 | G39: 3.4 | H39: 9.1 | I39: 0.3
A40: 電算機類の部分品 | B40: 전산기류의 부분품 | C40: トン(톤) | D40: 6682 | E40: -14.6 | F40: 47573 | G40: 0.5 | H40: -11.4 | I40: -0.1
...

Sheet 5
A1: 主要地域（国）別商品別輸出(アメリカ合衆国)
A2: =VLOOKUP(A1,目次!B:C,2,0) -> 주요 지역, 국가별 및 상품별 수출, 미국
A3: （単位：百万円、％）
A4: 단위: 백만엔, %
C5: 単位 | D5: 数量 | E5: 伸率 | F5: 価額 | G5: 構成比 | H5: 伸率 | I5: 増減寄与度
A6: 品名 | B6: =VLOOKUP(A6,'3'!A:B,2,0) -> 품명 | C6: =HLOOKUP(C5,'4'!5:6,2,0) -> 단위 | D6: =HLOOKUP(D5,'4'!5:6,2,0) -> 수량 | E6: =HLOOKUP(E5,'4'!5:6,2,0) -> 변화율 | F6: =HLOOKUP(F5,'4'!5:6,2,0) -> 가액 | G6: =HLOOKUP(G5,'4'!5:6,2,0) -> 구성비 | H6: =HLOOKUP(H5,'4'!5:6,2,0) -> 변화율 | I6: =HLOOKUP(I5,'4'!5:6,2,0) -> 증감 기여도
A7: 総額 | B7: =VLOOKUP(A7,'3'!A:B,2,0) -> 총액 | F7: 1816870 | G7: 100 | H7: 8.8 | I7: 8.8
A8: 1 食料品 | B8: =VLOOKUP(A8,'3'!A:B,2,0) -> 식료품 | F8: 22258 | G8: 1.2 | H8: 20 | I8: 0.2
A9: 2 原料品 | B9: =VLOOKUP(A9,'3'!A:B,2,0) -> 원료품 | F9: 6526 | G9: 0.4 | H9: 3.6 | I9: 0
A10: 3 鉱物性燃料 | B10: =VLOOKUP(A10,'3'!A:B,2,0) -> 광물성 원료 | F10: 12594 | G10: 0.7 | H10: 2588.9 | I10: 0.7
A11: 4 化学製品 | B11: =VLOOKUP(A11,'3'!A:B,2,0) -> 화학제품 | F11: 156951 | G11: 8.6 | H11: 48 | I11: 3
A12: 有機化合物 | B12: =VLOOKUP(A12,'3'!A:B,2,0) -> 유기화합물 | F12: 15305 | G12: 0.8 | H12: 19.3 | I12: 0.1
A13: 医薬品 | B13: =VLOOKUP(A13,'3'!A:B,2,0) -> 의약품 | C13: ＫＧ | D13: 983239 | E13: 76.2 | F13: 65138 | G13: 3.6 | H13: 115.5 | I13: 2.1
A14: プラスチック | B14: =VLOOKUP(A14,'3'!A:B,2,0) -> 플라스틱 | C14: トン(톤) | D14: 27104 | E14: 7.7 | F14: 24468 | G14: 1.3 | H14: 16.9 | I14: 0.2
A15: 5 原料別製品 | B15: =VLOOKUP(A15,'3'!A:B,2,0) -> 원료별 제품 | F15: 105470 | G15: 5.8 | H15: 2.3 | I15: 0.1
A16: 鉄鋼 | B16: =VLOOKUP(A16,'3'!A:B,2,0) -> 철강 | C16: 千トン(톤) | D16: 76 | E16: 0.1 | F16: 18258 | G16: 1 | H16: -20.9 | I16: -0.3
A17: 非鉄金属 | B17: =VLOOKUP(A17,'3'!A:B,2,0) -> 비철금속 | C17: トン(톤) | D17: 6108 | E17: 3.5 | F17: 13743 | G17: 0.8 | H17: -5.6 | I17: 0
A18: 金属製品 | B18: =VLOOKUP(A18,'3'!A:B,2,0) -> 금속제품 | F18: 24121 | G18: 1.3 | H18: 6.5 | I18: 0.1
A19: 織物用糸・繊維製品 | B19: =VLOOKUP(A19,'3'!A:B,2,0) -> 직물용 실 및 섬유제품 | F19: 6387 | G19: 0.4 | H19: 4.9 | I19: 0
A20: 非金属鉱物製品 | B20: =VLOOKUP(A20,'3'!A:B,2,0) -> 비금속 철물제품 | F20: 15204 | G20: 0.8 | H20: 18.1 | I20: 0.1
A21: ゴム製品 | B21: =VLOOKUP(A21,'3'!A:B,2,0) -> 고무제품 | C21: トン(톤) | D21: 26674 | E21: 21.1 | F21: 25113 | G21: 1.4 | H21: 18 | I21: 0.2
A22: 紙類・紙製品 | B22: =VLOOKUP(A22,'3'!A:B,2,0) -> 종이류 및 종이제품 | C22: トン(톤) | D22: 4170 | E22: 8.5 | F22: 2426 | G22: 0.1 | H22: 2 | I22: 0
A23: 6 一般機械 | B23: =VLOOKUP(A23,'3'!A:B,2,0) -> 일반 기계 | F23: 386245 | G23: 21.3 | H23: -1.1 | I23: -0.2
A24: 原動機 | B24: =VLOOKUP(A24,'3'!A:B,2,0) -> 원동기 | C24: トン(톤) | D24: 18006 | E24: -0.1 | F24: 85867 | G24: 4.7 | H24: -6.1 | I24: -0.3
A25: 電算機類（含周辺機器） | B25: =VLOOKUP(A25,'3'!A:B,2,0) -> 전산기류, 주변기기 포함 | C25: 千台(천대) | D25: 81 | E25: 5 | F25: 11117 | G25: 0.6 | H25: -2 | I25: 0
A26: 電算機類の部分品 | B26: =VLOOKUP(A26,'3'!A:B,2,0) -> 전산기류의 부분품 | C26: トン(톤) | D26: 2523 | E26: -4.3 | F26: 22018 | G26: 1.2 | H26: -1.5 | I26: 0
A27: 半導体等製造装置 | B27: =VLOOKUP(A27,'3'!A:B,2,0) -> 반도체 등 제조 장치 | C27: トン(톤) | D27: 827 | E27: -20.9 | F27: 30023 | G27: 1.7 | H27: -28.5 | I27: -0.7
A28: 金属加工機械 | B28: =VLOOKUP(A28,'3'!A:B,2,0) -> 금속 가공 기계 | F28: 22311 | G28: 1.2 | H28: 14.1 | I28: 0.2
A29: ポンプ・遠心分離機 | B29: =VLOOKUP(A29,'3'!A:B,2,0) -> 펌프 및 원심분리기 | F29: 27973 | G29: 1.5 | H29: -6.9 | I29: -0.1
A30: 建設用・鉱山用機械 | B30: =VLOOKUP(A30,'3'!A:B,2,0) -> 건설용 및 광산용 기계 | F30: 72449 | G30: 4 | H30: 12 | I30: 0.5
A31: 荷役機械 | B31: =VLOOKUP(A31,'3'!A:B,2,0) -> 하역 기계 | F31: 22028 | G31: 1.2 | H31: -3.3 | I31: 0
A32: 加熱用・冷却用機器 | B32: =VLOOKUP(A32,'3'!A:B,2,0) -> 가열용 및 냉각용 기기 | F32: 10813 | G32: 0.6 | H32: -18 | I32: -0.1
A33: 繊維機械 | B33: =VLOOKUP(A33,'3'!A:B,2,0) -> 섬유 기계 | F33: 916 | G33: 0.1 | H33: 4.6 | I33: 0
A34: ベアリング | B34: =VLOOKUP(A34,'3'!A:B,2,0) -> 베어링 | C34: トン(톤) | D34: 4849 | E34: 19.8 | F34: 8988 | G34: 0.5 | H34: 22.9 | I34: 0.1
A35: 7 電気機器 | B35: =VLOOKUP(A35,'3'!A:B,2,0) -> 전기 기기 | F35: 225044 | G35: 12.4 | H35: 0.9 | I35: 0.1
A36: 半導体等電子部品 | B36: =VLOOKUP(A36,'3'!A:B,2,0) -> 반도체 등 전자부품 | F36: 16399 | G36: 0.9 | H36: -14.2 | I36: -0.2
A37: （ＩＣ） | B37: =VLOOKUP(A37,'3'!A:B,2,0) -> IC | C37: 百万個(백만개) | D37: 102 | E37: -44.6 | F37: 6865 | G37: 0.4 | H37: -28.1 | I37: -0.2
A38: 音響・映像機器 | B38: =VLOOKUP(A38,'3'!A:B,2,0) -> 음향 및 영상 기기 | C38: 千台(천대) | D38: 386 | E38: -6.2 | F38: 14474 | G38: 0.8 | H38: 6.3 | I38: 0.1
A39: （映像記録・再生機器） | B39: =VLOOKUP(A39,'3'!A:B,2,0) -> 영상 기록 및 재생 기기 | C39: 千台(천대) | D39: 152 | E39: 70.8 | F39: 11589 | G39: 0.6 | H39: 24.6 | I39: 0.1
A40: （テレビ受像機） | B40: =VLOOKUP(A40,'3'!A:B,2,0) -> TV 수상기 | C40: 千台(천대) | D40: 14 | E40: 2.8 | F40: 1025 | G40: 0.1 | H40: -39.8 | I40: 0
...

Sheet 6
A1: 主要地域（国）別商品別輸出(ＥＵ)
A2: =VLOOKUP(A1,目次!B:C,2,0) -> 주요 지역, 국가별 및 상품별 수출, 유럽연합
A3: （単位：百万円、％）
A4: 단위: 백만엔, %
C5: 単位 | D5: 数量 | E5: 伸率 | F5: 価額 | G5: 構成比 | H5: 伸率 | I5: 増減寄与度
A6: 品名 | B6: =VLOOKUP(A6,'3'!A:B,2,0) -> 품명 | C6: =HLOOKUP(C5,'4'!5:6,2,0) -> 단위 | D6: =HLOOKUP(D5,'4'!5:6,2,0) -> 수량 | E6: =HLOOKUP(E5,'4'!5:6,2,0) -> 변화율 | F6: =HLOOKUP(F5,'4'!5:6,2,0) -> 가액 | G6: =HLOOKUP(G5,'4'!5:6,2,0) -> 구성비 | H6: =HLOOKUP(H5,'4'!5:6,2,0) -> 변화율 | I6: =HLOOKUP(I5,'4'!5:6,2,0) -> 증감 기여도
A7: 総額 | B7: =VLOOKUP(A7,'3'!A:B,2,0) -> 총액 | F7: 901251 | G7: 100 | H7: 19.5 | I7: 19.5
A8: 1 食料品 | B8: =VLOOKUP(A8,'3'!A:B,2,0) -> 식료품 | F8: 7564 | G8: 0.8 | H8: 78.2 | I8: 0.4
A9: 2 原料品 | B9: =VLOOKUP(A9,'3'!A:B,2,0) -> 원료품 | F9: 10507 | G9: 1.2 | H9: 36.9 | I9: 0.4
A10: 3 鉱物性燃料 | B10: =VLOOKUP(A10,'3'!A:B,2,0) -> 광물성 원료 | F10: 546 | G10: 0.1 | H10: 193.8 | I10: 0
A11: 4 化学製品 | B11: =VLOOKUP(A11,'3'!A:B,2,0) -> 화학제품 | F11: 91705 | G11: 10.2 | H11: -3.1 | I11: -0.4
A12: 有機化合物 | B12: =VLOOKUP(A12,'3'!A:B,2,0) -> 유기화합물 | F12: 21416 | G12: 2.4 | H12: -15.2 | I12: -0.5
A13: 医薬品 | B13: =VLOOKUP(A13,'3'!A:B,2,0) -> 의약품 | C13: ＫＧ | D13: 367757 | E13: -27.1 | F13: 17501 | G13: 1.9 | H13: 19.7 | I13: 0.4
A14: プラスチック | B14: =VLOOKUP(A14,'3'!A:B,2,0) -> 플라스틱 | C14: トン(톤) | D14: 22977 | E14: 31.1 | F14: 19604 | G14: 2.2 | H14: 23.7 | I14: 0.5
A15: 5 原料別製品 | B15: =VLOOKUP(A15,'3'!A:B,2,0) -> 원료별 제품 | F15: 56213 | G15: 6.2 | H15: 25.2 | I15: 1.5
A16: 鉄鋼 | B16: =VLOOKUP(A16,'3'!A:B,2,0) -> 철강 | C16: 千トン(톤) | D16: 14 | E16: -46.3 | F16: 8913 | G16: 1 | H16: 17.8 | I16: 0.2
A17: 非鉄金属 | B17: =VLOOKUP(A17,'3'!A:B,2,0) -> 비철금속 | C17: トン(톤) | D17: 5203 | E17: 3.9 | F17: 8613 | G17: 1 | H17: 17 | I17: 0.2
A18: 金属製品 | B18: =VLOOKUP(A18,'3'!A:B,2,0) -> 금속제품 | F18: 12047 | G18: 1.3 | H18: 24.3 | I18: 0.3
A19: 織物用糸・繊維製品 | B19: =VLOOKUP(A19,'3'!A:B,2,0) -> 직물용 실 및 섬유제품 | F19: 6110 | G19: 0.7 | H19: 11.9 | I19: 0.1
A20: 非金属鉱物製品 | B20: =VLOOKUP(A20,'3'!A:B,2,0) -> 비금속 철물제품 | F20: 9204 | G20: 1 | H20: 4.5 | I20: 0.1
A21: ゴム製品 | B21: =VLOOKUP(A21,'3'!A:B,2,0) -> 고무제품 | C21: トン(톤) | D21: 7543 | E21: 100.2 | F21: 9617 | G21: 1.1 | H21: 100.6 | I21: 0.6
A22: 紙類・紙製品 | B22: =VLOOKUP(A22,'3'!A:B,2,0) -> 종이류 및 종이제품 | C22: トン(톤) | D22: 1208 | E22: 21.2 | F22: 1644 | G22: 0.2 | H22: 40.8 | I22: 0.1
A23: 6 一般機械 | B23: =VLOOKUP(A23,'3'!A:B,2,0) -> 일반 기계 | F23: 174617 | G23: 19.4 | H23: 29.1 | I23: 5.2
A24: 原動機 | B24: =VLOOKUP(A24,'3'!A:B,2,0) -> 원동기 | C24: トン(톤) | D24: 7497 | E24: 64.9 | F24: 29578 | G24: 3.3 | H24: 70 | I24: 1.6
A25: 電算機類（含周辺機器） | B25: =VLOOKUP(A25,'3'!A:B,2,0) -> 전산기류, 주변기기 포함 | C25: 千台(천대) | D25: 51 | E25: -4.3 | F25: 8468 | G25: 0.9 | H25: 7.2 | I25: 0.1
A26: 電算機類の部分品 | B26: =VLOOKUP(A26,'3'!A:B,2,0) -> 전산기류의 부분품 | C26: トン(톤) | D26: 1753 | E26: -5.9 | F26: 17969 | G26: 2 | H26: 10 | I26: 0.2
A27: 半導体等製造装置 | B27: =VLOOKUP(A27,'3'!A:B,2,0) -> 반도체 등 제조 장치 | C27: トン(톤) | D27: 360 | E27: 42.2 | F27: 9204 | G27: 1 | H27: -0.8 | I27: 0
A28: 金属加工機械 | B28: =VLOOKUP(A28,'3'!A:B,2,0) -> 금속 가공 기계 | F28: 10968 | G28: 1.2 | H28: 60.7 | I28: 0.5
A29: ポンプ・遠心分離機 | B29: =VLOOKUP(A29,'3'!A:B,2,0) -> 펌프 및 원심분리기 | F29: 20849 | G29: 2.3 | H29: 27 | I29: 0.6
A30: 建設用・鉱山用機械 | B30: =VLOOKUP(A30,'3'!A:B,2,0) -> 건설용 및 광산용 기계 | F30: 26232 | G30: 2.9 | H30: 14.2 | I30: 0.4
A31: 荷役機械 | B31: =VLOOKUP(A31,'3'!A:B,2,0) -> 하역 기계 | F31: 5109 | G31: 0.6 | H31: 33 | I31: 0.2
A32: 加熱用・冷却用機器 | B32: =VLOOKUP(A32,'3'!A:B,2,0) -> 가열용 및 냉각용 기기 | F32: 4877 | G32: 0.5 | H32: 27.2 | I32: 0.1
A33: 繊維機械 | B33: =VLOOKUP(A33,'3'!A:B,2,0) -> 섬유 기계 | F33: 1114 | G33: 0.1 | H33: 87.5 | I33: 0.1
A34: ベアリング | B34: =VLOOKUP(A34,'3'!A:B,2,0) -> 베어링 | C34: トン(톤) | D34: 2328 | E34: 13.8 | F34: 5604 | G34: 0.6 | H34: 24.3 | I34: 0.1
A35: 7 電気機器 | B35: =VLOOKUP(A35,'3'!A:B,2,0) -> 전기 기기 | F35: 151555 | G35: 16.8 | H35: 26.3 | I35: 4.2
A36: 半導体等電子部品 | B36: =VLOOKUP(A36,'3'!A:B,2,0) -> 반도체 등 전자부품 | F36: 21233 | G36: 2.4 | H36: 20.7 | I36: 0.5
A37: （ＩＣ） | B37: =VLOOKUP(A37,'3'!A:B,2,0) -> IC | C37: 百万個(백만개) | D37: 43 | E37: 15.4 | F37: 8126 | G37: 0.9 | H37: 56.4 | I37: 0.4
A38: 音響・映像機器 | B38: =VLOOKUP(A38,'3'!A:B,2,0) -> 음향 및 영상 기기 | C38: 千台(천대) | D38: 734 | E38: 19 | F38: 12213 | G38: 1.4 | H38: 56.2 | I38: 0.6
A39: （映像記録・再生機器） | B39: =VLOOKUP(A39,'3'!A:B,2,0) -> 영상 기록 및 재생 기기 | C39: 千台(천대) | D39: 162 | E39: 88.9 | F39: 10865 | G39: 1.2 | H39: 64.4 | I39: 0.6
A40: （テレビ受像機） | B40: =VLOOKUP(A40,'3'!A:B,2,0) -> TV 수상기 | C40: 千台(천대) | D40: 6 | E40: -24.1 | F40: 441 | G40: 0 | H40: -8.5 | I40: 0
...

Sheet 7
A1: 主要地域（国）別商品別輸出(アジア)
A2: =VLOOKUP(A1,目次!B:C,2,0) -> 주요 지역, 국가별 및 상품별 수출, 아시아
A3: （単位：百万円、％）
A4: 단위: 백만엔, %
C5: 単位 | D5: 数量 | E5: 伸率 | F5: 価額 | G5: 構成比 | H5: 伸率 | I5: 増減寄与度
A6: 品名 | B6: =VLOOKUP(A6,'3'!A:B,2,0) -> 품명 | C6: =HLOOKUP(C5,'4'!5:6,2,0) -> 단위 | D6: =HLOOKUP(D5,'4'!5:6,2,0) -> 수량 | E6: =HLOOKUP(E5,'4'!5:6,2,0) -> 변화율 | F6: =HLOOKUP(F5,'4'!5:6,2,0) -> 가액 | G6: =HLOOKUP(G5,'4'!5:6,2,0) -> 구성비 | H6: =HLOOKUP(H5,'4'!5:6,2,0) -> 변화율 | I6: =HLOOKUP(I5,'4'!5:6,2,0) -> 증감 기여도
A7: 総額 | B7: =VLOOKUP(A7,'3'!A:B,2,0) -> 총액 | F7: 5233597 | G7: 100 | H7: 4.4 | I7: 4.4
A8: 1 食料品 | B8: =VLOOKUP(A8,'3'!A:B,2,0) -> 식료품 | F8: 79882 | G8: 1.5 | H8: 2.3 | I8: 0
A9: 2 原料品 | B9: =VLOOKUP(A9,'3'!A:B,2,0) -> 원료품 | F9: 147427 | G9: 2.8 | H9: 16.2 | I9: 0.4
A10: 3 鉱物性燃料 | B10: =VLOOKUP(A10,'3'!A:B,2,0) -> 광물성 원료 | F10: 85918 | G10: 1.6 | H10: -6.6 | I10: -0.1
A11: 4 化学製品 | B11: =VLOOKUP(A11,'3'!A:B,2,0) -> 화학제품 | F11: 712840 | G11: 13.6 | H11: -0.4 | I11: -0.1
A12: 有機化合物 | B12: =VLOOKUP(A12,'3'!A:B,2,0) -> 유기화합물 | F12: 106338 | G12: 2 | H12: -16.6 | I12: -0.4
A13: 医薬品 | B13: =VLOOKUP(A13,'3'!A:B,2,0) -> 의약품 | C13: ＫＧ | D13: 3781270 | E13: -11.4 | F13: 42112 | G13: 0.8 | H13: 10.3 | I13: 0.1
A14: プラスチック | B14: =VLOOKUP(A14,'3'!A:B,2,0) -> 플라스틱 | C14: トン(톤) | D14: 362212 | E14: -4.6 | F14: 227404 | G14: 4.3 | H14: -0.1 | I14: 0
A15: 5 原料別製品 | B15: =VLOOKUP(A15,'3'!A:B,2,0) -> 원료별 제품 | F15: 662792 | G15: 12.7 | H15: 0.3 | I15: 0
A16: 鉄鋼 | B16: =VLOOKUP(A16,'3'!A:B,2,0) -> 철강 | C16: 千トン(톤) | D16: 1662 | E16: -7.4 | F16: 205871 | G16: 3.9 | H16: -11.2 | I16: -0.5
A17: 非鉄金属 | B17: =VLOOKUP(A17,'3'!A:B,2,0) -> 비철금속 | C17: トン(톤) | D17: 95543 | E17: -11.2 | F17: 213718 | G17: 4.1 | H17: 14.3 | I17: 0.5
A18: 金属製品 | B18: =VLOOKUP(A18,'3'!A:B,2,0) -> 금속제품 | F18: 69609 | G18: 1.3 | H18: 1.1 | I18: 0
A19: 織物用糸・繊維製品 | B19: =VLOOKUP(A19,'3'!A:B,2,0) -> 직물용 실 및 섬유제품 | F19: 52361 | G19: 1 | H19: -2.6 | I19: 0
A20: 非金属鉱物製品 | B20: =VLOOKUP(A20,'3'!A:B,2,0) -> 비금속 철물제품 | F20: 68699 | G20: 1.3 | H20: 8.6 | I20: 0.1
A21: ゴム製品 | B21: =VLOOKUP(A21,'3'!A:B,2,0) -> 고무제품 | C21: トン(톤) | D21: 22190 | E21: -16.5 | F21: 26531 | G21: 0.5 | H21: -10.8 | I21: -0.1
A22: 紙類・紙製品 | B22: =VLOOKUP(A22,'3'!A:B,2,0) -> 종이류 및 종이제품 | C22: トン(톤) | D22: 162869 | E22: 7.9 | F22: 23939 | G22: 0.5 | H22: -0.5 | I22: 0
A23: 6 一般機械 | B23: =VLOOKUP(A23,'3'!A:B,2,0) -> 일반 기계 | F23: 892372 | G23: 17.1 | H23: 2.8 | I23: 0.5
A24: 原動機 | B24: =VLOOKUP(A24,'3'!A:B,2,0) -> 원동기 | C24: トン(톤) | D24: 39147 | E24: 5.9 | F24: 85828 | G24: 1.6 | H24: 15.6 | I24: 0.2
A25: 電算機類（含周辺機器） | B25: =VLOOKUP(A25,'3'!A:B,2,0) -> 전산기류, 주변기기 포함 | C25: 千台(천대) | D25: 417 | E25: 45.6 | F25: 8227 | G25: 0.2 | H25: 6.1 | I25: 0
A26: 電算機類の部分品 | B26: =VLOOKUP(A26,'3'!A:B,2,0) -> 전산기류의 부분품 | C26: トン(톤) | D26: 3691 | E26: -13.4 | F26: 45773 | G26: 0.9 | H26: 0.3 | I26: 0
A27: 半導体等製造装置 | B27: =VLOOKUP(A27,'3'!A:B,2,0) -> 반도체 등 제조 장치 | C27: トン(톤) | D27: 10451 | E27: 2.2 | F27: 338407 | G27: 6.5 | H27: 5.1 | I27: 0.3
A28: 金属加工機械 | B28: =VLOOKUP(A28,'3'!A:B,2,0) -> 금속 가공 기계 | F28: 52798 | G28: 1 | H28: 2.5 | I28: 0
A29: ポンプ・遠心分離機 | B29: =VLOOKUP(A29,'3'!A:B,2,0) -> 펌프 및 원심분리기 | F29: 66853 | G29: 1.3 | H29: -6 | I29: -0.1
A30: 建設用・鉱山用機械 | B30: =VLOOKUP(A30,'3'!A:B,2,0) -> 건설용 및 광산용 기계 | F30: 18505 | G30: 0.4 | H30: -18.4 | I30: -0.1
A31: 荷役機械 | B31: =VLOOKUP(A31,'3'!A:B,2,0) -> 하역 기계 | F31: 24597 | G31: 0.5 | H31: -11.2 | I31: -0.1
A32: 加熱用・冷却用機器 | B32: =VLOOKUP(A32,'3'!A:B,2,0) -> 가열용 및 냉각용 기기 | F32: 17396 | G32: 0.3 | H32: 1.1 | I32: 0
A33: 繊維機械 | B33: =VLOOKUP(A33,'3'!A:B,2,0) -> 섬유 기계 | F33: 22660 | G33: 0.4 | H33: 16.2 | I33: 0.1
A34: ベアリング | B34: =VLOOKUP(A34,'3'!A:B,2,0) -> 베어링 | C34: トン(톤) | D34: 10022 | E34: -5.8 | F34: 23446 | G34: 0.4 | H34: -0.1 | I34: 0
A35: 7 電気機器 | B35: =VLOOKUP(A35,'3'!A:B,2,0) -> 전기 기기 | F35: 1123731 | G35: 21.5 | H35: 6.8 | I35: 1.4
A36: 半導体等電子部品 | B36: =VLOOKUP(A36,'3'!A:B,2,0) -> 반도체 등 전자부품 | F36: 533358 | G36: 10.2 | H36: 14.1 | I36: 1.3
A37: （ＩＣ） | B37: =VLOOKUP(A37,'3'!A:B,2,0) -> IC | C37: 百万個(백만개) | D37: 5909 | E37: -4 | F37: 409877 | G37: 7.8 | H37: 12.7 | I37: 0.9
A38: 音響・映像機器 | B38: =VLOOKUP(A38,'3'!A:B,2,0) -> 음향 및 영상 기기 | C38: 千台(천대) | D38: 9974 | E38: 7.7 | F38: 32465 | G38: 0.6 | H38: -4.8 | I38: 0
A39: （映像記録・再生機器） | B39: =VLOOKUP(A39,'3'!A:B,2,0) -> 영상 기록 및 재생 기기 | C39: 千台(천대) | D39: 285 | E39: 18.8 | F39: 16847 | G39: 0.3 | H39: 6.6 | I39: 0
A40: （テレビ受像機） | B40: =VLOOKUP(A40,'3'!A:B,2,0) -> TV 수상기 | C40: 千台(천대) | D40: 102 | E40: -20 | F40: 955 | G40: 0 | H40: -10.6 | I40: 0
...

Sheet 8
A1: 主要地域（国）別商品別輸出(中華人民共和国)
A2: =VLOOKUP(A1,目次!B:C,2,0) -> 주요 지역, 국가별 및 상품별 수출, 중국
A3: （単位：百万円、％）
A4: 단위: 백만엔, %
C5: 単位 | D5: 数量 | E5: 伸率 | F5: 価額 | G5: 構成比 | H5: 伸率 | I5: 増減寄与度
A6: 品名 | B6: =VLOOKUP(A6,'3'!A:B,2,0) -> 품명 | C6: =HLOOKUP(C5,'4'!5:6,2,0) -> 단위 | D6: =HLOOKUP(D5,'4'!5:6,2,0) -> 수량 | E6: =HLOOKUP(E5,'4'!5:6,2,0) -> 변화율 | F6: =HLOOKUP(F5,'4'!5:6,2,0) -> 가액 | G6: =HLOOKUP(G5,'4'!5:6,2,0) -> 구성비 | H6: =HLOOKUP(H5,'4'!5:6,2,0) -> 변화율 | I6: =HLOOKUP(I5,'4'!5:6,2,0) -> 증감 기여도
A7: 総額 | B7: =VLOOKUP(A7,'3'!A:B,2,0) -> 총액 | F7: 1619924 | G7: 100 | H7: -2.5 | I7: -2.5
A8: 1 食料品 | B8: =VLOOKUP(A8,'3'!A:B,2,0) -> 식료품 | F8: 10448 | G8: 0.6 | H8: -5.9 | I8: 0
A9: 2 原料品 | B9: =VLOOKUP(A9,'3'!A:B,2,0) -> 원료품 | F9: 72428 | G9: 4.5 | H9: 27.7 | I9: 0.9
A10: 3 鉱物性燃料 | B10: =VLOOKUP(A10,'3'!A:B,2,0) -> 광물성 원료 | F10: 23953 | G10: 1.5 | H10: 0.7 | I10: 0
A11: 4 化学製品 | B11: =VLOOKUP(A11,'3'!A:B,2,0) -> 화학제품 | F11: 297214 | G11: 18.3 | H11: -1 | I11: -0.2
A12: 有機化合物 | B12: =VLOOKUP(A12,'3'!A:B,2,0) -> 유기화합물 | F12: 48722 | G12: 3 | H12: -23.6 | I12: -0.9
A13: 医薬品 | B13: =VLOOKUP(A13,'3'!A:B,2,0) -> 의약품 | C13: ＫＧ | D13: 1178355 | E13: -20.5 | F13: 22664 | G13: 1.4 | H13: 2.1 | I13: 0
A14: プラスチック | B14: =VLOOKUP(A14,'3'!A:B,2,0) -> 플라스틱 | C14: トン(톤) | D14: 158759 | E14: -3.1 | F14: 113528 | G14: 7 | H14: 4.4 | I14: 0.3
A15: 5 原料別製品 | B15: =VLOOKUP(A15,'3'!A:B,2,0) -> 원료별 제품 | F15: 168408 | G15: 10.4 | H15: -13.9 | I15: -1.6
A16: 鉄鋼 | B16: =VLOOKUP(A16,'3'!A:B,2,0) -> 철강 | C16: 千トン(톤) | D16: 185 | E16: -1.4 | F16: 37783 | G16: 2.3 | H16: -7.6 | I16: -0.2
A17: 非鉄金属 | B17: =VLOOKUP(A17,'3'!A:B,2,0) -> 비철금속 | C17: トン(톤) | D17: 26738 | E17: -32.1 | F17: 55173 | G17: 3.4 | H17: -26.8 | I17: -1.2
A18: 金属製品 | B18: =VLOOKUP(A18,'3'!A:B,2,0) -> 금속제품 | F18: 22345 | G18: 1.4 | H18: -10.1 | I18: -0.2
A19: 織物用糸・繊維製品 | B19: =VLOOKUP(A19,'3'!A:B,2,0) -> 직물용 실 및 섬유제품 | F19: 18768 | G19: 1.2 | H19: -8.2 | I19: -0.1
A20: 非金属鉱物製品 | B20: =VLOOKUP(A20,'3'!A:B,2,0) -> 비금속 철물제품 | F20: 20735 | G20: 1.3 | H20: 10.2 | I20: 0.1
A21: ゴム製品 | B21: =VLOOKUP(A21,'3'!A:B,2,0) -> 고무제품 | C21: トン(톤) | D21: 3324 | E21: -31 | F21: 6443 | G21: 0.4 | H21: -21.2 | I21: -0.1
A22: 紙類・紙製品 | B22: =VLOOKUP(A22,'3'!A:B,2,0) -> 종이류 및 종이제품 | C22: トン(톤) | D22: 55923 | E22: 31.4 | F22: 6776 | G22: 0.4 | H22: 2.8 | I22: 0
A23: 6 一般機械 | B23: =VLOOKUP(A23,'3'!A:B,2,0) -> 일반 기계 | F23: 354538 | G23: 21.9 | H23: -6.6 | I23: -1.5
A24: 原動機 | B24: =VLOOKUP(A24,'3'!A:B,2,0) -> 원동기 | C24: トン(톤) | D24: 13840 | E24: 19.1 | F24: 35541 | G24: 2.2 | H24: 15.8 | I24: 0.3
A25: 電算機類（含周辺機器） | B25: =VLOOKUP(A25,'3'!A:B,2,0) -> 전산기류, 주변기기 포함 | C25: 千台(천대) | D25: 31 | E25: -31.9 | F25: 1849 | G25: 0.1 | H25: -4.8 | I25: 0
A26: 電算機類の部分品 | B26: =VLOOKUP(A26,'3'!A:B,2,0) -> 전산기류의 부분품 | C26: トン(톤) | D26: 1172 | E26: -24.1 | F26: 16063 | G26: 1 | H26: 6.2 | I26: 0.1
A27: 半導体等製造装置 | B27: =VLOOKUP(A27,'3'!A:B,2,0) -> 반도체 등 제조 장치 | C27: トン(톤) | D27: 4959 | E27: -4.2 | F27: 139874 | G27: 8.6 | H27: -14.8 | I27: -1.5
A28: 金属加工機械 | B28: =VLOOKUP(A28,'3'!A:B,2,0) -> 금속 가공 기계 | F28: 25793 | G28: 1.6 | H28: 6 | I28: 0.1
A29: ポンプ・遠心分離機 | B29: =VLOOKUP(A29,'3'!A:B,2,0) -> 펌프 및 원심분리기 | F29: 24558 | G29: 1.5 | H29: -9 | I29: -0.1
A30: 建設用・鉱山用機械 | B30: =VLOOKUP(A30,'3'!A:B,2,0) -> 건설용 및 광산용 기계 | F30: 1417 | G30: 0.1 | H30: 51.2 | I30: 0
A31: 荷役機械 | B31: =VLOOKUP(A31,'3'!A:B,2,0) -> 하역 기계 | F31: 4088 | G31: 0.3 | H31: -12.4 | I31: 0
A32: 加熱用・冷却用機器 | B32: =VLOOKUP(A32,'3'!A:B,2,0) -> 가열용 및 냉각용 기기 | F32: 5261 | G32: 0.3 | H32: -9.4 | I32: 0
A33: 繊維機械 | B33: =VLOOKUP(A33,'3'!A:B,2,0) -> 섬유 기계 | F33: 13831 | G33: 0.9 | H33: 14.3 | I33: 0.1
A34: ベアリング | B34: =VLOOKUP(A34,'3'!A:B,2,0) -> 베어링 | C34: トン(톤) | D34: 3752 | E34: -0.8 | F34: 10034 | G34: 0.6 | H34: 7.5 | I34: 0
A35: 7 電気機器 | B35: =VLOOKUP(A35,'3'!A:B,2,0) -> 전기 기기 | F35: 345815 | G35: 21.3 | H35: 1.7 | I35: 0.3
A36: 半導体等電子部品 | B36: =VLOOKUP(A36,'3'!A:B,2,0) -> 반도체 등 전자부품 | F36: 131742 | G36: 8.1 | H36: 22.8 | I36: 1.5
A37: （ＩＣ） | B37: =VLOOKUP(A37,'3'!A:B,2,0) -> IC | C37: 百万個(백만개) | D37: 2484 | E37: 5.3 | F37: 92265 | G37: 5.7 | H37: 21.1 | I37: 1
A38: 音響・映像機器 | B38: =VLOOKUP(A38,'3'!A:B,2,0) -> 음향 및 영상 기기 | C38: 千台(천대) | D38: 5480 | E38: -1.5 | F38: 17576 | G38: 1.1 | H38: -14.5 | I38: -0.2
A39: （映像記録・再生機器） | B39: =VLOOKUP(A39,'3'!A:B,2,0) -> 영상 기록 및 재생 기기 | C39: 千台(천대) | D39: 109 | E39: 29.4 | F39: 7403 | G39: 0.5 | H39: -11 | I39: -0.1
A40: （テレビ受像機） | B40: =VLOOKUP(A40,'3'!A:B,2,0) -> TV 수상기 | C40: 千台(천대) | D40: 24 | E40: 56.8 | F40: 571 | G40: 0 | H40: 13.1 | I40: 0
...

Sheet 9
A1: 主要地域（国）別商品別輸出(大韓民国)
A2: =VLOOKUP(A1,目次!B:C,2,0) -> 주요 지역, 국가별 및 상품별 수출, 대한민국
A3: （単位：百万円、％）
A4: 단위: 백만엔, %
C5: 単位 | D5: 数量 | E5: 伸率 | F5: 価額 | G5: 構成比 | H5: 伸率 | I5: 増減寄与度
A6: 品名 | B6: =VLOOKUP(A6,'3'!A:B,2,0) -> 품명 | C6: =HLOOKUP(C5,'4'!5:6,2,0) -> 단위 | D6: =HLOOKUP(D5,'4'!5:6,2,0) -> 수량 | E6: =HLOOKUP(E5,'4'!5:6,2,0) -> 변화율 | F6: =HLOOKUP(F5,'4'!5:6,2,0) -> 가액 | G6: =HLOOKUP(G5,'4'!5:6,2,0) -> 구성비 | H6: =HLOOKUP(H5,'4'!5:6,2,0) -> 변화율 | I6: =HLOOKUP(I5,'4'!5:6,2,0) -> 증감 기여도
A7: 総額 | B7: =VLOOKUP(A7,'3'!A:B,2,0) -> 총액 | F7: 585351 | G7: 100 | H7: -1.7 | I7: -1.7
A8: 1 食料品 | B8: =VLOOKUP(A8,'3'!A:B,2,0) -> 식료품 | F8: 10016 | G8: 1.7 | H8: 23.2 | I8: 0.3
A9: 2 原料品 | B9: =VLOOKUP(A9,'3'!A:B,2,0) -> 원료품 | F9: 15146 | G9: 2.6 | H9: 1.5 | I9: 0
A10: 3 鉱物性燃料 | B10: =VLOOKUP(A10,'3'!A:B,2,0) -> 광물성 원료 | F10: 27471 | G10: 4.7 | H10: -10.7 | I10: -0.6
A11: 4 化学製品 | B11: =VLOOKUP(A11,'3'!A:B,2,0) -> 화학제품 | F11: 108656 | G11: 18.6 | H11: 4.3 | I11: 0.8
A12: 有機化合物 | B12: =VLOOKUP(A12,'3'!A:B,2,0) -> 유기화합물 | F12: 24862 | G12: 4.2 | H12: 14.4 | I12: 0.5
A13: 医薬品 | B13: =VLOOKUP(A13,'3'!A:B,2,0) -> 의약품 | C13: ＫＧ | D13: 1068420 | E13: -22 | F13: 5507 | G13: 0.9 | H13: 9.1 | I13: 0.1
A14: プラスチック | B14: =VLOOKUP(A14,'3'!A:B,2,0) -> 플라스틱 | C14: トン(톤) | D14: 16756 | E14: 3.8 | F14: 26624 | G14: 4.5 | H14: -11.1 | I14: -0.6
A15: 5 原料別製品 | B15: =VLOOKUP(A15,'3'!A:B,2,0) -> 원료별 제품 | F15: 84466 | G15: 14.4 | H15: 0.9 | I15: 0.1
A16: 鉄鋼 | B16: =VLOOKUP(A16,'3'!A:B,2,0) -> 철강 | C16: 千トン(톤) | D16: 352 | E16: -16.2 | F16: 36571 | G16: 6.2 | H16: -11.6 | I16: -0.8
A17: 非鉄金属 | B17: =VLOOKUP(A17,'3'!A:B,2,0) -> 비철금속 | C17: トン(톤) | D17: 5274 | E17: -5 | F17: 22027 | G17: 3.8 | H17: 40.8 | I17: 1.1
A18: 金属製品 | B18: =VLOOKUP(A18,'3'!A:B,2,0) -> 금속제품 | F18: 6544 | G18: 1.1 | H18: -1.8 | I18: 0
A19: 織物用糸・繊維製品 | B19: =VLOOKUP(A19,'3'!A:B,2,0) -> 직물용 실 및 섬유제품 | F19: 4948 | G19: 0.8 | H19: 5.4 | I19: 0
A20: 非金属鉱物製品 | B20: =VLOOKUP(A20,'3'!A:B,2,0) -> 비금속 철물제품 | F20: 9334 | G20: 1.6 | H20: -8 | I20: -0.1
A21: ゴム製品 | B21: =VLOOKUP(A21,'3'!A:B,2,0) -> 고무제품 | C21: トン(톤) | D21: 1127 | E21: -35.4 | F21: 1375 | G21: 0.2 | H21: -20.8 | I21: -0.1
A22: 紙類・紙製品 | B22: =VLOOKUP(A22,'3'!A:B,2,0) -> 종이류 및 종이제품 | C22: トン(톤) | D22: 20109 | E22: 1.5 | F22: 3625 | G22: 0.6 | H22: 5.4 | I22: 0
A23: 6 一般機械 | B23: =VLOOKUP(A23,'3'!A:B,2,0) -> 일반 기계 | F23: 112109 | G23: 19.2 | H23: 5.9 | I23: 1
A24: 原動機 | B24: =VLOOKUP(A24,'3'!A:B,2,0) -> 원동기 | C24: トン(톤) | D24: 1683 | E24: -3.2 | F24: 6986 | G24: 1.2 | H24: 34.9 | I24: 0.3
A25: 電算機類（含周辺機器） | B25: =VLOOKUP(A25,'3'!A:B,2,0) -> 전산기류, 주변기기 포함 | C25: 千台(천대) | D25: 6 | E25: -8 | F25: 1057 | G25: 0.2 | H25: 23.5 | I25: 0
A26: 電算機類の部分品 | B26: =VLOOKUP(A26,'3'!A:B,2,0) -> 전산기류의 부분품 | C26: トン(톤) | D26: 188 | E26: -18.4 | F26: 1958 | G26: 0.3 | H26: 4.6 | I26: 0
A27: 半導体等製造装置 | B27: =VLOOKUP(A27,'3'!A:B,2,0) -> 반도체 등 제조 장치 | C27: トン(톤) | D27: 1639 | E27: -6.1 | F27: 61766 | G27: 10.6 | H27: 11 | I27: 1
A28: 金属加工機械 | B28: =VLOOKUP(A28,'3'!A:B,2,0) -> 금속 가공 기계 | F28: 4584 | G28: 0.8 | H28: -13.7 | I28: -0.1
A29: ポンプ・遠心分離機 | B29: =VLOOKUP(A29,'3'!A:B,2,0) -> 펌프 및 원심분리기 | F29: 9718 | G29: 1.7 | H29: 1.5 | I29: 0
A30: 建設用・鉱山用機械 | B30: =VLOOKUP(A30,'3'!A:B,2,0) -> 건설용 및 광산용 기계 | F30: 892 | G30: 0.2 | H30: 55.4 | I30: 0.1
A31: 荷役機械 | B31: =VLOOKUP(A31,'3'!A:B,2,0) -> 하역 기계 | F31: 2315 | G31: 0.4 | H31: -20.3 | I31: -0.1
A32: 加熱用・冷却用機器 | B32: =VLOOKUP(A32,'3'!A:B,2,0) -> 가열용 및 냉각용 기기 | F32: 1764 | G32: 0.3 | H32: -2.5 | I32: 0
A33: 繊維機械 | B33: =VLOOKUP(A33,'3'!A:B,2,0) -> 섬유 기계 | F33: 215 | G33: 0 | H33: 27 | I33: 0
A34: ベアリング | B34: =VLOOKUP(A34,'3'!A:B,2,0) -> 베어링 | C34: トン(톤) | D34: 1116 | E34: -13.6 | F34: 2586 | G34: 0.4 | H34: -13.6 | I34: -0.1
A35: 7 電気機器 | B35: =VLOOKUP(A35,'3'!A:B,2,0) -> 전기 기기 | F35: 113944 | G35: 19.5 | H35: -4.8 | I35: -1
A36: 半導体等電子部品 | B36: =VLOOKUP(A36,'3'!A:B,2,0) -> 반도체 등 전자부품 | F36: 56741 | G36: 9.7 | H36: -1.2 | I36: -0.1
A37: （ＩＣ） | B37: =VLOOKUP(A37,'3'!A:B,2,0) -> IC | C37: 百万個(백만개) | D37: 328 | E37: 7.9 | F37: 51004 | G37: 8.7 | H37: 1.2 | I37: 0.1
A38: 音響・映像機器 | B38: =VLOOKUP(A38,'3'!A:B,2,0) -> 음향 및 영상 기기 | C38: 千台(천대) | D38: 12 | E38: -41.2 | F38: 1328 | G38: 0.2 | H38: 9 | I38: 0
A39: （映像記録・再生機器） | B39: =VLOOKUP(A39,'3'!A:B,2,0) -> 영상 기록 및 재생 기기 | C39: 千台(천대) | D39: 8 | E39: 32.4 | F39: 1149 | G39: 0.2 | H39: 19.1 | I39: 0
A40: （テレビ受像機） | B40: =VLOOKUP(A40,'3'!A:B,2,0) -> TV 수상기 | C40: 千台(천대) | D40: 0 | E40: 7.7 | F40: 41 | G40: 0 | H40: -30.3 | I40: 0
...

Sheet 10
A1: 主要地域（国）別商品別輸出(ＡＳＥＡＮ)
A2: =VLOOKUP(A1,目次!B:C,2,0) -> 주요 지역, 국가별 및 상품별 수출, 아세안
A3: （単位：百万円、％）
A4: 단위: 백만엔, %
C5: 単位 | D5: 数量 | E5: 伸率 | F5: 価額 | G5: 構成比 | H5: 伸率 | I5: 増減寄与度
A6: 品名 | B6: =VLOOKUP(A6,'3'!A:B,2,0) -> 품명 | C6: =HLOOKUP(C5,'4'!5:6,2,0) -> 단위 | D6: =HLOOKUP(D5,'4'!5:6,2,0) -> 수량 | E6: =HLOOKUP(E5,'4'!5:6,2,0) -> 변화율 | F6: =HLOOKUP(F5,'4'!5:6,2,0) -> 가액 | G6: =HLOOKUP(G5,'4'!5:6,2,0) -> 구성비 | H6: =HLOOKUP(H5,'4'!5:6,2,0) -> 변화율 | I6: =HLOOKUP(I5,'4'!5:6,2,0) -> 증감 기여도
A7: 総額 | B7: =VLOOKUP(A7,'3'!A:B,2,0) -> 총액 | F7: 1406357 | G7: 100 | H7: 4.5 | I7: 4.5
A8: 1 食料品 | B8: =VLOOKUP(A8,'3'!A:B,2,0) -> 식료품 | F8: 24607 | G8: 1.7 | H8: 11.7 | I8: 0.2
A9: 2 原料品 | B9: =VLOOKUP(A9,'3'!A:B,2,0) -> 원료품 | F9: 42554 | G9: 3 | H9: 10.5 | I9: 0.3
A10: 3 鉱物性燃料 | B10: =VLOOKUP(A10,'3'!A:B,2,0) -> 광물성 원료 | F10: 20500 | G10: 1.5 | H10: -35 | I10: -0.8
A11: 4 化学製品 | B11: =VLOOKUP(A11,'3'!A:B,2,0) -> 화학제품 | F11: 129938 | G11: 9.2 | H11: 5.1 | I11: 0.5
A12: 有機化合物 | B12: =VLOOKUP(A12,'3'!A:B,2,0) -> 유기화합물 | F12: 14237 | G12: 1 | H12: -8 | I12: -0.1
A13: 医薬品 | B13: =VLOOKUP(A13,'3'!A:B,2,0) -> 의약품 | C13: ＫＧ | D13: 376832 | E13: 37.2 | F13: 5118 | G13: 0.4 | H13: 22.7 | I13: 0.1
A14: プラスチック | B14: =VLOOKUP(A14,'3'!A:B,2,0) -> 플라스틱 | C14: トン(톤) | D14: 106358 | E14: -7 | F14: 42344 | G14: 3 | H14: -2.2 | I14: -0.1
A15: 5 原料別製品 | B15: =VLOOKUP(A15,'3'!A:B,2,0) -> 원료별 제품 | F15: 243791 | G15: 17.3 | H15: -0.2 | I15: 0
A16: 鉄鋼 | B16: =VLOOKUP(A16,'3'!A:B,2,0) -> 철강 | C16: 千トン(톤) | D16: 762 | E16: -13.3 | F16: 90779 | G16: 6.5 | H16: -18.3 | I16: -1.5
A17: 非鉄金属 | B17: =VLOOKUP(A17,'3'!A:B,2,0) -> 비철금속 | C17: トン(톤) | D17: 33033 | E17: 8 | F17: 67262 | G17: 4.8 | H17: 38.5 | I17: 1.4
A18: 金属製品 | B18: =VLOOKUP(A18,'3'!A:B,2,0) -> 금속제품 | F18: 24963 | G18: 1.8 | H18: 1.3 | I18: 0
A19: 織物用糸・繊維製品 | B19: =VLOOKUP(A19,'3'!A:B,2,0) -> 직물용 실 및 섬유제품 | F19: 21830 | G19: 1.6 | H19: 1.4 | I19: 0
A20: 非金属鉱物製品 | B20: =VLOOKUP(A20,'3'!A:B,2,0) -> 비금속 철물제품 | F20: 15200 | G20: 1.1 | H20: 11 | I20: 0.1
A21: ゴム製品 | B21: =VLOOKUP(A21,'3'!A:B,2,0) -> 고무제품 | C21: トン(톤) | D21: 13332 | E21: -13.4 | F21: 13933 | G21: 1 | H21: -5.6 | I21: -0.1
A22: 紙類・紙製品 | B22: =VLOOKUP(A22,'3'!A:B,2,0) -> 종이류 및 종이제품 | C22: トン(톤) | D22: 54499 | E22: -2.9 | F22: 8445 | G22: 0.6 | H22: -3.5 | I22: 0
A23: 6 一般機械 | B23: =VLOOKUP(A23,'3'!A:B,2,0) -> 일반 기계 | F23: 228499 | G23: 16.2 | H23: 10.7 | I23: 1.6
A24: 原動機 | B24: =VLOOKUP(A24,'3'!A:B,2,0) -> 원동기 | C24: トン(톤) | D24: 18530 | E24: -1.7 | F24: 32371 | G24: 2.3 | H24: 6.6 | I24: 0.2
A25: 電算機類（含周辺機器） | B25: =VLOOKUP(A25,'3'!A:B,2,0) -> 전산기류, 주변기기 포함 | C25: 千台(천대) | D25: 300 | E25: 61.4 | F25: 3372 | G25: 0.2 | H25: 24 | I25: 0
A26: 電算機類の部分品 | B26: =VLOOKUP(A26,'3'!A:B,2,0) -> 전산기류의 부분품 | C26: トン(톤) | D26: 1922 | E26: -6.2 | F26: 21834 | G26: 1.6 | H26: 2.2 | I26: 0
A27: 半導体等製造装置 | B27: =VLOOKUP(A27,'3'!A:B,2,0) -> 반도체 등 제조 장치 | C27: トン(톤) | D27: 911 | E27: 82.3 | F27: 39454 | G27: 2.8 | H27: 86.2 | I27: 1.4
A28: 金属加工機械 | B28: =VLOOKUP(A28,'3'!A:B,2,0) -> 금속 가공 기계 | F28: 11114 | G28: 0.8 | H28: 11.3 | I28: 0.1
A29: ポンプ・遠心分離機 | B29: =VLOOKUP(A29,'3'!A:B,2,0) -> 펌프 및 원심분리기 | F29: 19436 | G29: 1.4 | H29: -10.7 | I29: -0.2
A30: 建設用・鉱山用機械 | B30: =VLOOKUP(A30,'3'!A:B,2,0) -> 건설용 및 광산용 기계 | F30: 10979 | G30: 0.8 | H30: -27.4 | I30: -0.3
A31: 荷役機械 | B31: =VLOOKUP(A31,'3'!A:B,2,0) -> 하역 기계 | F31: 13648 | G31: 1 | H31: -12.3 | I31: -0.1
A32: 加熱用・冷却用機器 | B32: =VLOOKUP(A32,'3'!A:B,2,0) -> 가열용 및 냉각용 기기 | F32: 5325 | G32: 0.4 | H32: 9.6 | I32: 0
A33: 繊維機械 | B33: =VLOOKUP(A33,'3'!A:B,2,0) -> 섬유 기계 | F33: 4050 | G33: 0.3 | H33: 49.2 | I33: 0.1
A34: ベアリング | B34: =VLOOKUP(A34,'3'!A:B,2,0) -> 베어링 | C34: トン(톤) | D34: 3745 | E34: -1.8 | F34: 7149 | G34: 0.5 | H34: -0.8 | I34: 0
A35: 7 電気機器 | B35: =VLOOKUP(A35,'3'!A:B,2,0) -> 전기 기기 | F35: 300267 | G35: 21.4 | H35: 8.5 | I35: 1.8
A36: 半導体等電子部品 | B36: =VLOOKUP(A36,'3'!A:B,2,0) -> 반도체 등 전자부품 | F36: 128088 | G36: 9.1 | H36: 5.9 | I36: 0.5
A37: （ＩＣ） | B37: =VLOOKUP(A37,'3'!A:B,2,0) -> IC | C37: 百万個(백만개) | D37: 1509 | E37: -23.6 | F37: 91055 | G37: 6.5 | H37: 1 | I37: 0.1
A38: 音響・映像機器 | B38: =VLOOKUP(A38,'3'!A:B,2,0) -> 음향 및 영상 기기 | C38: 千台(천대) | D38: 3720 | E38: 36.8 | F38: 7732 | G38: 0.5 | H38: -3.9 | I38: 0
A39: （映像記録・再生機器） | B39: =VLOOKUP(A39,'3'!A:B,2,0) -> 영상 기록 및 재생 기기 | C39: 千台(천대) | D39: 116 | E39: 28.1 | F39: 5001 | G39: 0.4 | H39: 17.2 | I39: 0.1
A40: （テレビ受像機） | B40: =VLOOKUP(A40,'3'!A:B,2,0) -> TV 수상기 | C40: 千台(천대) | D40: 17 | E40: 12.2 | F40: 171 | G40: 0 | H40: -21.7 | I40: 0
...

Sheet 11
A1: 主要地域（国）別商品別輸出(中東)
A2: =VLOOKUP(A1,目次!B:C,2,0) -> 주요 지역, 국가별 및 상품별 수출, 중동
A3: （単位：百万円、％）
A4: 단위: 백만엔, %
C5: 単位 | D5: 数量 | E5: 伸率 | F5: 価額 | G5: 構成比 | H5: 伸率 | I5: 増減寄与度
A6: 品名 | B6: =VLOOKUP(A6,'3'!A:B,2,0) -> 품명 | C6: =HLOOKUP(C5,'4'!5:6,2,0) -> 단위 | D6: =HLOOKUP(D5,'4'!5:6,2,0) -> 수량 | E6: =HLOOKUP(E5,'4'!5:6,2,0) -> 변화율 | F6: =HLOOKUP(F5,'4'!5:6,2,0) -> 가액 | G6: =HLOOKUP(G5,'4'!5:6,2,0) -> 구성비 | H6: =HLOOKUP(H5,'4'!5:6,2,0) -> 변화율 | I6: =HLOOKUP(I5,'4'!5:6,2,0) -> 증감 기여도
A7: 総額 | B7: =VLOOKUP(A7,'3'!A:B,2,0) -> 총액 | F7: 463524 | G7: 100 | H7: -1.6 | I7: -1.6
A8: 1 食料品 | B8: =VLOOKUP(A8,'3'!A:B,2,0) -> 식료품 | F8: 1982 | G8: 0.4 | H8: 41.6 | I8: 0.1
A9: 2 原料品 | B9: =VLOOKUP(A9,'3'!A:B,2,0) -> 원료품 | F9: 1167 | G9: 0.3 | H9: -37 | I9: -0.1
A10: 3 鉱物性燃料 | B10: =VLOOKUP(A10,'3'!A:B,2,0) -> 광물성 원료 | F10: 436 | G10: 0.1 | H10: 13.6 | I10: 0
A11: 4 化学製品 | B11: =VLOOKUP(A11,'3'!A:B,2,0) -> 화학제품 | F11: 7277 | G11: 1.6 | H11: 14.8 | I11: 0.2
A12: 有機化合物 | B12: =VLOOKUP(A12,'3'!A:B,2,0) -> 유기화합물 | F12: 728 | G12: 0.2 | H12: 12.9 | I12: 0
A13: 医薬品 | B13: =VLOOKUP(A13,'3'!A:B,2,0) -> 의약품 | C13: ＫＧ | D13: 37587 | E13: 7.6 | F13: 556 | G13: 0.1 | H13: 53.3 | I13: 0
A14: プラスチック | B14: =VLOOKUP(A14,'3'!A:B,2,0) -> 플라스틱 | C14: トン(톤) | D14: 3775 | E14: -19.3 | F14: 2016 | G14: 0.4 | H14: -17.8 | I14: -0.1
A15: 5 原料別製品 | B15: =VLOOKUP(A15,'3'!A:B,2,0) -> 원료별 제품 | F15: 28790 | G15: 6.2 | H15: -12.2 | I15: -0.9
A16: 鉄鋼 | B16: =VLOOKUP(A16,'3'!A:B,2,0) -> 철강 | C16: 千トン(톤) | D16: 91 | E16: -15.9 | F16: 12174 | G16: 2.6 | H16: -26 | I16: -0.9
A17: 非鉄金属 | B17: =VLOOKUP(A17,'3'!A:B,2,0) -> 비철금속 | C17: トン(톤) | D17: 8 | E17: -92.5 | F17: 66 | G17: 0 | H17: -71.4 | I17: 0
A18: 金属製品 | B18: =VLOOKUP(A18,'3'!A:B,2,0) -> 금속제품 | F18: 2165 | G18: 0.5 | H18: 12.6 | I18: 0.1
A19: 織物用糸・繊維製品 | B19: =VLOOKUP(A19,'3'!A:B,2,0) -> 직물용 실 및 섬유제품 | F19: 5009 | G19: 1.1 | H19: -8.3 | I19: -0.1
A20: 非金属鉱物製品 | B20: =VLOOKUP(A20,'3'!A:B,2,0) -> 비금속 철물제품 | F20: 1590 | G20: 0.3 | H20: 24.8 | I20: 0.1
A21: ゴム製品 | B21: =VLOOKUP(A21,'3'!A:B,2,0) -> 고무제품 | C21: トン(톤) | D21: 11469 | E21: -2.5 | F21: 7533 | G21: 1.6 | H21: 5.1 | I21: 0.1
A22: 紙類・紙製品 | B22: =VLOOKUP(A22,'3'!A:B,2,0) -> 종이류 및 종이제품 | C22: トン(톤) | D22: 587 | E22: -27.9 | F22: 220 | G22: 0 | H22: -21.1 | I22: 0
A23: 6 一般機械 | B23: =VLOOKUP(A23,'3'!A:B,2,0) -> 일반 기계 | F23: 47239 | G23: 10.2 | H23: 10.1 | I23: 0.9
A24: 原動機 | B24: =VLOOKUP(A24,'3'!A:B,2,0) -> 원동기 | C24: トン(톤) | D24: 14034 | E24: -3.4 | F24: 13389 | G24: 2.9 | H24: -13.7 | I24: -0.5
A25: 電算機類（含周辺機器） | B25: =VLOOKUP(A25,'3'!A:B,2,0) -> 전산기류, 주변기기 포함 | C25: 千台(천대) | D25: 35 | E25: -22.1 | F25: 1260 | G25: 0.3 | H25: 251.8 | I25: 0.2
A26: 電算機類の部分品 | B26: =VLOOKUP(A26,'3'!A:B,2,0) -> 전산기류의 부분품 | C26: トン(톤) | D26: 212 | E26: 37.3 | F26: 1690 | G26: 0.4 | H26: 65.6 | I26: 0.1
A27: 半導体等製造装置 | B27: =VLOOKUP(A27,'3'!A:B,2,0) -> 반도체 등 제조 장치 | C27: トン(톤) | D27: 67 | E27: 132.8 | F27: 1414 | G27: 0.3 | H27: 101.1 | I27: 0.2
A28: 金属加工機械 | B28: =VLOOKUP(A28,'3'!A:B,2,0) -> 금속 가공 기계 | F28: 271 | G28: 0.1 | H28: -67 | I28: -0.1
A29: ポンプ・遠心分離機 | B29: =VLOOKUP(A29,'3'!A:B,2,0) -> 펌프 및 원심분리기 | F29: 8721 | G29: 1.9 | H29: -3.2 | I29: -0.1
A30: 建設用・鉱山用機械 | B30: =VLOOKUP(A30,'3'!A:B,2,0) -> 건설용 및 광산용 기계 | F30: 7120 | G30: 1.5 | H30: 81.8 | I30: 0.7
A31: 荷役機械 | B31: =VLOOKUP(A31,'3'!A:B,2,0) -> 하역 기계 | F31: 3630 | G31: 0.8 | H31: 6 | I31: 0
A32: 加熱用・冷却用機器 | B32: =VLOOKUP(A32,'3'!A:B,2,0) -> 가열용 및 냉각용 기기 | F32: 709 | G32: 0.2 | H32: 23.7 | I32: 0
A33: 繊維機械 | B33: =VLOOKUP(A33,'3'!A:B,2,0) -> 섬유 기계 | F33: 94 | G33: 0 | H33: 108.8 | I33: 0
A34: ベアリング | B34: =VLOOKUP(A34,'3'!A:B,2,0) -> 베어링 | C34: トン(톤) | D34: 575 | E34: -7.1 | F34: 1267 | G34: 0.3 | H34: 0.1 | I34: 0
A35: 7 電気機器 | B35: =VLOOKUP(A35,'3'!A:B,2,0) -> 전기 기기 | F35: 14664 | G35: 3.2 | H35: 11.8 | I35: 0.3
A36: 半導体等電子部品 | B36: =VLOOKUP(A36,'3'!A:B,2,0) -> 반도체 등 전자부품 | F36: 220 | G36: 0 | H36: 173.7 | I36: 0
A37: （ＩＣ） | B37: =VLOOKUP(A37,'3'!A:B,2,0) -> IC | C37: 百万個(백만개) | D37: 0 | E37: -59.3 | F37: 12 | G37: 0 | H37: -39.8 | I37: 0
A38: 音響・映像機器 | B38: =VLOOKUP(A38,'3'!A:B,2,0) -> 음향 및 영상 기기 | C38: 千台(천대) | D38: 37 | E38: 17.6 | F38: 1862 | G38: 0.4 | H38: 45.2 | I38: 0.1
A39: （映像記録・再生機器） | B39: =VLOOKUP(A39,'3'!A:B,2,0) -> 영상 기록 및 재생 기기 | C39: 千台(천대) | D39: 22 | E39: 27.8 | F39: 1759 | G39: 0.4 | H39: 47 | I39: 0.1
A40: （テレビ受像機） | B40: =VLOOKUP(A40,'3'!A:B,2,0) -> TV 수상기 | C40: 千台(천대) | D40: 8 | E40: 3.8 | F40: 42 | G40: 0 | H40: -25.7 | I40: 0
...

Sheet 12
A1: 主要地域（国）別商品別輸出(ロシア)
A2: =VLOOKUP(A1,目次!B:C,2,0) -> 주요 지역, 국가별 및 상품별 수출, 러시아
A3: （単位：百万円、％）
A4: 단위: 백만엔, %
C5: 単位 | D5: 数量 | E5: 伸率 | F5: 価額 | G5: 構成比 | H5: 伸率 | I5: 増減寄与度
A6: 品名 | B6: =VLOOKUP(A6,'3'!A:B,2,0) -> 품명 | C6: =HLOOKUP(C5,'4'!5:6,2,0) -> 단위 | D6: =HLOOKUP(D5,'4'!5:6,2,0) -> 수량 | E6: =HLOOKUP(E5,'4'!5:6,2,0) -> 변화율 | F6: =HLOOKUP(F5,'4'!5:6,2,0) -> 가액 | G6: =HLOOKUP(G5,'4'!5:6,2,0) -> 구성비 | H6: =HLOOKUP(H5,'4'!5:6,2,0) -> 변화율 | I6: =HLOOKUP(I5,'4'!5:6,2,0) -> 증감 기여도
A7: 総額 | B7: =VLOOKUP(A7,'3'!A:B,2,0) -> 총액 | F7: 32001 | G7: 100 | H7: 29.4 | I7: 29.4
A8: 1 食料品 | B8: =VLOOKUP(A8,'3'!A:B,2,0) -> 식료품 | F8: 469 | G8: 1.5 | H8: 6.8 | I8: 0.1
A9: 2 原料品 | B9: =VLOOKUP(A9,'3'!A:B,2,0) -> 원료품 | F9: - | G9: - | I9: -
A10: 3 鉱物性燃料 | B10: =VLOOKUP(A10,'3'!A:B,2,0) -> 광물성 원료 | F10: - | G10: - | H10: ZENGEN | I10: -0.4
A11: 4 化学製品 | B11: =VLOOKUP(A11,'3'!A:B,2,0) -> 화학제품 | F11: 1591 | G11: 5 | H11: 8.4 | I11: 0.5
A12: 有機化合物 | B12: =VLOOKUP(A12,'3'!A:B,2,0) -> 유기화합물 | F12: 150 | G12: 0.5 | H12: 570.8 | I12: 0.5
A13: 医薬品 | B13: =VLOOKUP(A13,'3'!A:B,2,0) -> 의약품 | C13: ＫＧ | D13: 11408 | E13: -28.4 | F13: 556 | G13: 1.7 | H13: 9.8 | I13: 0.2
A14: プラスチック | B14: =VLOOKUP(A14,'3'!A:B,2,0) -> 플라스틱 | C14: トン(톤) | D14: 884 | E14: -43 | F14: 169 | G14: 0.5 | H14: -43.9 | I14: -0.5
A15: 5 原料別製品 | B15: =VLOOKUP(A15,'3'!A:B,2,0) -> 원료별 제품 | F15: 644 | G15: 2 | H15: -33.9 | I15: -1.3
A16: 鉄鋼 | B16: =VLOOKUP(A16,'3'!A:B,2,0) -> 철강 | C16: 千トン(톤) | D16: - | F16: - | G16: - | I16: -
A17: 非鉄金属 | B17: =VLOOKUP(A17,'3'!A:B,2,0) -> 비철금속 | C17: トン(톤) | D17: - | F17: - | G17: - | I17: -
A18: 金属製品 | B18: =VLOOKUP(A18,'3'!A:B,2,0) -> 금속제품 | F18: 261 | G18: 0.8 | H18: -41.7 | I18: -0.8
A19: 織物用糸・繊維製品 | B19: =VLOOKUP(A19,'3'!A:B,2,0) -> 직물용 실 및 섬유제품 | F19: 111 | G19: 0.3 | H19: -60.6 | I19: -0.7
A20: 非金属鉱物製品 | B20: =VLOOKUP(A20,'3'!A:B,2,0) -> 비금속 철물제품 | F20: 7 | G20: 0 | H20: -83.5 | I20: -0.1
A21: ゴム製品 | B21: =VLOOKUP(A21,'3'!A:B,2,0) -> 고무제품 | C21: トン(톤) | D21: 220 | E21: -22.8 | F21: 253 | G21: 0.8 | H21: 28.6 | I21: 0.2
A22: 紙類・紙製品 | B22: =VLOOKUP(A22,'3'!A:B,2,0) -> 종이류 및 종이제품 | C22: トン(톤) | D22: 34 | E22: 325 | F22: 12 | G22: 0 | H22: 359.4 | I22: 0
A23: 6 一般機械 | B23: =VLOOKUP(A23,'3'!A:B,2,0) -> 일반 기계 | F23: 755 | G23: 2.4 | H23: 18.3 | I23: 0.5
A24: 原動機 | B24: =VLOOKUP(A24,'3'!A:B,2,0) -> 원동기 | C24: トン(톤) | D24: 460 | E24: -43.9 | F24: 276 | G24: 0.9 | H24: -37.8 | I24: -0.7
A25: 電算機類（含周辺機器） | B25: =VLOOKUP(A25,'3'!A:B,2,0) -> 전산기류, 주변기기 포함 | C25: 千台(천대) | D25: 0 | E25: -20 | F25: 5 | G25: 0 | H25: -49 | I25: 0
A26: 電算機類の部分品 | B26: =VLOOKUP(A26,'3'!A:B,2,0) -> 전산기류의 부분품 | C26: トン(톤) | D26: 0 | E26: ZENZO | F26: 2 | G26: 0 | H26: ZENZO | I26: 0
A27: 半導体等製造装置 | B27: =VLOOKUP(A27,'3'!A:B,2,0) -> 반도체 등 제조 장치 | C27: トン(톤) | D27: - | F27: - | G27: - | I27: -
A28: 金属加工機械 | B28: =VLOOKUP(A28,'3'!A:B,2,0) -> 금속 가공 기계 | F28: - | G28: - | I28: -
A29: ポンプ・遠心分離機 | B29: =VLOOKUP(A29,'3'!A:B,2,0) -> 펌프 및 원심분리기 | F29: 28 | G29: 0.1 | H29: -45.1 | I29: -0.1
A30: 建設用・鉱山用機械 | B30: =VLOOKUP(A30,'3'!A:B,2,0) -> 건설용 및 광산용 기계 | F30: - | G30: - | I30: -
A31: 荷役機械 | B31: =VLOOKUP(A31,'3'!A:B,2,0) -> 하역 기계 | F31: - | G31: - | I31: -
A32: 加熱用・冷却用機器 | B32: =VLOOKUP(A32,'3'!A:B,2,0) -> 가열용 및 냉각용 기기 | F32: 25 | G32: 0.1 | H32: ZENZO | I32: 0.1
A33: 繊維機械 | B33: =VLOOKUP(A33,'3'!A:B,2,0) -> 섬유 기계 | F33: 4 | G33: 0 | H33: -42.2 | I33: 0
A34: ベアリング | B34: =VLOOKUP(A34,'3'!A:B,2,0) -> 베어링 | C34: トン(톤) | D34: - | F34: - | G34: - | I34: -
A35: 7 電気機器 | B35: =VLOOKUP(A35,'3'!A:B,2,0) -> 전기 기기 | F35: 815 | G35: 2.5 | H35: 45.2 | I35: 1
A36: 半導体等電子部品 | B36: =VLOOKUP(A36,'3'!A:B,2,0) -> 반도체 등 전자부품 | F36: - | G36: - | I36: -
A37: （ＩＣ） | B37: =VLOOKUP(A37,'3'!A:B,2,0) -> IC | C37: 百万個(백만개) | D37: - | F37: - | G37: - | I37: -
A38: 音響・映像機器 | B38: =VLOOKUP(A38,'3'!A:B,2,0) -> 음향 및 영상 기기 | C38: 千台(천대) | D38: - | E38: ZENGEN | F38: - | G38: - | H38: ZENGEN | I38: -0.2
A39: （映像記録・再生機器） | B39: =VLOOKUP(A39,'3'!A:B,2,0) -> 영상 기록 및 재생 기기 | C39: 千台(천대) | D39: - | F39: - | G39: - | I39: -
A40: （テレビ受像機） | B40: =VLOOKUP(A40,'3'!A:B,2,0) -> TV 수상기 | C40: 千台(천대) | D40: - | E40: ZENGEN | F40: - | G40: - | H40: ZENGEN | I40: 0
...

Sheet 13
A1: 主要地域（国）別商品別輸入(アメリカ合衆国)
A2: =VLOOKUP(A1,目次!B:C,2,0) -> 주요 지역, 국가별 및 상품별 수입, 미국
A3: （単位：百万円、％）
A4: 단위: 백만엔, %
C5: 単位 | D5: 数量 | E5: 伸率 | F5: 価額 | G5: 構成比 | H5: 伸率 | I5: 増減寄与度
A6: 品名 | B6: =VLOOKUP(A6,'4'!A:B,2,0) -> 품명 | C6: =HLOOKUP(C5,'5'!5:6,2,0) -> 단위 | D6: =HLOOKUP(D5,'5'!5:6,2,0) -> 수량 | E6: =HLOOKUP(E5,'5'!5:6,2,0) -> 변화율 | F6: =HLOOKUP(F5,'5'!5:6,2,0) -> 가액 | G6: =HLOOKUP(G5,'5'!5:6,2,0) -> 구성비 | H6: =HLOOKUP(H5,'5'!5:6,2,0) -> 변화율 | I6: =HLOOKUP(I5,'5'!5:6,2,0) -> 증감 기여도
A7: 総額 | B7: =VLOOKUP(A7,'4'!A:B,2,0) -> 총액 | F7: 1077135 | G7: 100 | H7: 7.1 | I7: 7.1
A8: 1 食料品 | B8: =VLOOKUP(A8,'4'!A:B,2,0) -> 식료품 | F8: 153565 | G8: 14.3 | H8: 26.4 | I8: 3.2
A9: 魚介類 | B9: =VLOOKUP(A9,'4'!A:B,2,0) -> 어개류 | C9: トン(톤) | D9: 19128 | E9: -11.1 | F9: 21638 | G9: 2 | H9: 29.8 | I9: 0.5
A10: 肉類 | B10: =VLOOKUP(A10,'4'!A:B,2,0) -> 육류 | C10: トン(톤) | D10: 39928 | E10: -3.6 | F10: 33445 | G10: 3.1 | H10: -5.8 | I10: -0.2
A11: 穀物類 | B11: =VLOOKUP(A11,'4'!A:B,2,0) -> 곡물류 | C11: トン(톤) | D11: 1350651 | E11: 77.3 | F11: 54100 | G11: 5 | H11: 59.5 | I11: 2
A12: 野菜 | B12: =VLOOKUP(A12,'4'!A:B,2,0) -> 채소 | C12: トン(톤) | D12: 31350 | E12: 30.2 | F12: 8784 | G12: 0.8 | H12: 13.5 | I12: 0.1
A13: 果実 | B13: =VLOOKUP(A13,'4'!A:B,2,0) -> 과실 | C13: トン(톤) | D13: 11085 | E13: 20.4 | F13: 8633 | G13: 0.8 | H13: 27.9 | I13: 0.2
A14: 2 原料品 | B14: =VLOOKUP(A14,'4'!A:B,2,0) -> 원료품 | F14: 64829 | G14: 6 | H14: 0.6 | I14: 0
A15: 木材 | B15: =VLOOKUP(A15,'4'!A:B,2,0) -> 목재 | F15: 3762 | G15: 0.3 | H15: -30.1 | I15: -0.2
A16: 非鉄金属鉱 | B16: =VLOOKUP(A16,'4'!A:B,2,0) -> 비철금속광 | C16: 千トン(천톤) | D16: 33 | E16: -56.3 | F16: 14109 | G16: 1.3 | H16: -45.7 | I16: -1.2
A17: 鉄鉱石 | B17: =VLOOKUP(A17,'4'!A:B,2,0) -> 철광석 | C17: 千トン(천톤) | D17: - | F17: - | G17: - | I17: -
A18: 大豆 | B18: =VLOOKUP(A18,'4'!A:B,2,0) -> 대두 | C18: トン(톤) | D18: 215794 | E18: 57.8 | F18: 16652 | G18: 1.5 | H18: 55.6 | I18: 0.6
A19: 3 鉱物性燃料 | B19: =VLOOKUP(A19,'4'!A:B,2,0) -> 광물성 원료 | F19: 162925 | G19: 15.1 | H19: 7.6 | I19: 1.1
A20: 原油及び粗油 | B20: =VLOOKUP(A20,'4'!A:B,2,0) -> 원유 및 조유 | C20: 千ＫＬ | D20: 723 | E20: 323.4 | F20: 51461 | G20: 4.8 | H20: 281.9 | I20: 3.8
A21: 石油製品 | B21: =VLOOKUP(A21,'4'!A:B,2,0) -> 석유제품 | F21: 12918 | G21: 1.2 | H21: -20.6 | I21: -0.3
A22: （揮発油） | B22: =VLOOKUP(A22,'4'!A:B,2,0) -> 휘발유 | C22: 千ＫＬ | D22: 96 | E22: -30.2 | F22: 6140 | G22: 0.6 | H22: -44.7 | I22: -0.5
A23: 液化天然ガス | B23: =VLOOKUP(A23,'4'!A:B,2,0) -> 액화 천연 가스 | C23: 千トン(천톤) | D23: 385 | E23: -26.5 | F23: 32767 | G23: 3 | H23: -26.9 | I23: -1.2
A24: 液化石油ガス | B24: =VLOOKUP(A24,'4'!A:B,2,0) -> 액화 석유 가스 | C24: 千トン(천톤) | D24: 710 | E24: 41.8 | F24: 53180 | G24: 4.9 | H24: 14 | I24: 0.6
A25: 石炭 | B25: =VLOOKUP(A25,'4'!A:B,2,0) -> 석탄 | C25: 千トン(천톤) | D25: 502 | E25: -56.1 | F25: 12595 | G25: 1.2 | H25: -58.2 | I25: -1.7
A26: （一般炭） | B26: =VLOOKUP(A26,'4'!A:B,2,0) -> 일반탄 | C26: 千トン(천톤) | D26: 80 | E26: -86.3 | F26: 1203 | G26: 0.1 | H26: -90.4 | I26: -1.1
A27: 4 化学製品 | B27: =VLOOKUP(A27,'4'!A:B,2,0) -> 화학제품 | F27: 202368 | G27: 18.8 | H27: -6.5 | I27: -1.4
A28: 有機化合物 | B28: =VLOOKUP(A28,'4'!A:B,2,0) -> 유기화합물 | F28: 33407 | G28: 3.1 | H28: 5.9 | I28: 0.2
A29: 医薬品 | B29: =VLOOKUP(A29,'4'!A:B,2,0) -> 의약품 | C29: ＫＧ | D29: 933873 | E29: 8 | F29: 116536 | G29: 10.8 | H29: -12 | I29: -1.6
A30: 5 原料別製品 | B30: =VLOOKUP(A30,'4'!A:B,2,0) -> 원료별 제품 | F30: 42038 | G30: 3.9 | H30: 8.4 | I30: 0.3
A31: 鉄鋼 | B31: =VLOOKUP(A31,'4'!A:B,2,0) -> 철강 | C31: トン(톤) | D31: 277 | E31: -93.5 | F31: 1676 | G31: 0.2 | H31: -39.6 | I31: -0.1
A32: 非鉄金属 | B32: =VLOOKUP(A32,'4'!A:B,2,0) -> 비철금속 | C32: トン(톤) | D32: 1209 | E32: -36.6 | F32: 13137 | G32: 1.2 | H32: 41.2 | I32: 0.4
A33: 金属製品 | B33: =VLOOKUP(A33,'4'!A:B,2,0) -> 금속제품 | F33: 9407 | G33: 0.9 | H33: -0.5 | I33: 0
A34: 織物用糸・繊維製品 | B34: =VLOOKUP(A34,'4'!A:B,2,0) -> 직물용 실 및 섬유제품 | F34: 2550 | G34: 0.2 | H34: 12.4 | I34: 0
A35: 非金属鉱物製品 | B35: =VLOOKUP(A35,'4'!A:B,2,0) -> 비금속 철물제품 | F35: 8742 | G35: 0.8 | H35: 48.4 | I35: 0.3
A36: 木製品等（除家具） | B36: =VLOOKUP(A36,'4'!A:B,2,0) -> 목제품 등; 가구 제외 | F36: 2396 | G36: 0.2 | H36: -41.9 | I36: -0.2
A37: 6 一般機械 | B37: =VLOOKUP(A37,'4'!A:B,2,0) -> 일반 기계 | F37: 194110 | G37: 18 | H37: 12.4 | I37: 2.1
A38: 原動機 | B38: =VLOOKUP(A38,'4'!A:B,2,0) -> 원동기 | C38: トン(톤) | D38: 1647 | E38: 19.3 | F38: 98157 | G38: 9.1 | H38: 11.2 | I38: 1
A39: 電算機類（含周辺機器） | B39: =VLOOKUP(A39,'4'!A:B,2,0) -> 전산기류, 주변기기 포함 | C39: 千台(천대) | D39: 10 | E39: -28.3 | F39: 35074 | G39: 3.3 | H39: 22.5 | I39: 0.6
A40: 電算機類の部分品 | B40: =VLOOKUP(A40,'4'!A:B,2,0) -> 전산기류의 부분품 | C40: トン(톤) | D40: 9 | E40: -28.5 | F40: 871 | G40: 0.1 | H40: -6.2 | I40: 0
...

Sheet 14
A1: 主要地域（国）別商品別輸入(ＥＵ)
A2: =VLOOKUP(A1,目次!B:C,2,0) -> 주요 지역, 국가별 및 상품별 수입, 유럽연합
A3: （単位：百万円、％）
A4: 단위: 백만엔, %
C5: 単位 | D5: 数量 | E5: 伸率 | F5: 価額 | G5: 構成比 | H5: 伸率 | I5: 増減寄与度
A6: 品名 | B6: =VLOOKUP(A6,'4'!A:B,2,0) -> 품명 | C6: =HLOOKUP(C5,'5'!5:6,2,0) -> 단위 | D6: =HLOOKUP(D5,'5'!5:6,2,0) -> 수량 | E6: =HLOOKUP(E5,'5'!5:6,2,0) -> 변화율 | F6: =HLOOKUP(F5,'5'!5:6,2,0) -> 가액 | G6: =HLOOKUP(G5,'5'!5:6,2,0) -> 구성비 | H6: =HLOOKUP(H5,'5'!5:6,2,0) -> 변화율 | I6: =HLOOKUP(I5,'5'!5:6,2,0) -> 증감 기여도
A7: 総額 | B7: =VLOOKUP(A7,'4'!A:B,2,0) -> 총액 | F7: 1031882 | G7: 100 | H7: 6.8 | I7: 6.8
A8: 1 食料品 | B8: =VLOOKUP(A8,'4'!A:B,2,0) -> 식료품 | F8: 107644 | G8: 10.4 | H8: -8.5 | I8: -1
A9: 魚介類 | B9: =VLOOKUP(A9,'4'!A:B,2,0) -> 어개류 | C9: トン(톤) | D9: 1124 | E9: -61.1 | F9: 2245 | G9: 0.2 | H9: -53.6 | I9: -0.3
A10: 肉類 | B10: =VLOOKUP(A10,'4'!A:B,2,0) -> 육류 | C10: トン(톤) | D10: 15893 | E10: -31.3 | F10: 12596 | G10: 1.2 | H10: -33.6 | I10: -0.7
A11: 穀物類 | B11: =VLOOKUP(A11,'4'!A:B,2,0) -> 곡물류 | C11: トン(톤) | D11: 22509 | E11: 46 | F11: 6702 | G11: 0.6 | H11: 35.9 | I11: 0.2
A12: 野菜 | B12: =VLOOKUP(A12,'4'!A:B,2,0) -> 채소 | C12: トン(톤) | D12: 17873 | E12: -8.8 | F12: 5784 | G12: 0.6 | H12: -7.3 | I12: 0
A13: 果実 | B13: =VLOOKUP(A13,'4'!A:B,2,0) -> 과실 | C13: トン(톤) | D13: 3676 | E13: 0.8 | F13: 2621 | G13: 0.3 | H13: 16.9 | I13: 0
A14: 2 原料品 | B14: =VLOOKUP(A14,'4'!A:B,2,0) -> 원료품 | F14: 25737 | G14: 2.5 | H14: 6.7 | I14: 0.2
A15: 木材 | B15: =VLOOKUP(A15,'4'!A:B,2,0) -> 목재 | F15: 8222 | G15: 0.8 | H15: 1.6 | I15: 0
A16: 非鉄金属鉱 | B16: =VLOOKUP(A16,'4'!A:B,2,0) -> 비철금속광 | C16: 千トン(천톤) | D16: 0 | E16: -42.1 | F16: 274 | G16: 0 | H16: -79.6 | I16: -0.1
A17: 鉄鉱石 | B17: =VLOOKUP(A17,'4'!A:B,2,0) -> 철광석 | C17: 千トン(천톤) | D17: - | F17: - | G17: - | I17: -
A18: 大豆 | B18: =VLOOKUP(A18,'4'!A:B,2,0) -> 대두 | C18: トン(톤) | D18: - | F18: - | G18: - | I18: -
A19: 3 鉱物性燃料 | B19: =VLOOKUP(A19,'4'!A:B,2,0) -> 광물성 원료 | F19: 7878 | G19: 0.8 | H19: 698.2 | I19: 0.7
A20: 原油及び粗油 | B20: =VLOOKUP(A20,'4'!A:B,2,0) -> 원유 및 조유 | C20: 千ＫＬ | D20: - | F20: - | G20: - | I20: -
A21: 石油製品 | B21: =VLOOKUP(A21,'4'!A:B,2,0) -> 석유제품 | F21: 7704 | G21: 0.7 | H21: 895.5 | I21: 0.7
A22: （揮発油） | B22: =VLOOKUP(A22,'4'!A:B,2,0) -> 휘발유 | C22: 千ＫＬ | D22: 104 | E22: *2354 | F22: 6783 | G22: 0.7 | H22: *231 | I22: 0.7
A23: 液化天然ガス | B23: =VLOOKUP(A23,'4'!A:B,2,0) -> 액화 천연 가스 | C23: 千トン(천톤) | D23: - | F23: - | G23: - | I23: -
A24: 液化石油ガス | B24: =VLOOKUP(A24,'4'!A:B,2,0) -> 액화 석유 가스 | C24: 千トン(천톤) | D24: 0 | F24: 5 | G24: 0 | H24: 1960.6 | I24: 0
A25: 石炭 | B25: =VLOOKUP(A25,'4'!A:B,2,0) -> 석탄 | C25: 千トン(천톤) | D25: - | F25: - | G25: - | I25: -
A26: （一般炭） | B26: =VLOOKUP(A26,'4'!A:B,2,0) -> 일반탄 | C26: 千トン(천톤) | D26: - | F26: - | G26: - | I26: -
A27: 4 化学製品 | B27: =VLOOKUP(A27,'4'!A:B,2,0) -> 화학제품 | F27: 291820 | G27: 28.3 | H27: 4.5 | I27: 1.3
A28: 有機化合物 | B28: =VLOOKUP(A28,'4'!A:B,2,0) -> 유기화합물 | F28: 28186 | G28: 2.7 | H28: -44.4 | I28: -2.3
A29: 医薬品 | B29: =VLOOKUP(A29,'4'!A:B,2,0) -> 의약품 | C29: ＫＧ | D29: 1583564 | E29: 36.8 | F29: 203881 | G29: 19.8 | H29: 13.8 | I29: 2.6
A30: 5 原料別製品 | B30: =VLOOKUP(A30,'4'!A:B,2,0) -> 원료별 제품 | F30: 53480 | G30: 5.2 | H30: 18.7 | I30: 0.9
A31: 鉄鋼 | B31: =VLOOKUP(A31,'4'!A:B,2,0) -> 철강 | C31: トン(톤) | D31: 7889 | E31: 23.8 | F31: 3374 | G31: 0.3 | H31: 27.9 | I31: 0.1
A32: 非鉄金属 | B32: =VLOOKUP(A32,'4'!A:B,2,0) -> 비철금속 | C32: トン(톤) | D32: 1954 | E32: -32 | F32: 16024 | G32: 1.6 | H32: 38.3 | I32: 0.5
A33: 金属製品 | B33: =VLOOKUP(A33,'4'!A:B,2,0) -> 금속제품 | F33: 10898 | G33: 1.1 | H33: 22 | I33: 0.2
A34: 織物用糸・繊維製品 | B34: =VLOOKUP(A34,'4'!A:B,2,0) -> 직물용 실 및 섬유제품 | F34: 4497 | G34: 0.4 | H34: 3.3 | I34: 0
A35: 非金属鉱物製品 | B35: =VLOOKUP(A35,'4'!A:B,2,0) -> 비금속 철물제품 | F35: 5928 | G35: 0.6 | H35: 3.8 | I35: 0
A36: 木製品等（除家具） | B36: =VLOOKUP(A36,'4'!A:B,2,0) -> 목제품 등; 가구 제외 | F36: 4675 | G36: 0.5 | H36: -6.9 | I36: 0
A37: 6 一般機械 | B37: =VLOOKUP(A37,'4'!A:B,2,0) -> 일반 기계 | F37: 142066 | G37: 13.8 | H37: 16.6 | I37: 2.1
A38: 原動機 | B38: =VLOOKUP(A38,'4'!A:B,2,0) -> 원동기 | C38: トン(톤) | D38: 3864 | E38: 43 | F38: 73224 | G38: 7.1 | H38: 290.1 | I38: 5.6
A39: 電算機類（含周辺機器） | B39: =VLOOKUP(A39,'4'!A:B,2,0) -> 전산기류, 주변기기 포함 | C39: 千台(천대) | D39: 18 | E39: -29.6 | F39: 6433 | G39: 0.6 | H39: -79.7 | I39: -2.6
A40: 電算機類の部分品 | B40: =VLOOKUP(A40,'4'!A:B,2,0) -> 전산기류의 부분품 | C40: トン(톤) | D40: 26 | E40: -25 | F40: 681 | G40: 0.1 | H40: -22.7 | I40: 0
...

Sheet 15
A1: 主要地域（国）別商品別輸入(アジア)
A2: =VLOOKUP(A1,目次!B:C,2,0) -> 주요 지역, 국가별 및 상품별 수입, 아시아
A3: （単位：百万円、％）
A4: 단위: 백만엔, %
C5: 単位 | D5: 数量 | E5: 伸率 | F5: 価額 | G5: 構成比 | H5: 伸率 | I5: 増減寄与度
A6: 品名 | B6: =VLOOKUP(A6,'4'!A:B,2,0) -> 품명 | C6: =HLOOKUP(C5,'5'!5:6,2,0) -> 단위 | D6: =HLOOKUP(D5,'5'!5:6,2,0) -> 수량 | E6: =HLOOKUP(E5,'5'!5:6,2,0) -> 변화율 | F6: =HLOOKUP(F5,'5'!5:6,2,0) -> 가액 | G6: =HLOOKUP(G5,'5'!5:6,2,0) -> 구성비 | H6: =HLOOKUP(H5,'5'!5:6,2,0) -> 변화율 | I6: =HLOOKUP(I5,'5'!5:6,2,0) -> 증감 기여도
A7: 総額 | B7: =VLOOKUP(A7,'4'!A:B,2,0) -> 총액 | F7: 4798332 | G7: 100 | H7: 3.2 | I7: 3.2
A8: 1 食料品 | B8: =VLOOKUP(A8,'4'!A:B,2,0) -> 식료품 | F8: 289500 | G8: 6 | H8: -4.4 | I8: -0.3
A9: 魚介類 | B9: =VLOOKUP(A9,'4'!A:B,2,0) -> 어개류 | C9: トン(톤) | D9: 79066 | E9: -7.4 | F9: 79275 | G9: 1.7 | H9: -2.2 | I9: 0
A10: 肉類 | B10: =VLOOKUP(A10,'4'!A:B,2,0) -> 육류 | C10: トン(톤) | D10: 66159 | E10: 1.2 | F10: 41761 | G10: 0.9 | H10: -0.5 | I10: 0
A11: 穀物類 | B11: =VLOOKUP(A11,'4'!A:B,2,0) -> 곡물류 | C11: トン(톤) | D11: 52518 | E11: -11.1 | F11: 12797 | G11: 0.3 | H11: 4.1 | I11: 0
A12: 野菜 | B12: =VLOOKUP(A12,'4'!A:B,2,0) -> 채소 | C12: トン(톤) | D12: 162902 | E12: -0.2 | F12: 43271 | G12: 0.9 | H12: -3.2 | I12: 0
A13: 果実 | B13: =VLOOKUP(A13,'4'!A:B,2,0) -> 과실 | C13: トン(톤) | D13: 118998 | E13: 0.4 | F13: 25984 | G13: 0.5 | H13: -5.3 | I13: 0
A14: 2 原料品 | B14: =VLOOKUP(A14,'4'!A:B,2,0) -> 원료품 | F14: 175462 | G14: 3.7 | H14: 1.8 | I14: 0.1
A15: 木材 | B15: =VLOOKUP(A15,'4'!A:B,2,0) -> 목재 | F15: 2791 | G15: 0.1 | H15: -11.6 | I15: 0
A16: 非鉄金属鉱 | B16: =VLOOKUP(A16,'4'!A:B,2,0) -> 비철금속광 | C16: 千トン(천톤) | D16: 38 | E16: -35.6 | F16: 38560 | G16: 0.8 | H16: 2.1 | I16: 0
A17: 鉄鉱石 | B17: =VLOOKUP(A17,'4'!A:B,2,0) -> 철광석 | C17: 千トン(천톤) | D17: - | F17: - | G17: - | I17: -
A18: 大豆 | B18: =VLOOKUP(A18,'4'!A:B,2,0) -> 대두 | C18: トン(톤) | D18: 517 | E18: -39 | F18: 77 | G18: 0 | H18: -48.2 | I18: 0
A19: 3 鉱物性燃料 | B19: =VLOOKUP(A19,'4'!A:B,2,0) -> 광물성 원료 | F19: 195721 | G19: 4.1 | H19: -26 | I19: -1.5
A20: 原油及び粗油 | B20: =VLOOKUP(A20,'4'!A:B,2,0) -> 원유 및 조유 | C20: 千ＫＬ | D20: - | F20: - | G20: - | I20: -
A21: 石油製品 | B21: =VLOOKUP(A21,'4'!A:B,2,0) -> 석유제품 | F21: 72648 | G21: 1.5 | H21: -31.3 | I21: -0.7
A22: （揮発油） | B22: =VLOOKUP(A22,'4'!A:B,2,0) -> 휘발유 | C22: 千ＫＬ | D22: 511 | E22: -22.2 | F22: 38415 | G22: 0.8 | H22: -23.9 | I22: -0.3
A23: 液化天然ガス | B23: =VLOOKUP(A23,'4'!A:B,2,0) -> 액화 천연 가스 | C23: 千トン(천톤) | D23: 1007 | E23: -19.6 | F23: 82789 | G23: 1.7 | H23: -27.2 | I23: -0.7
A24: 液化石油ガス | B24: =VLOOKUP(A24,'4'!A:B,2,0) -> 액화 석유 가스 | C24: 千トン(천톤) | D24: 3 | E24: -16.6 | F24: 955 | G24: 0 | H24: -17.4 | I24: 0
A25: 石炭 | B25: =VLOOKUP(A25,'4'!A:B,2,0) -> 석탄 | C25: 千トン(천톤) | D25: 2111 | E25: 21.2 | F25: 35984 | G25: 0.7 | H25: -11.3 | I25: -0.1
A26: （一般炭） | B26: =VLOOKUP(A26,'4'!A:B,2,0) -> 일반탄 | C26: 千トン(천톤) | D26: 1186 | E26: 54 | F26: 18212 | G26: 0.4 | H26: 10.9 | I26: 0
A27: 4 化学製品 | B27: =VLOOKUP(A27,'4'!A:B,2,0) -> 화학제품 | F27: 375657 | G27: 7.8 | H27: 2.7 | I27: 0.2
A28: 有機化合物 | B28: =VLOOKUP(A28,'4'!A:B,2,0) -> 유기화합물 | F28: 88231 | G28: 1.8 | H28: -6.5 | I28: -0.1
A29: 医薬品 | B29: =VLOOKUP(A29,'4'!A:B,2,0) -> 의약품 | C29: ＫＧ | D29: 5823477 | E29: 9.3 | F29: 44548 | G29: 0.9 | H29: 44.3 | I29: 0.3
A30: 5 原料別製品 | B30: =VLOOKUP(A30,'4'!A:B,2,0) -> 원료별 제품 | F30: 517800 | G30: 10.8 | H30: -0.9 | I30: -0.1
